BEGIN:VCALENDAR
VERSION:2.0
PRODID:-//Portfolife - ECPv6.15.14//NONSGML v1.0//EN
CALSCALE:GREGORIAN
METHOD:PUBLISH
X-WR-CALNAME:Portfolife
X-ORIGINAL-URL:https://portfolife.hu
X-WR-CALDESC:Események Portfolife
REFRESH-INTERVAL;VALUE=DURATION:PT1H
X-Robots-Tag:noindex
X-PUBLISHED-TTL:PT1H
BEGIN:VTIMEZONE
TZID:Europe/Paris
BEGIN:DAYLIGHT
TZOFFSETFROM:+0100
TZOFFSETTO:+0200
TZNAME:CEST
DTSTART:20230326T010000
END:DAYLIGHT
BEGIN:STANDARD
TZOFFSETFROM:+0200
TZOFFSETTO:+0100
TZNAME:CET
DTSTART:20231029T010000
END:STANDARD
BEGIN:DAYLIGHT
TZOFFSETFROM:+0100
TZOFFSETTO:+0200
TZNAME:CEST
DTSTART:20240331T010000
END:DAYLIGHT
BEGIN:STANDARD
TZOFFSETFROM:+0200
TZOFFSETTO:+0100
TZNAME:CET
DTSTART:20241027T010000
END:STANDARD
BEGIN:DAYLIGHT
TZOFFSETFROM:+0100
TZOFFSETTO:+0200
TZNAME:CEST
DTSTART:20250330T010000
END:DAYLIGHT
BEGIN:STANDARD
TZOFFSETFROM:+0200
TZOFFSETTO:+0100
TZNAME:CET
DTSTART:20251026T010000
END:STANDARD
BEGIN:DAYLIGHT
TZOFFSETFROM:+0100
TZOFFSETTO:+0200
TZNAME:CEST
DTSTART:20260329T010000
END:DAYLIGHT
BEGIN:STANDARD
TZOFFSETFROM:+0200
TZOFFSETTO:+0100
TZNAME:CET
DTSTART:20261025T010000
END:STANDARD
END:VTIMEZONE
BEGIN:VEVENT
DTSTART;TZID=Europe/Paris:20250311T090000
DTEND;TZID=Europe/Paris:20250311T100000
DTSTAMP:20260423T215908
CREATED:20250107T090925Z
LAST-MODIFIED:20250303T132813Z
UID:44524-1741683600-1741687200@portfolife.hu
SUMMARY:Szakmai hétindító - Március 11.
DESCRIPTION:Nagy Gábor is inviting you to a scheduled Zoom meeting. \nTopic: Szakmai hétindító\nTime: Mar 11\, 2025 09:00 Budapest\nJoin Zoom Meeting\nhttps://us02web.zoom.us/j/82915365401?pwd=cEr9a7RgVsavZdBg6kbNNiGJblgNsZ.1 \nMeeting ID: 829 1536 5401\nPasscode: 142504
URL:https://portfolife.hu/esemeny/szakmai-hetindito-marcius-11/
LOCATION:ONLINE\, Magyarország
CATEGORIES:Szakmai hétindítók
ATTACH;FMTTYPE=image/png:https://portfolife.hu/wp-content/uploads/2023/02/szakmaihetindito.png
ORGANIZER;CN="Nagy G%C3%A1bor - Portfolife Zrt":MAILTO:nagy.gabor@portfolife.hu
END:VEVENT
BEGIN:VEVENT
DTSTART;TZID=Europe/Paris:20250227T080000
DTEND;TZID=Europe/Paris:20250227T140000
DTSTAMP:20260423T215908
CREATED:20250107T085717Z
LAST-MODIFIED:20250224T154650Z
UID:44521-1740643200-1740664800@portfolife.hu
SUMMARY:Havi oktatás - Február 27.
DESCRIPTION:Kedves kolléga! \nSzeretettel meghívunk a Portfolife Zrt. február havi oktatására. Zseniális különlegességgel készülünk a számotokra a következő oktatási napon. Magyarország meghatározó és legnagyobb külföldi kamat-és hozam bevételek könyvelésre specializálódott ügynökségének tulajdonosa és a vezető kollégája érkezik hozzánk csütörtökön. Ennek aktualitása\, hogy közeleg az az időszak ami adózáshoz\, adóbevalláshoz kapcsolódik. Nagyon sok kérdést kaptam az elmúlt időszakban arra vonatkozóan hogy melyek az állampapírhoz kapcsolódó értékesítési praktikák\, erről is fogunk még sokat beszélni\, illetve természetesen az aktuális gazdasági információkról\, a Portfolife-ot és a Partner Bankot érintő aktualitásokról is. \n  \nVendég: RSM Hungary Zrt. \nTéma: Nemzetközi adótanácsadás és magyar magánszemélyes adózása külföldi kamat- és hozamjövedelmek után \n\n08:30 – Szakmai összefoglaló\n09:45 – Szünet\n10:00 – RSM Hungary Zrt. előadása\n11:00 – Szünet\n11:20 – Értékesítés és sales technikák a jelen piaci folyamatokhoz\n12:00 – Szünet\n12:10 – 13:00 Portfolife és Partner Bank aktualitások\n\nAz RSM előadása során lehetőség nyílik a kérdések feltevésére is. \nOnline is csatlakozhatsz! \nFebruártól már online is csatlakozhatsz havi oktatásunkhoz az alábbi linken:\nhttps://us02web.zoom.us/j/82508964481?pwd=xuWvjLkt0lb5ivfCEgyHAhcaa4fY08.1 \nMeeting ID: 825 0896 4481\nPasscode: 537297 \nMegközelítés: \nA  legegyszerűbb az M0-áson és Budakalász felé. Ha a városból jössz kifelé akkor a Szentendrei úton. \nA BSS Benzinkút előtt kell behajtani a szerviz útra\, majd a bal oldalon található 2. épület Lollipop nyomdánál található BNI irodát keresd. \nParkolási lehetőség a sorompón belül és kívül is díjmentes! 
URL:https://portfolife.hu/esemeny/havi-oktatas-februar-27/
LOCATION:2011 Budakalász József Attila utca 75\, József Attila u. 75.\, Budakalász\, Pest\, 2011\, Magyarország
CATEGORIES:Havi oktatások
ATTACH;FMTTYPE=image/png:https://portfolife.hu/wp-content/uploads/2023/02/havioktatas.png
ORGANIZER;CN="Nagy G%C3%A1bor - Portfolife Zrt":MAILTO:nagy.gabor@portfolife.hu
END:VEVENT
BEGIN:VEVENT
DTSTART;TZID=Europe/Paris:20250225T090000
DTEND;TZID=Europe/Paris:20250225T100000
DTSTAMP:20260423T215908
CREATED:20250107T085203Z
LAST-MODIFIED:20250107T085203Z
UID:44518-1740474000-1740477600@portfolife.hu
SUMMARY:Szakmai hétindító - Február 25.
DESCRIPTION:Nagy Gábor is inviting you to a scheduled Zoom meeting. \nTopic: Szakmai hétindító\nTime: Feb 25\, 2025 09:00 Budapest \nJoin Zoom Meeting\nhttps://us02web.zoom.us/j/83639700570?pwd=zQti3nZ99RpZcbWl09sjdSpPutixO9.1 \nMeeting ID: 836 3970 0570\nPasscode: 355097
URL:https://portfolife.hu/esemeny/szakmai-hetindito-februar-25/
LOCATION:ONLINE\, Magyarország
CATEGORIES:Szakmai hétindítók
ATTACH;FMTTYPE=image/png:https://portfolife.hu/wp-content/uploads/2023/02/szakmaihetindito.png
ORGANIZER;CN="Nagy G%C3%A1bor - Portfolife Zrt":MAILTO:nagy.gabor@portfolife.hu
END:VEVENT
BEGIN:VEVENT
DTSTART;TZID=Europe/Paris:20250219T090000
DTEND;TZID=Europe/Paris:20250219T110000
DTSTAMP:20260423T215908
CREATED:20250207T135737Z
LAST-MODIFIED:20250207T140256Z
UID:45336-1739955600-1739962800@portfolife.hu
SUMMARY:Portfolife Adatvédelmi Oktatás
DESCRIPTION:Kedves Kolléga\, \nsok szeretettel várunk Február 19-én 9-órától az Adatvédelmi Oktatásunkra. \nIdőpont: 2025.02.19.\, 09:00 \n\n9:00: Oktatás\n10:00: Kérdések\n\nHelyszín: online \nLink: Közvetítői oktatás | Microsoft Teams | Találkozó-csatlakozás \n  \nVárunk mindenkit!
URL:https://portfolife.hu/esemeny/portfolife-adatvedelmi-oktatas/
ATTACH;FMTTYPE=image/png:https://portfolife.hu/wp-content/uploads/2025/02/Kepernyofoto-2025-02-07-15.00.33-e1738936963644.png
ORGANIZER;CN="Nagy G%C3%A1bor - Portfolife Zrt":MAILTO:nagy.gabor@portfolife.hu
END:VEVENT
BEGIN:VEVENT
DTSTART;TZID=Europe/Paris:20250211T090000
DTEND;TZID=Europe/Paris:20250211T100000
DTSTAMP:20260423T215908
CREATED:20250107T084501Z
LAST-MODIFIED:20250107T084501Z
UID:44515-1739264400-1739268000@portfolife.hu
SUMMARY:Szakmai hétindító - Február 11.
DESCRIPTION:Nagy Gábor is inviting you to a scheduled Zoom meeting. \nTopic: Szakmai hétindító\nTime: Feb 11\, 2025 09:00 Budapest \nJoin Zoom Meeting\nhttps://us02web.zoom.us/j/86195366831?pwd=oGpxUF1xa8FGYDEo3jM1GqwQ2ooEKU.1 \nMeeting ID: 861 9536 6831\nPasscode: 307803
URL:https://portfolife.hu/esemeny/szakmai-hetindito-februar-11/
LOCATION:ONLINE\, Magyarország
CATEGORIES:Szakmai hétindítók
ATTACH;FMTTYPE=image/png:https://portfolife.hu/wp-content/uploads/2023/02/szakmaihetindito.png
ORGANIZER;CN="Nagy G%C3%A1bor - Portfolife Zrt":MAILTO:nagy.gabor@portfolife.hu
END:VEVENT
BEGIN:VEVENT
DTSTART;TZID=Europe/Paris:20250130T080000
DTEND;TZID=Europe/Paris:20250130T140000
DTSTAMP:20260423T215908
CREATED:20250107T083951Z
LAST-MODIFIED:20250127T104205Z
UID:44512-1738224000-1738245600@portfolife.hu
SUMMARY:Havi oktatás - Január 30.
DESCRIPTION:Megközelítés: \nA  legegyszerűbb az M0-áson és Budakalász felé. Ha a városból jössz kifelé akkor a Szentendrei úton. \nA BSS Benzinkút előtt kell behajtani a szerviz útra\, majd a bal oldalon található 2. épület Lollipop nyomdánál található BNI irodát keresd. \nParkolási lehetőség a sorompón belül és kívül is díjmentes!  \n  \nProgram:\n08.30 – 09.20     2024 gyors összefoglalása és a Portfolife tervei\, céljai 2025-ben- Nagy Gábor\n09.20 – 09.30     Szünet\n09.30 – 10.20     Piac elemzés – Kiss Csaba\n10.20 – 10.30     Szünet\n10.30 – 11.20     AI – Kiss Csaba\, Vida Gábor\, Nagy Gábor\n11.20 – 11.30     Szünet\n11.30 – 12.20     Portfolife specifikumok – Ilyés Fanni\, Kokas Edina\n12.20 – 12.30     Szünet\n12.30 – 13.20     Portfolife változtatások – Nagy Gábor\n  \n 
URL:https://portfolife.hu/esemeny/havi-oktatas-januar-30/
LOCATION:2011 Budakalász József Attila utca 75\, József Attila u. 75.\, Budakalász\, Pest\, 2011\, Magyarország
CATEGORIES:Havi oktatások
ATTACH;FMTTYPE=image/png:https://portfolife.hu/wp-content/uploads/2023/02/havioktatas.png
ORGANIZER;CN="Nagy G%C3%A1bor - Portfolife Zrt":MAILTO:nagy.gabor@portfolife.hu
END:VEVENT
BEGIN:VEVENT
DTSTART;TZID=Europe/Paris:20250128T090000
DTEND;TZID=Europe/Paris:20250128T100000
DTSTAMP:20260423T215908
CREATED:20250107T083643Z
LAST-MODIFIED:20250107T083643Z
UID:44508-1738054800-1738058400@portfolife.hu
SUMMARY:Szakmai hétindító - Január 28.
DESCRIPTION:Nagy Gábor is inviting you to a scheduled Zoom meeting. \nTopic: Szakmai hétindító\nTime: Jan 28\, 2025 09:00 Budapest \nJoin Zoom Meeting\nhttps://us02web.zoom.us/j/85879726395?pwd=5nPxvxoAbZZyYJxJcALnn4AObwprws.1 \nMeeting ID: 858 7972 6395\nPasscode: 506360
URL:https://portfolife.hu/esemeny/szakmai-hetindito-januar-28/
LOCATION:ONLINE\, Magyarország
CATEGORIES:Szakmai hétindítók
ATTACH;FMTTYPE=image/png:https://portfolife.hu/wp-content/uploads/2023/02/szakmaihetindito.png
ORGANIZER;CN="Nagy G%C3%A1bor - Portfolife Zrt":MAILTO:nagy.gabor@portfolife.hu
END:VEVENT
BEGIN:VEVENT
DTSTART;TZID=Europe/Paris:20250114T090000
DTEND;TZID=Europe/Paris:20250114T100000
DTSTAMP:20260423T215908
CREATED:20250107T083400Z
LAST-MODIFIED:20250107T083400Z
UID:44505-1736845200-1736848800@portfolife.hu
SUMMARY:Szakmai hétindító - Január 14.
DESCRIPTION:Nagy Gábor is inviting you to a scheduled Zoom meeting. \nTopic: Szakmai hétindító\nTime: Jan 14\, 2025 09:00 Budapest \nJoin Zoom Meeting\nhttps://us02web.zoom.us/j/83724625217?pwd=XeGHWfmuVBGXrogZmDnFotcb9bfaVL.1 \nMeeting ID: 837 2462 5217\nPasscode: 061272
URL:https://portfolife.hu/esemeny/szakmai-hetindito-januar-14/
LOCATION:ONLINE\, Magyarország
CATEGORIES:Szakmai hétindítók
ATTACH;FMTTYPE=image/png:https://portfolife.hu/wp-content/uploads/2023/02/szakmaihetindito.png
ORGANIZER;CN="Nagy G%C3%A1bor - Portfolife Zrt":MAILTO:nagy.gabor@portfolife.hu
END:VEVENT
BEGIN:VEVENT
DTSTART;TZID=Europe/Paris:20241210T160000
DTEND;TZID=Europe/Paris:20241210T233000
DTSTAMP:20260423T215908
CREATED:20241107T151526Z
LAST-MODIFIED:20241107T152338Z
UID:42979-1733846400-1733873400@portfolife.hu
SUMMARY:Portfolife Zrt. 2024 Évzáró rendezvény
DESCRIPTION:Portfolife Zrt. 2024 Évzáró rendezvény\nDátum: 2024.12.10.\nHelyszín: Continental Citygolf Club\nDress code: Karácsonyi színek
URL:https://portfolife.hu/esemeny/portfolife-zrt-2024-evzaro-rendezvenye/
LOCATION:Continental Citygolf Club\, Perényi út 6.\, Budapest\, Pest\, 1037\, Magyarország
ATTACH;FMTTYPE=image/jpeg:https://portfolife.hu/wp-content/uploads/2024/11/portfolife_karacsony_2024-2.jpg
ORGANIZER;CN="Nagy G%C3%A1bor - Portfolife Zrt.":MAILTO:nagy.gabor@portfolife.hu
END:VEVENT
BEGIN:VEVENT
DTSTART;TZID=Europe/Paris:20241210T090000
DTEND;TZID=Europe/Paris:20241210T100000
DTSTAMP:20260423T215908
CREATED:20241111T092341Z
LAST-MODIFIED:20241111T092341Z
UID:43056-1733821200-1733824800@portfolife.hu
SUMMARY:Szakmai hétindító - December 10.
DESCRIPTION:Nagy Gábor is inviting you to a scheduled Zoom meeting. \nTopic: Szakmai hétindító\nTime: Dec 10\, 2024 09:00 Budapest \nJoin Zoom Meeting\nhttps://us02web.zoom.us/j/82853338186?pwd=J6aeDtIhFDeafMwSFor74dC28jE6ga.1 \nMeeting ID: 828 5333 8186\nPasscode: 897483
URL:https://portfolife.hu/esemeny/szakmai-hetindito-december-10/
LOCATION:ONLINE\, Magyarország
CATEGORIES:Szakmai hétindítók
ATTACH;FMTTYPE=image/png:https://portfolife.hu/wp-content/uploads/2023/02/szakmaihetindito.png
ORGANIZER;CN="Nagy G%C3%A1bor - Portfolife Zrt":MAILTO:nagy.gabor@portfolife.hu
END:VEVENT
BEGIN:VEVENT
DTSTART;TZID=Europe/Paris:20241128T080000
DTEND;TZID=Europe/Paris:20241128T140000
DTSTAMP:20260423T215908
CREATED:20240105T143454Z
LAST-MODIFIED:20240120T105046Z
UID:32922-1732780800-1732802400@portfolife.hu
SUMMARY:Havi oktatás - November 28.
DESCRIPTION:Megközelítés: \nA  legegyszerűbb az M0-áson és Budakalász felé. Ha a városból jössz kifelé akkor a Szentendrei úton. \nA BSS Benzinkút előtt kell behajtani a szerviz útra\, majd a bal oldalon található 2. épület Lollipop nyomdánál található BNI irodát keresd. \nParkolási lehetőség a sorompón belül és kívül is díjmentes! 
URL:https://portfolife.hu/esemeny/havi-oktatas-241128/
LOCATION:2011 Budakalász József Attila utca 75\, József Attila u. 75.\, Budakalász\, Pest\, 2011\, Magyarország
CATEGORIES:Havi oktatások
ATTACH;FMTTYPE=image/png:https://portfolife.hu/wp-content/uploads/2023/02/havioktatas.png
ORGANIZER;CN="Nagy G%C3%A1bor - Portfolife Zrt.":MAILTO:nagy.gabor@portfolife.hu
END:VEVENT
BEGIN:VEVENT
DTSTART;TZID=Europe/Paris:20241126T090000
DTEND;TZID=Europe/Paris:20241126T100000
DTSTAMP:20260423T215908
CREATED:20241111T091853Z
LAST-MODIFIED:20241111T091853Z
UID:43053-1732611600-1732615200@portfolife.hu
SUMMARY:Szakmai hétindító - November 26.
DESCRIPTION:Nagy Gábor is inviting you to a scheduled Zoom meeting. \nTopic: Szakmai hétindító\nTime: Nov 26\, 2024 09:00 Budapest \nJoin Zoom Meeting\nhttps://us02web.zoom.us/j/83342760554?pwd=xQQZq8cfLZl1zaFd3MPTSCBdpya05S.1 \nMeeting ID: 833 4276 0554\nPasscode: 992868
URL:https://portfolife.hu/esemeny/szakmai-hetindito-november-26/
LOCATION:ONLINE\, Magyarország
CATEGORIES:Szakmai hétindítók
ATTACH;FMTTYPE=image/png:https://portfolife.hu/wp-content/uploads/2023/02/szakmaihetindito.png
ORGANIZER;CN="Nagy G%C3%A1bor - Portfolife Zrt":MAILTO:nagy.gabor@portfolife.hu
END:VEVENT
BEGIN:VEVENT
DTSTART;TZID=Europe/Paris:20241112T090000
DTEND;TZID=Europe/Paris:20241112T100000
DTSTAMP:20260423T215908
CREATED:20241108T132241Z
LAST-MODIFIED:20241108T132241Z
UID:43005-1731402000-1731405600@portfolife.hu
SUMMARY:Szakmai hétindító - November 12.
DESCRIPTION:Nagy Gábor is inviting you to a scheduled Zoom meeting. \nTopic: Szakmai hétindító\nTime: Nov 12\, 2024 09:00 Budapest \nJoin Zoom Meeting\nhttps://us02web.zoom.us/j/88497065082?pwd=gFl6ER4Kxk8dIL9ME6EnHoMDASfkT4.1 \nMeeting ID: 884 9706 5082\nPasscode: 660376
URL:https://portfolife.hu/esemeny/szakmai-hetindito-november-12/
LOCATION:ONLINE\, Magyarország
CATEGORIES:Szakmai hétindítók
ATTACH;FMTTYPE=image/png:https://portfolife.hu/wp-content/uploads/2023/02/szakmaihetindito.png
ORGANIZER;CN="Nagy G%C3%A1bor - Portfolife Zrt":MAILTO:nagy.gabor@portfolife.hu
END:VEVENT
BEGIN:VEVENT
DTSTART;TZID=Europe/Paris:20241031T080000
DTEND;TZID=Europe/Paris:20241031T140000
DTSTAMP:20260423T215908
CREATED:20240105T143155Z
LAST-MODIFIED:20240120T105036Z
UID:32918-1730361600-1730383200@portfolife.hu
SUMMARY:Havi oktatás - Október 31.
DESCRIPTION:Megközelítés: \nA  legegyszerűbb az M0-áson és Budakalász felé. Ha a városból jössz kifelé akkor a Szentendrei úton. \nA BSS Benzinkút előtt kell behajtani a szerviz útra\, majd a bal oldalon található 2. épület Lollipop nyomdánál található BNI irodát keresd. \nParkolási lehetőség a sorompón belül és kívül is díjmentes! 
URL:https://portfolife.hu/esemeny/havi-oktatas-241031/
LOCATION:2011 Budakalász József Attila utca 75\, József Attila u. 75.\, Budakalász\, Pest\, 2011\, Magyarország
CATEGORIES:Havi oktatások
ATTACH;FMTTYPE=image/png:https://portfolife.hu/wp-content/uploads/2023/02/havioktatas.png
ORGANIZER;CN="Nagy G%C3%A1bor - Portfolife Zrt.":MAILTO:nagy.gabor@portfolife.hu
END:VEVENT
BEGIN:VEVENT
DTSTART;TZID=Europe/Paris:20241029T090000
DTEND;TZID=Europe/Paris:20241029T100000
DTSTAMP:20260423T215908
CREATED:20240827T072853Z
LAST-MODIFIED:20240827T072853Z
UID:39938-1730192400-1730196000@portfolife.hu
SUMMARY:Szakmai hétindító - Október 29.
DESCRIPTION:Nagy Gábor is inviting you to a scheduled Zoom meeting. \nTopic: Szakmai hétindító\nTime: Oct 29\, 2024 09:00 Budapest \nJoin Zoom Meeting\nhttps://us02web.zoom.us/j/83252857797?pwd=Kblb5ftmOgcXSWrkO1R7qDqqoeetTG.1 \nMeeting ID: 832 5285 7797\nPasscode: 093675
URL:https://portfolife.hu/esemeny/szakmai-hetindito-oktober-29/
LOCATION:ONLINE\, Magyarország
CATEGORIES:Szakmai hétindítók
ATTACH;FMTTYPE=image/png:https://portfolife.hu/wp-content/uploads/2023/02/szakmaihetindito.png
ORGANIZER;CN="Nagy G%C3%A1bor - Portfolife Zrt":MAILTO:nagy.gabor@portfolife.hu
END:VEVENT
BEGIN:VEVENT
DTSTART;TZID=Europe/Paris:20241015T090000
DTEND;TZID=Europe/Paris:20241015T100000
DTSTAMP:20260423T215908
CREATED:20240827T072623Z
LAST-MODIFIED:20240827T072623Z
UID:39935-1728982800-1728986400@portfolife.hu
SUMMARY:Szakmai hétindító - Október 15.
DESCRIPTION:Nagy Gábor is inviting you to a scheduled Zoom meeting. \nTopic: Szakmai hétindító\nTime: Oct 15\, 2024 09:00 Budapest \nJoin Zoom Meeting\nhttps://us02web.zoom.us/j/85388624996?pwd=laLZmsaW1QPpWBokvNlIp4ipevn1aD.1 \nMeeting ID: 853 8862 4996\nPasscode: 344965
URL:https://portfolife.hu/esemeny/szakmai-hetindito-oktober-15/
LOCATION:ONLINE\, Magyarország
CATEGORIES:Szakmai hétindítók
ATTACH;FMTTYPE=image/png:https://portfolife.hu/wp-content/uploads/2023/02/szakmaihetindito.png
END:VEVENT
BEGIN:VEVENT
DTSTART;TZID=Europe/Paris:20241001T090000
DTEND;TZID=Europe/Paris:20241001T100000
DTSTAMP:20260423T215908
CREATED:20240827T072148Z
LAST-MODIFIED:20240827T072148Z
UID:39932-1727773200-1727776800@portfolife.hu
SUMMARY:Szakmai hétindító - Október 1.
DESCRIPTION:Nagy Gábor is inviting you to a scheduled Zoom meeting. \nTopic: Szakmai hétindító\nTime: Oct 1\, 2024 09:00 Budapest \nJoin Zoom Meeting\nhttps://us02web.zoom.us/j/87351515375?pwd=3cnsMA6njJzQuOEU4a3Djp6u4Azbe0.1 \nMeeting ID: 873 5151 5375\nPasscode: 924367
URL:https://portfolife.hu/esemeny/szakmai-hetindito-oktober-1/
LOCATION:ONLINE\, Magyarország
CATEGORIES:Szakmai hétindítók
ATTACH;FMTTYPE=image/png:https://portfolife.hu/wp-content/uploads/2023/02/szakmaihetindito.png
ORGANIZER;CN="Nagy G%C3%A1bor - Portfolife Zrt":MAILTO:nagy.gabor@portfolife.hu
END:VEVENT
BEGIN:VEVENT
DTSTART;TZID=Europe/Paris:20240926T080000
DTEND;TZID=Europe/Paris:20240926T140000
DTSTAMP:20260423T215908
CREATED:20240105T142940Z
LAST-MODIFIED:20240120T105026Z
UID:32914-1727337600-1727359200@portfolife.hu
SUMMARY:Havi oktatás - Szeptember 26.
DESCRIPTION:Megközelítés: \nA  legegyszerűbb az M0-áson és Budakalász felé. Ha a városból jössz kifelé akkor a Szentendrei úton. \nA BSS Benzinkút előtt kell behajtani a szerviz útra\, majd a bal oldalon található 2. épület Lollipop nyomdánál található BNI irodát keresd. \nParkolási lehetőség a sorompón belül és kívül is díjmentes! 
URL:https://portfolife.hu/esemeny/havi-oktatas-240926/
LOCATION:2011 Budakalász József Attila utca 75\, József Attila u. 75.\, Budakalász\, Pest\, 2011\, Magyarország
CATEGORIES:Havi oktatások
ATTACH;FMTTYPE=image/png:https://portfolife.hu/wp-content/uploads/2023/02/havioktatas.png
ORGANIZER;CN="Nagy G%C3%A1bor - Portfolife Zrt.":MAILTO:nagy.gabor@portfolife.hu
END:VEVENT
BEGIN:VEVENT
DTSTART;TZID=Europe/Paris:20240917T090000
DTEND;TZID=Europe/Paris:20240917T100000
DTSTAMP:20260423T215908
CREATED:20240827T071807Z
LAST-MODIFIED:20240827T071807Z
UID:39929-1726563600-1726567200@portfolife.hu
SUMMARY:Szakmai hétindító - Szeptember 17.
DESCRIPTION:Nagy Gábor is inviting you to a scheduled Zoom meeting. \nTopic: Szakmai hétindító\nTime: Sep 17\, 2024 09:00 Budapest \nJoin Zoom Meeting\nhttps://us02web.zoom.us/j/89287655418?pwd=ZxPFwjm8vuwHBJgaMuTWZ1FPXTnBtn.1 \nMeeting ID: 892 8765 5418\nPasscode: 691566
URL:https://portfolife.hu/esemeny/szakmai-hetindito-szeptember-17/
LOCATION:ONLINE\, Magyarország
CATEGORIES:Szakmai hétindítók
ATTACH;FMTTYPE=image/png:https://portfolife.hu/wp-content/uploads/2023/02/szakmaihetindito.png
ORGANIZER;CN="Nagy G%C3%A1bor - Portfolife Zrt":MAILTO:nagy.gabor@portfolife.hu
END:VEVENT
BEGIN:VEVENT
DTSTART;TZID=Europe/Paris:20240903T090000
DTEND;TZID=Europe/Paris:20240903T100000
DTSTAMP:20260423T215908
CREATED:20240827T071150Z
LAST-MODIFIED:20240827T071438Z
UID:39926-1725354000-1725357600@portfolife.hu
SUMMARY:Szakmai hétindító - Szeptember 3.
DESCRIPTION:Nagy Gábor is inviting you to a scheduled Zoom meeting. \nTopic: Szakmai hétindító\nTime: Sep 3\, 2024 09:00 Budapest \nJoin Zoom Meeting\nhttps://us02web.zoom.us/j/84101475170?pwd=Q5yr6yAaqgGYOKwc1y9Qv4jugv4XOm.1 \nMeeting ID: 841 0147 5170\nPasscode: 345151
URL:https://portfolife.hu/esemeny/szakmai-hetindito-szeptember-3/
LOCATION:ONLINE\, Magyarország
CATEGORIES:Szakmai hétindítók
ATTACH;FMTTYPE=image/png:https://portfolife.hu/wp-content/uploads/2023/02/szakmaihetindito.png
ORGANIZER;CN="Nagy G%C3%A1bor - Portfolife Zrt":MAILTO:nagy.gabor@portfolife.hu
END:VEVENT
BEGIN:VEVENT
DTSTART;TZID=Europe/Paris:20240806T090000
DTEND;TZID=Europe/Paris:20240806T100000
DTSTAMP:20260423T215908
CREATED:20240805T131347Z
LAST-MODIFIED:20240805T134149Z
UID:39352-1722934800-1722938400@portfolife.hu
SUMMARY:Szakmai hétindító - Augusztus 6.
DESCRIPTION:Nagy Gábor is inviting you to a scheduled Zoom meeting. \nTopic: Szakmai hétindító\nTime: Aug 6\, 2024 09:00 Budapest \nJoin Zoom Meeting\nhttps://us02web.zoom.us/j/82485715641?pwd=lHcnNFMt3oC5sssfgQqRpup5pQLVXW.1 \nMeeting ID: 824 8571 5641\nPasscode: 686415
URL:https://portfolife.hu/esemeny/szakmai-hetindito-240806-2/
LOCATION:ONLINE\, Magyarország
CATEGORIES:Szakmai hétindítók
ATTACH;FMTTYPE=image/png:https://portfolife.hu/wp-content/uploads/2023/02/szakmaihetindito.png
ORGANIZER;CN="Nagy G%C3%A1bor - Portfolife Zrt.":MAILTO:nagy.gabor@portfolife.hu
END:VEVENT
BEGIN:VEVENT
DTSTART;TZID=Europe/Paris:20240802T110000
DTEND;TZID=Europe/Paris:20240802T123000
DTSTAMP:20260423T215908
CREATED:20240718T083238Z
LAST-MODIFIED:20240718T084543Z
UID:38637-1722596400-1722601800@portfolife.hu
SUMMARY:PortfoLife - 1Fi Invest incentive utazás elérésének stratégiája
DESCRIPTION:Kedves Kollégák!\nSok szeretettel meghívunk mindenkit a PortfoLife Zrt. és a 1FI Invest közös tájékoztatójára!\nTéma: A PortfoLife és a 1Fi incentive utazás elérésének stratégiája\nElőadók: Péterfi Zsolt és Nagy Gábor\nIdőpont: Augusztus 2. 11:00 – 12:30\n  \nNagy Gábor is inviting you to a scheduled Zoom meeting. \nTopic: Portfolife – 1Fi incentive utazás elérésének stratégiája\nTime: Aug 2\, 2024 11:00 Budapest \nJoin Zoom Meeting\nhttps://us02web.zoom.us/j/89281308795?pwd=aySNQJbuvcVfCkgZJ5O1l9lntbWeOh.1 \nMeeting ID: 892 8130 8795\nPasscode: 735488
URL:https://portfolife.hu/esemeny/portfolife-1fi-invest-incentive-utazas-eleresenek-strategiaja/
CATEGORIES:Tájékoztató/Előadás
ATTACH;FMTTYPE=image/png:https://portfolife.hu/wp-content/uploads/2024/07/df0b270f-521f-48a7-b422-cccfa3b6233e.png
ORGANIZER;CN="Nagy G%C3%A1bor - Portfolife Zrt":MAILTO:nagy.gabor@portfolife.hu
END:VEVENT
BEGIN:VEVENT
DTSTART;TZID=Europe/Paris:20240723T090000
DTEND;TZID=Europe/Paris:20240723T100000
DTSTAMP:20260423T215908
CREATED:20240601T134111Z
LAST-MODIFIED:20240722T070158Z
UID:38258-1721725200-1721728800@portfolife.hu
SUMMARY:Szakmai hétindító - Július 23.
DESCRIPTION:Nagy Gábor is inviting you to a scheduled Zoom meeting. \nTopic: Szakmai hétindító\nTime: Jul 23\, 2024 09:00 Budapest \nJoin Zoom Meeting\nhttps://us02web.zoom.us/j/84556310800?pwd=RluNEBgGiJBg4DM6xqur2vdXsqjq2g.1 \nMeeting ID: 845 5631 0800\nPasscode: 585212
URL:https://portfolife.hu/esemeny/szakmai-hetindito-240723/
LOCATION:ONLINE\, Magyarország
CATEGORIES:Szakmai hétindítók
ATTACH;FMTTYPE=image/png:https://portfolife.hu/wp-content/uploads/2023/02/szakmaihetindito.png
ORGANIZER;CN="Nagy G%C3%A1bor - Portfolife Zrt.":MAILTO:nagy.gabor@portfolife.hu
END:VEVENT
BEGIN:VEVENT
DTSTART;TZID=Europe/Paris:20240709T090000
DTEND;TZID=Europe/Paris:20240709T100000
DTSTAMP:20260423T215908
CREATED:20240601T133537Z
LAST-MODIFIED:20240708T141834Z
UID:38252-1720515600-1720519200@portfolife.hu
SUMMARY:Szakmai hétindító - Július 9.
DESCRIPTION:Nagy Gábor is inviting you to a scheduled Zoom meeting. \nTopic: Szakmai hétindító\nTime: Jul 9\, 2024 09:00 Budapest \nJoin Zoom Meeting\nhttps://us02web.zoom.us/j/89260570099?pwd=MQtQvttzjwHfTRwk52MdbbHrRalaMX.1 \nMeeting ID: 892 6057 0099\nPasscode: 542021
URL:https://portfolife.hu/esemeny/szakmai-hetindito-240709/
LOCATION:ONLINE\, Magyarország
CATEGORIES:Szakmai hétindítók
ATTACH;FMTTYPE=image/png:https://portfolife.hu/wp-content/uploads/2023/02/szakmaihetindito.png
ORGANIZER;CN="Nagy G%C3%A1bor - Portfolife Zrt.":MAILTO:nagy.gabor@portfolife.hu
END:VEVENT
BEGIN:VEVENT
DTSTART;TZID=Europe/Paris:20240627T080000
DTEND;TZID=Europe/Paris:20240627T140000
DTSTAMP:20260423T215908
CREATED:20240105T142142Z
LAST-MODIFIED:20240120T104958Z
UID:32902-1719475200-1719496800@portfolife.hu
SUMMARY:Havi oktatás - Június 27.
DESCRIPTION:Megközelítés: \nA  legegyszerűbb az M0-áson és Budakalász felé. Ha a városból jössz kifelé akkor a Szentendrei úton. \nA BSS Benzinkút előtt kell behajtani a szerviz útra\, majd a bal oldalon található 2. épület Lollipop nyomdánál található BNI irodát keresd. \nParkolási lehetőség a sorompón belül és kívül is díjmentes! 
URL:https://portfolife.hu/esemeny/havi-oktatas-240627/
LOCATION:2011 Budakalász József Attila utca 75\, József Attila u. 75.\, Budakalász\, Pest\, 2011\, Magyarország
CATEGORIES:Havi oktatások
ATTACH;FMTTYPE=image/png:https://portfolife.hu/wp-content/uploads/2023/02/havioktatas.png
ORGANIZER;CN="Nagy G%C3%A1bor - Portfolife Zrt.":MAILTO:nagy.gabor@portfolife.hu
END:VEVENT
BEGIN:VEVENT
DTSTART;TZID=Europe/Paris:20240625T090000
DTEND;TZID=Europe/Paris:20240625T100000
DTSTAMP:20260423T215908
CREATED:20240507T073149Z
LAST-MODIFIED:20240621T134446Z
UID:37589-1719306000-1719309600@portfolife.hu
SUMMARY:Szakmai hétindító - Június 25.
DESCRIPTION:Nagy Gábor is inviting you to a scheduled Zoom meeting. \nTopic: Szakmai hétindító\nTime: Jun 24\, 2024 09:00 Budapest \nJoin Zoom Meeting\nhttps://us02web.zoom.us/j/89800019882?pwd=1uWUzRJMBlgjAEcAMIcIHfKGZ0o5ru.1 \nMeeting ID: 898 0001 9882\nPasscode: 368354
URL:https://portfolife.hu/esemeny/szakmai-hetindito-240625/
LOCATION:ONLINE\, Magyarország
CATEGORIES:Szakmai hétindítók
ATTACH;FMTTYPE=image/png:https://portfolife.hu/wp-content/uploads/2023/02/szakmaihetindito.png
ORGANIZER;CN="Nagy G%C3%A1bor - Portfolife Zrt.":MAILTO:nagy.gabor@portfolife.hu
END:VEVENT
BEGIN:VEVENT
DTSTART;TZID=Europe/Paris:20240611T090000
DTEND;TZID=Europe/Paris:20240611T100000
DTSTAMP:20260423T215908
CREATED:20240506T145342Z
LAST-MODIFIED:20240606T145515Z
UID:37576-1718096400-1718100000@portfolife.hu
SUMMARY:Szakmai hétindító - Június 11.
DESCRIPTION:Nagy Gábor is inviting you to a scheduled Zoom meeting. \nTopic: Szakmai hétindító\nTime: June 11\, 2024 09:00 Budapest \nJoin Zoom Meeting\nhttps://us02web.zoom.us/j/86792799676?pwd=dmVOcnNHVkJWZEhpSXpoT0IrS2hzUT09 \nMeeting ID: 867 9279 9676\nPasscode: 239745
URL:https://portfolife.hu/esemeny/szakmai-hetindito-240600/
LOCATION:ONLINE\, Magyarország
CATEGORIES:Szakmai hétindítók
ATTACH;FMTTYPE=image/png:https://portfolife.hu/wp-content/uploads/2023/02/szakmaihetindito.png
ORGANIZER;CN="Nagy G%C3%A1bor - Portfolife Zrt.":MAILTO:nagy.gabor@portfolife.hu
END:VEVENT
BEGIN:VEVENT
DTSTART;TZID=Europe/Paris:20240530T080000
DTEND;TZID=Europe/Paris:20240530T140000
DTSTAMP:20260423T215908
CREATED:20240105T141940Z
LAST-MODIFIED:20240120T104948Z
UID:32898-1717056000-1717077600@portfolife.hu
SUMMARY:Havi oktatás - Május 30.
DESCRIPTION:Megközelítés: \nA  legegyszerűbb az M0-áson és Budakalász felé. Ha a városból jössz kifelé akkor a Szentendrei úton. \nA BSS Benzinkút előtt kell behajtani a szerviz útra\, majd a bal oldalon található 2. épület Lollipop nyomdánál található BNI irodát keresd. \nParkolási lehetőség a sorompón belül és kívül is díjmentes! 
URL:https://portfolife.hu/esemeny/havi-oktatas-240530/
LOCATION:2011 Budakalász József Attila utca 75\, József Attila u. 75.\, Budakalász\, Pest\, 2011\, Magyarország
CATEGORIES:Havi oktatások
ATTACH;FMTTYPE=image/png:https://portfolife.hu/wp-content/uploads/2023/02/havioktatas.png
ORGANIZER;CN="Nagy G%C3%A1bor - Portfolife Zrt.":MAILTO:nagy.gabor@portfolife.hu
END:VEVENT
BEGIN:VEVENT
DTSTART;TZID=Europe/Paris:20240528T090000
DTEND;TZID=Europe/Paris:20240528T100000
DTSTAMP:20260423T215908
CREATED:20240325T082219Z
LAST-MODIFIED:20240528T065725Z
UID:36623-1716886800-1716890400@portfolife.hu
SUMMARY:Szakmai hétindító - Május 28.
DESCRIPTION:Nagy Gábor is inviting you to a scheduled Zoom meeting. \nTopic: Szakmai hétindító\nTime: May 28\, 2024 09:00 Budapest \nJoin Zoom Meeting\nhttps://us02web.zoom.us/j/86792799676?pwd=dmVOcnNHVkJWZEhpSXpoT0IrS2hzUT09 \nMeeting ID: 867 9279 9676\nPasscode: 239745
URL:https://portfolife.hu/esemeny/szakmai-hetindito-240528/
LOCATION:ONLINE\, Magyarország
CATEGORIES:Szakmai hétindítók
ATTACH;FMTTYPE=image/png:https://portfolife.hu/wp-content/uploads/2023/02/szakmaihetindito.png
ORGANIZER;CN="Nagy G%C3%A1bor - Portfolife Zrt.":MAILTO:nagy.gabor@portfolife.hu
END:VEVENT
BEGIN:VEVENT
DTSTART;TZID=Europe/Paris:20240514T090000
DTEND;TZID=Europe/Paris:20240514T100000
DTSTAMP:20260423T215908
CREATED:20240325T082031Z
LAST-MODIFIED:20240429T082938Z
UID:36618-1715677200-1715680800@portfolife.hu
SUMMARY:Szakmai hétindító - Május 14.
DESCRIPTION:Nagy Gábor is inviting you to a scheduled Zoom meeting. \nTopic: Szakmai hétindító\nTime: May 14\, 2024 09:00 Budapest \nJoin Zoom Meeting\nhttps://us02web.zoom.us/j/88050011282?pwd=cmgrTXozRENBaitpL29jVUE0cGtVdz09 \nMeeting ID: 880 5001 1282\nPasscode: 625687
URL:https://portfolife.hu/esemeny/szakmai-hetindito-240514/
LOCATION:ONLINE\, Magyarország
CATEGORIES:Szakmai hétindítók
ATTACH;FMTTYPE=image/png:https://portfolife.hu/wp-content/uploads/2023/02/szakmaihetindito.png
ORGANIZER;CN="Nagy G%C3%A1bor - Portfolife Zrt.":MAILTO:nagy.gabor@portfolife.hu
END:VEVENT
END:VCALENDAR