BEGIN:VCALENDAR
VERSION:2.0
PRODID:-//Portfolife - ECPv6.15.14//NONSGML v1.0//EN
CALSCALE:GREGORIAN
METHOD:PUBLISH
X-WR-CALNAME:Portfolife
X-ORIGINAL-URL:https://portfolife.hu
X-WR-CALDESC:Események Portfolife
REFRESH-INTERVAL;VALUE=DURATION:PT1H
X-Robots-Tag:noindex
X-PUBLISHED-TTL:PT1H
BEGIN:VTIMEZONE
TZID:Europe/Paris
BEGIN:DAYLIGHT
TZOFFSETFROM:+0100
TZOFFSETTO:+0200
TZNAME:CEST
DTSTART:20250330T010000
END:DAYLIGHT
BEGIN:STANDARD
TZOFFSETFROM:+0200
TZOFFSETTO:+0100
TZNAME:CET
DTSTART:20251026T010000
END:STANDARD
BEGIN:DAYLIGHT
TZOFFSETFROM:+0100
TZOFFSETTO:+0200
TZNAME:CEST
DTSTART:20260329T010000
END:DAYLIGHT
BEGIN:STANDARD
TZOFFSETFROM:+0200
TZOFFSETTO:+0100
TZNAME:CET
DTSTART:20261025T010000
END:STANDARD
BEGIN:DAYLIGHT
TZOFFSETFROM:+0100
TZOFFSETTO:+0200
TZNAME:CEST
DTSTART:20270328T010000
END:DAYLIGHT
BEGIN:STANDARD
TZOFFSETFROM:+0200
TZOFFSETTO:+0100
TZNAME:CET
DTSTART:20271031T010000
END:STANDARD
END:VTIMEZONE
BEGIN:VEVENT
DTSTART;TZID=Europe/Paris:20260728T090000
DTEND;TZID=Europe/Paris:20260728T100000
DTSTAMP:20260423T134434
CREATED:20260121T120920Z
LAST-MODIFIED:20260121T120920Z
UID:71936-1785229200-1785232800@portfolife.hu
SUMMARY:Szakmai hétindító - Július 28.
DESCRIPTION:Nagy Gábor is inviting you to a scheduled Zoom meeting. \nTopic: Szakmai hétindító\nTime: Jul 28\, 2026 09:00 Budapest\nJoin Zoom Meeting\nhttps://us02web.zoom.us/j/87888969007?pwd=QkAjKwP1eCCPvaUkIiBe7FZQi9WoHc.1 \nMeeting ID: 878 8896 9007\nPasscode: 544672
URL:https://portfolife.hu/esemeny/szakmai-hetindito-julius-28/
LOCATION:ONLINE\, Magyarország
CATEGORIES:Szakmai hétindítók
ATTACH;FMTTYPE=image/png:https://portfolife.hu/wp-content/uploads/2023/02/szakmaihetindito.png
ORGANIZER;CN="Nagy G%C3%A1bor - Portfolife Zrt":MAILTO:nagy.gabor@portfolife.hu
END:VEVENT
BEGIN:VEVENT
DTSTART;TZID=Europe/Paris:20260729T150000
DTEND;TZID=Europe/Paris:20260729T163000
DTSTAMP:20260423T134434
CREATED:20260121T135640Z
LAST-MODIFIED:20260121T135640Z
UID:72074-1785337200-1785342600@portfolife.hu
SUMMARY:Hétindító kibeszélő - Július 29.
DESCRIPTION:Nagy Gábor is inviting you to a scheduled Zoom meeting. \nTopic: Hétindító kibeszélő\nTime: Jul 29\, 2026 15:00 Budapest\nJoin Zoom Meeting\nhttps://us02web.zoom.us/j/89177404830?pwd=or6cAjWcgVRqkPQJrewaTLtKL72faQ.1 \nMeeting ID: 891 7740 4830\nPasscode: 057320
URL:https://portfolife.hu/esemeny/hetindito-kibeszelo-julius-29/
LOCATION:ONLINE\, Magyarország
CATEGORIES:Hétindító kibeszélő
ATTACH;FMTTYPE=image/png:https://portfolife.hu/wp-content/uploads/2025/04/2024-tervezes-trening-januar-10-masolata-masolata-3.png
ORGANIZER;CN="Nagy G%C3%A1bor - Portfolife Zrt":MAILTO:nagy.gabor@portfolife.hu
END:VEVENT
BEGIN:VEVENT
DTSTART;TZID=Europe/Paris:20260803T140000
DTEND;TZID=Europe/Paris:20260803T160000
DTSTAMP:20260423T134434
CREATED:20260122T120645Z
LAST-MODIFIED:20260122T120645Z
UID:72300-1785765600-1785772800@portfolife.hu
SUMMARY:💼 Toborzó Nap a Portfolife-nál - Augusztus 03.
DESCRIPTION:🗓 Toborzó nap részletei:\n📍 Helyszín:1062 Budapest\, Váci út 1–3.Westend Offices – B torony\, 3. emelet \nIdőpont: 14:00-16:00 \n👥 Részvétel: \n\n\nSzemélyesen erősen ajánlott\, hiszen így első kézből ismerkedhetsz meg a csapattal és a vállalati kultúrával. \n\n\nOnline csatlakozási lehetőség is biztosított azoknak\, akik távolabbról vennének részt. \nhttps://us02web.zoom.us/j/85210992822?pwd=rgD1cMfONKabB15CZawVWGKbwJ8Y3a.1 \nMeeting ID: 852 1099 2822\nPasscode: 484433\n\n📌 Megjegyzés:Ha egy meglévő PortfoLife munkatárs ajánlására kerültél kapcsolatba velünk\, számára is ajánlott a személyes jelenlét\, de nem kötelező.
URL:https://portfolife.hu/esemeny/%f0%9f%92%bc-toborzo-nap-a-portfolife-nal-augusztus-03/
LOCATION:1062 Budapest\, Váci út 1–3. Westend Offices – B torony\, 3. emelet
CATEGORIES:Toborzó Nap
ATTACH;FMTTYPE=image/png:https://portfolife.hu/wp-content/uploads/2025/03/2024-tervezes-trening-januar-10-masolata.png
ORGANIZER;CN="Nagy G%C3%A1bor - Portfolife Zrt":MAILTO:nagy.gabor@portfolife.hu
END:VEVENT
BEGIN:VEVENT
DTSTART;TZID=Europe/Paris:20260811T090000
DTEND;TZID=Europe/Paris:20260811T100000
DTSTAMP:20260423T134434
CREATED:20260121T121325Z
LAST-MODIFIED:20260121T121325Z
UID:71944-1786438800-1786442400@portfolife.hu
SUMMARY:Szakmai hétindító - Augusztus 11.
DESCRIPTION:Nagy Gábor is inviting you to a scheduled Zoom meeting. \nTopic: Szakmai hétindító\nTime: Jan 21\, 2026 14:00 Budapest\nJoin Zoom Meeting\nhttps://us02web.zoom.us/j/88919807342?pwd=52MO9azzNSniTH7nWmycMhagKIneya.1 \nMeeting ID: 889 1980 7342\nPasscode: 121439
URL:https://portfolife.hu/esemeny/szakmai-hetindito-augusztus-11/
LOCATION:ONLINE\, Magyarország
CATEGORIES:Szakmai hétindítók
ATTACH;FMTTYPE=image/png:https://portfolife.hu/wp-content/uploads/2023/02/szakmaihetindito.png
ORGANIZER;CN="Nagy G%C3%A1bor - Portfolife Zrt":MAILTO:nagy.gabor@portfolife.hu
END:VEVENT
BEGIN:VEVENT
DTSTART;TZID=Europe/Paris:20260812T150000
DTEND;TZID=Europe/Paris:20260812T163000
DTSTAMP:20260423T134434
CREATED:20260121T140155Z
LAST-MODIFIED:20260121T140155Z
UID:72080-1786546800-1786552200@portfolife.hu
SUMMARY:Hétindító kibeszélő - Augusztus 12.
DESCRIPTION:Nagy Gábor is inviting you to a scheduled Zoom meeting. \nTopic: Hétindító kibeszélő\nTime: Aug 12\, 2026 15:00 Budapest\nJoin Zoom Meeting\nhttps://us02web.zoom.us/j/82430486442?pwd=g4RgLTYkd5nrlubdzCwUg4ABg70ed0.1 \nMeeting ID: 824 3048 6442\nPasscode: 423420
URL:https://portfolife.hu/esemeny/hetindito-kibeszelo-augusztus-12/
LOCATION:ONLINE\, Magyarország
CATEGORIES:Hétindító kibeszélő
ATTACH;FMTTYPE=image/png:https://portfolife.hu/wp-content/uploads/2025/04/2024-tervezes-trening-januar-10-masolata-masolata-3.png
ORGANIZER;CN="Nagy G%C3%A1bor - Portfolife Zrt":MAILTO:nagy.gabor@portfolife.hu
END:VEVENT
BEGIN:VEVENT
DTSTART;TZID=Europe/Paris:20260825T090000
DTEND;TZID=Europe/Paris:20260825T100000
DTSTAMP:20260423T134434
CREATED:20260121T121652Z
LAST-MODIFIED:20260121T121652Z
UID:71950-1787648400-1787652000@portfolife.hu
SUMMARY:Szakmai hétindító - Augusztus 25.
DESCRIPTION:Nagy Gábor is inviting you to a scheduled Zoom meeting. \nTopic: Szakmai hétindító\nTime: Aug 25\, 2026 09:00 Budapest\nJoin Zoom Meeting\nhttps://us02web.zoom.us/j/81978121905?pwd=aa2sLOru0Ia6GzqNt3Eb2nTEUXpxgg.1 \nMeeting ID: 819 7812 1905\nPasscode: 180287
URL:https://portfolife.hu/esemeny/szakmai-hetindito-augusztus-25/
LOCATION:ONLINE\, Magyarország
CATEGORIES:Szakmai hétindítók
ATTACH;FMTTYPE=image/png:https://portfolife.hu/wp-content/uploads/2023/02/szakmaihetindito.png
ORGANIZER;CN="Nagy G%C3%A1bor - Portfolife Zrt":MAILTO:nagy.gabor@portfolife.hu
END:VEVENT
BEGIN:VEVENT
DTSTART;TZID=Europe/Paris:20260826T150000
DTEND;TZID=Europe/Paris:20260826T163000
DTSTAMP:20260423T134434
CREATED:20260121T140549Z
LAST-MODIFIED:20260121T140549Z
UID:72085-1787756400-1787761800@portfolife.hu
SUMMARY:Hétindító kibeszélő - Augusztus 26.
DESCRIPTION:Nagy Gábor is inviting you to a scheduled Zoom meeting. \nTopic: Hétindító kibeszélő\nTime: Aug 26\, 2026 15:00 Budapest\nJoin Zoom Meeting\nhttps://us02web.zoom.us/j/86428380093?pwd=3Q4tmave6ixKpZZf3EQWAFiUWm4Oc0.1 \nMeeting ID: 864 2838 0093\nPasscode: 305732
URL:https://portfolife.hu/esemeny/hetindito-kibeszelo-augusztus-26/
LOCATION:ONLINE\, Magyarország
CATEGORIES:Hétindító kibeszélő
ATTACH;FMTTYPE=image/png:https://portfolife.hu/wp-content/uploads/2025/04/2024-tervezes-trening-januar-10-masolata-masolata-3.png
ORGANIZER;CN="Nagy G%C3%A1bor - Portfolife Zrt":MAILTO:nagy.gabor@portfolife.hu
END:VEVENT
BEGIN:VEVENT
DTSTART;TZID=Europe/Paris:20260831T140000
DTEND;TZID=Europe/Paris:20260831T160000
DTSTAMP:20260423T134434
CREATED:20260122T120851Z
LAST-MODIFIED:20260122T120851Z
UID:72304-1788184800-1788192000@portfolife.hu
SUMMARY:💼 Toborzó Nap a Portfolife-nál - Augusztus 31.
DESCRIPTION:🗓 Toborzó nap részletei:\n📍 Helyszín:1062 Budapest\, Váci út 1–3.Westend Offices – B torony\, 3. emelet \nIdőpont: 14:00-16:00 \n👥 Részvétel: \n\n\nSzemélyesen erősen ajánlott\, hiszen így első kézből ismerkedhetsz meg a csapattal és a vállalati kultúrával. \n\n\nOnline csatlakozási lehetőség is biztosított azoknak\, akik távolabbról vennének részt. \nhttps://us02web.zoom.us/j/85210992822?pwd=rgD1cMfONKabB15CZawVWGKbwJ8Y3a.1 \nMeeting ID: 852 1099 2822\nPasscode: 484433\n\n📌 Megjegyzés:Ha egy meglévő PortfoLife munkatárs ajánlására kerültél kapcsolatba velünk\, számára is ajánlott a személyes jelenlét\, de nem kötelező.
URL:https://portfolife.hu/esemeny/%f0%9f%92%bc-toborzo-nap-a-portfolife-nal-augusztus-31/
LOCATION:1062 Budapest\, Váci út 1–3. Westend Offices – B torony\, 3. emelet
CATEGORIES:Toborzó Nap
ATTACH;FMTTYPE=image/png:https://portfolife.hu/wp-content/uploads/2025/03/2024-tervezes-trening-januar-10-masolata.png
ORGANIZER;CN="Nagy G%C3%A1bor - Portfolife Zrt":MAILTO:nagy.gabor@portfolife.hu
END:VEVENT
BEGIN:VEVENT
DTSTART;VALUE=DATE:20260901
DTEND;VALUE=DATE:20260904
DTSTAMP:20260423T134434
CREATED:20260122T125123Z
LAST-MODIFIED:20260122T125415Z
UID:72343-1788220800-1788479999@portfolife.hu
SUMMARY:Onboarding - Szeptember 01-03.
DESCRIPTION:
URL:https://portfolife.hu/esemeny/onboarding-szeptember-01-03/
LOCATION:1062 Budapest\, Váci út 1–3. Westend Offices – B torony\, 3. emelet
CATEGORIES:Onboarding
ATTACH;FMTTYPE=image/png:https://portfolife.hu/wp-content/uploads/2026/01/Kepernyofoto-2026-01-22-13.37.19.png
ORGANIZER;CN="Nagy G%C3%A1bor - Portfolife Zrt":MAILTO:nagy.gabor@portfolife.hu
END:VEVENT
BEGIN:VEVENT
DTSTART;TZID=Europe/Paris:20260908T090000
DTEND;TZID=Europe/Paris:20260908T100000
DTSTAMP:20260423T134434
CREATED:20260121T122050Z
LAST-MODIFIED:20260121T122050Z
UID:71956-1788858000-1788861600@portfolife.hu
SUMMARY:Szakmai hétindító - Szeptember 08.
DESCRIPTION:Nagy Gábor is inviting you to a scheduled Zoom meeting. \nTopic: Szakmai hétindító\nTime: Sep 8\, 2026 09:00 Budapest\nJoin Zoom Meeting\nhttps://us02web.zoom.us/j/87356011064?pwd=i5fwVM3Ov2uI1p1UXjNkepCBUrjZr9.1 \nMeeting ID: 873 5601 1064\nPasscode: 048329
URL:https://portfolife.hu/esemeny/szakmai-hetindito-szeptember-08/
LOCATION:ONLINE\, Magyarország
CATEGORIES:Szakmai hétindítók
ATTACH;FMTTYPE=image/png:https://portfolife.hu/wp-content/uploads/2023/02/szakmaihetindito.png
ORGANIZER;CN="Nagy G%C3%A1bor - Portfolife Zrt":MAILTO:nagy.gabor@portfolife.hu
END:VEVENT
BEGIN:VEVENT
DTSTART;TZID=Europe/Paris:20260909T150000
DTEND;TZID=Europe/Paris:20260909T163000
DTSTAMP:20260423T134434
CREATED:20260121T141057Z
LAST-MODIFIED:20260121T141057Z
UID:72093-1788966000-1788971400@portfolife.hu
SUMMARY:Hétindító kibeszélő - Szeptember 9.
DESCRIPTION:Nagy Gábor is inviting you to a scheduled Zoom meeting. \nTopic: Hétindító kibeszélő\nTime: Sep 9\, 2026 15:00 Budapest\nJoin Zoom Meeting\nhttps://us02web.zoom.us/j/86117149672?pwd=kMTobRhgq4iuqELhGRGYdL1kV8CwjU.1 \nMeeting ID: 861 1714 9672\nPasscode: 608018
URL:https://portfolife.hu/esemeny/hetindito-kibeszelo-szeptember-9/
LOCATION:ONLINE\, Magyarország
CATEGORIES:Hétindító kibeszélő
ATTACH;FMTTYPE=image/png:https://portfolife.hu/wp-content/uploads/2025/04/2024-tervezes-trening-januar-10-masolata-masolata-3.png
ORGANIZER;CN="Nagy G%C3%A1bor - Portfolife Zrt":MAILTO:nagy.gabor@portfolife.hu
END:VEVENT
BEGIN:VEVENT
DTSTART;TZID=Europe/Paris:20260910T163000
DTEND;TZID=Europe/Paris:20260910T180000
DTSTAMP:20260423T134434
CREATED:20260121T154254Z
LAST-MODIFIED:20260121T154254Z
UID:72196-1789057800-1789063200@portfolife.hu
SUMMARY:Ügyfél workshop – Szeptember 10.
DESCRIPTION:Kedves Ügyfelünk! \nSzeretettel meghívjuk Önt az Ügyfél Workshop eseményünkre\, ahol vezető elemzőnk megválaszolja az Ön által korábban beküldött kérdéseket befektetéseivel kapcsolatban. \nEz az esemény lehetőséget nyújt arra\, hogy: \n\nszakértői választ kapjon befektetéseivel kapcsolatos kérdéseire\,\ntájékozódjon a legfrissebb piaci trendekről\,\njobban megértse portfóliójának hátterét és lehetőségeit.\n\nA csatlakozás részleteivel e-mailben tájékoztatjuk majd! \n 
URL:https://portfolife.hu/esemeny/ugyfel-workshop-szeptember-10/
LOCATION:ONLINE\, Magyarország
CATEGORIES:Tájékoztató/Előadás
ATTACH;FMTTYPE=image/png:https://portfolife.hu/wp-content/uploads/2025/07/ugyfel-workshop.png
ORGANIZER;CN="Nagy G%C3%A1bor - Portfolife Zrt":MAILTO:nagy.gabor@portfolife.hu
END:VEVENT
BEGIN:VEVENT
DTSTART;VALUE=DATE:20260917
DTEND;VALUE=DATE:20260918
DTSTAMP:20260423T134434
CREATED:20260122T122806Z
LAST-MODIFIED:20260122T122806Z
UID:72323-1789603200-1789689599@portfolife.hu
SUMMARY:Tanácsadó elemzés - Szeptember 17.
DESCRIPTION:
URL:https://portfolife.hu/esemeny/tanacsado-elemzes-szeptember-17/
LOCATION:1062 Budapest\, Váci út 1–3. Westend Offices – B torony\, 3. emelet
CATEGORIES:Tanácsadó elemzés
ATTACH;FMTTYPE=image/png:https://portfolife.hu/wp-content/uploads/2026/01/Kepernyofoto-2026-01-22-13.21.22.png
ORGANIZER;CN="Nagy G%C3%A1bor - Portfolife Zrt":MAILTO:nagy.gabor@portfolife.hu
END:VEVENT
BEGIN:VEVENT
DTSTART;VALUE=DATE:20260921
DTEND;VALUE=DATE:20260922
DTSTAMP:20260423T134434
CREATED:20260121T161114Z
LAST-MODIFIED:20260121T161132Z
UID:72224-1789948800-1790035199@portfolife.hu
SUMMARY:Mentori képzés - Szeptember 21.
DESCRIPTION:
URL:https://portfolife.hu/esemeny/mentori-kepzes-szeptember-21/
CATEGORIES:Mentori képzés
ATTACH;FMTTYPE=image/png:https://portfolife.hu/wp-content/uploads/2026/01/Kepernyofoto-2026-01-21-16.57.12.png
END:VEVENT
BEGIN:VEVENT
DTSTART;TZID=Europe/Paris:20260922T090000
DTEND;TZID=Europe/Paris:20260922T100000
DTSTAMP:20260423T134434
CREATED:20260121T122856Z
LAST-MODIFIED:20260121T122856Z
UID:71961-1790067600-1790071200@portfolife.hu
SUMMARY:Szakmai hétindító - Szeptember 22.
DESCRIPTION:Nagy Gábor is inviting you to a scheduled Zoom meeting. \nTopic: Szakmai hétindító\nTime: Sep 22\, 2026 09:00 Budapest\nJoin Zoom Meeting\nhttps://us02web.zoom.us/j/84444067594?pwd=6XucsZnFd2OlAZtOw39B3RawefStGR.1 \nMeeting ID: 844 4406 7594\nPasscode: 833191
URL:https://portfolife.hu/esemeny/szakmai-hetindito-szeptember-22/
LOCATION:ONLINE\, Magyarország
CATEGORIES:Szakmai hétindítók
ATTACH;FMTTYPE=image/png:https://portfolife.hu/wp-content/uploads/2023/02/szakmaihetindito.png
ORGANIZER;CN="Nagy G%C3%A1bor - Portfolife Zrt":MAILTO:nagy.gabor@portfolife.hu
END:VEVENT
BEGIN:VEVENT
DTSTART;TZID=Europe/Paris:20260923T150000
DTEND;TZID=Europe/Paris:20260923T163000
DTSTAMP:20260423T134434
CREATED:20260121T141447Z
LAST-MODIFIED:20260121T141447Z
UID:72102-1790175600-1790181000@portfolife.hu
SUMMARY:Hétindító kibeszélő - Szeptember 23.
DESCRIPTION:Nagy Gábor is inviting you to a scheduled Zoom meeting. \nTopic: Hétindító kibeszélő\nTime: Sep 23\, 2026 15:00 Budapest\nJoin Zoom Meeting\nhttps://us02web.zoom.us/j/89132497293?pwd=FPelPom1cXSVrNgqDSwuKe2uxq6lVX.1 \nMeeting ID: 891 3249 7293\nPasscode: 528267
URL:https://portfolife.hu/esemeny/hetindito-kibeszelo-szeptember-23/
LOCATION:ONLINE\, Magyarország
CATEGORIES:Hétindító kibeszélő
ATTACH;FMTTYPE=image/png:https://portfolife.hu/wp-content/uploads/2025/04/2024-tervezes-trening-januar-10-masolata-masolata-3.png
ORGANIZER;CN="Nagy G%C3%A1bor - Portfolife Zrt":MAILTO:nagy.gabor@portfolife.hu
END:VEVENT
BEGIN:VEVENT
DTSTART;TZID=Europe/Paris:20260924T083000
DTEND;TZID=Europe/Paris:20260924T140000
DTSTAMP:20260423T134434
CREATED:20260121T151320Z
LAST-MODIFIED:20260121T151320Z
UID:72170-1790238600-1790258400@portfolife.hu
SUMMARY:Havi oktatás - Szeptember 24.
DESCRIPTION:Nagy Gábor is inviting you to a scheduled Zoom meeting. \nTopic: Havi oktatás\nTime: Sep 24\, 2026 08:30 Budapest\nJoin Zoom Meeting\nhttps://us02web.zoom.us/j/87645789645?pwd=LOEcPir78p1ORLmmmGWNS2JqOjWZCp.1 \nMeeting ID: 876 4578 9645\nPasscode: 848806 \n  \nMegközelítés: \nA  legegyszerűbb az M0-áson és Budakalász felé. Ha a városból jössz kifelé akkor a Szentendrei úton. \nA BSS Benzinkút előtt kell behajtani a szerviz útra\, majd a bal oldalon található 2. épület Lollipop nyomdánál található BNI irodát keresd. \nParkolási lehetőség a sorompón belül és kívül is díjmentes! 
URL:https://portfolife.hu/esemeny/havi-oktatas-szeptember-24/
LOCATION:2011 Budakalász József Attila utca 75\, József Attila u. 75.\, Budakalász\, Pest\, 2011\, Magyarország
CATEGORIES:Havi oktatások
ATTACH;FMTTYPE=image/png:https://portfolife.hu/wp-content/uploads/2023/02/havioktatas.png
ORGANIZER;CN="Nagy G%C3%A1bor - Portfolife Zrt":MAILTO:nagy.gabor@portfolife.hu
END:VEVENT
BEGIN:VEVENT
DTSTART;TZID=Europe/Paris:20261005T140000
DTEND;TZID=Europe/Paris:20261005T160000
DTSTAMP:20260423T134434
CREATED:20260122T121115Z
LAST-MODIFIED:20260122T121115Z
UID:72309-1791208800-1791216000@portfolife.hu
SUMMARY:💼 Toborzó Nap a Portfolife-nál - Október 05.
DESCRIPTION:🗓 Toborzó nap részletei:\n📍 Helyszín:1062 Budapest\, Váci út 1–3.Westend Offices – B torony\, 3. emelet \nIdőpont: 14:00-16:00 \n👥 Részvétel: \n\n\nSzemélyesen erősen ajánlott\, hiszen így első kézből ismerkedhetsz meg a csapattal és a vállalati kultúrával. \n\n\nOnline csatlakozási lehetőség is biztosított azoknak\, akik távolabbról vennének részt. \nhttps://us02web.zoom.us/j/85210992822?pwd=rgD1cMfONKabB15CZawVWGKbwJ8Y3a.1 \nMeeting ID: 852 1099 2822\nPasscode: 484433\n\n📌 Megjegyzés:Ha egy meglévő PortfoLife munkatárs ajánlására kerültél kapcsolatba velünk\, számára is ajánlott a személyes jelenlét\, de nem kötelező.
URL:https://portfolife.hu/esemeny/%f0%9f%92%bc-toborzo-nap-a-portfolife-nal-oktober-05/
LOCATION:1062 Budapest\, Váci út 1–3. Westend Offices – B torony\, 3. emelet
CATEGORIES:Toborzó Nap
ATTACH;FMTTYPE=image/png:https://portfolife.hu/wp-content/uploads/2025/03/2024-tervezes-trening-januar-10-masolata.png
ORGANIZER;CN="Nagy G%C3%A1bor - Portfolife Zrt":MAILTO:nagy.gabor@portfolife.hu
END:VEVENT
BEGIN:VEVENT
DTSTART;TZID=Europe/Paris:20261006T090000
DTEND;TZID=Europe/Paris:20261006T100000
DTSTAMP:20260423T134434
CREATED:20260121T123249Z
LAST-MODIFIED:20260121T123249Z
UID:71967-1791277200-1791280800@portfolife.hu
SUMMARY:Szakmai hétindító - Október 06.
DESCRIPTION:Nagy Gábor is inviting you to a scheduled Zoom meeting. \nTopic: Szakmai hétindító\nTime: Oct 6\, 2026 09:00 Budapest\nJoin Zoom Meeting\nhttps://us02web.zoom.us/j/85342904108?pwd=zJuLwzIaMGYp6OwHNZqfdFWRxKHNBp.1 \nMeeting ID: 853 4290 4108\nPasscode: 076047
URL:https://portfolife.hu/esemeny/szakmai-hetindito-oktober-06/
LOCATION:ONLINE\, Magyarország
CATEGORIES:Szakmai hétindítók
ATTACH;FMTTYPE=image/png:https://portfolife.hu/wp-content/uploads/2023/02/szakmaihetindito.png
ORGANIZER;CN="Nagy G%C3%A1bor - Portfolife Zrt":MAILTO:nagy.gabor@portfolife.hu
END:VEVENT
BEGIN:VEVENT
DTSTART;TZID=Europe/Paris:20261007T150000
DTEND;TZID=Europe/Paris:20261007T163000
DTSTAMP:20260423T134434
CREATED:20260121T141818Z
LAST-MODIFIED:20260121T141818Z
UID:72107-1791385200-1791390600@portfolife.hu
SUMMARY:Hétindító kibeszélő - Október 07.
DESCRIPTION:Nagy Gábor is inviting you to a scheduled Zoom meeting. \nTopic: Hétindító kibeszélő\nTime: Oct 7\, 2026 15:00 Budapest\nJoin Zoom Meeting\nhttps://us02web.zoom.us/j/83515020954?pwd=eal1d56FWtEPJiYpnWpVeE3ByRp3JT.1 \nMeeting ID: 835 1502 0954\nPasscode: 512108
URL:https://portfolife.hu/esemeny/hetindito-kibeszelo-oktober-07/
LOCATION:ONLINE\, Magyarország
CATEGORIES:Hétindító kibeszélő
ATTACH;FMTTYPE=image/png:https://portfolife.hu/wp-content/uploads/2025/04/2024-tervezes-trening-januar-10-masolata-masolata-3.png
ORGANIZER;CN="Nagy G%C3%A1bor - Portfolife Zrt":MAILTO:nagy.gabor@portfolife.hu
END:VEVENT
BEGIN:VEVENT
DTSTART;VALUE=DATE:20261012
DTEND;VALUE=DATE:20261015
DTSTAMP:20260423T134434
CREATED:20260122T125716Z
LAST-MODIFIED:20260122T125716Z
UID:72348-1791763200-1792022399@portfolife.hu
SUMMARY:Onboarding - Október 12-14.
DESCRIPTION:
URL:https://portfolife.hu/esemeny/onboarding-oktober-12-14/
LOCATION:1062 Budapest\, Váci út 1–3. Westend Offices – B torony\, 3. emelet
CATEGORIES:Onboarding
ATTACH;FMTTYPE=image/png:https://portfolife.hu/wp-content/uploads/2026/01/Kepernyofoto-2026-01-22-13.37.19.png
ORGANIZER;CN="Nagy G%C3%A1bor - Portfolife Zrt":MAILTO:nagy.gabor@portfolife.hu
END:VEVENT
BEGIN:VEVENT
DTSTART;VALUE=DATE:20261019
DTEND;VALUE=DATE:20261020
DTSTAMP:20260423T134434
CREATED:20260121T161328Z
LAST-MODIFIED:20260121T161328Z
UID:72228-1792368000-1792454399@portfolife.hu
SUMMARY:Mentori képzés - Október 19.
DESCRIPTION:
URL:https://portfolife.hu/esemeny/mentori-kepzes-oktober-19/
CATEGORIES:Mentori képzés
ATTACH;FMTTYPE=image/png:https://portfolife.hu/wp-content/uploads/2026/01/Kepernyofoto-2026-01-21-16.57.12.png
END:VEVENT
BEGIN:VEVENT
DTSTART;TZID=Europe/Paris:20261020T090000
DTEND;TZID=Europe/Paris:20261020T100000
DTSTAMP:20260423T134434
CREATED:20260121T123602Z
LAST-MODIFIED:20260121T123602Z
UID:71972-1792486800-1792490400@portfolife.hu
SUMMARY:Szakmai hétindító - Október 20.
DESCRIPTION:Nagy Gábor is inviting you to a scheduled Zoom meeting. \nTopic: Szakmai hétindító\nTime: Oct 20\, 2026 09:00 Budapest\nJoin Zoom Meeting\nhttps://us02web.zoom.us/j/87891417070?pwd=Mdu3oCRMwsAdege9NlzLLaInBwHwtS.1 \nMeeting ID: 878 9141 7070\nPasscode: 102939
URL:https://portfolife.hu/esemeny/szakmai-hetindito-oktober-20/
LOCATION:ONLINE\, Magyarország
CATEGORIES:Szakmai hétindítók
ATTACH;FMTTYPE=image/png:https://portfolife.hu/wp-content/uploads/2023/02/szakmaihetindito.png
ORGANIZER;CN="Nagy G%C3%A1bor - Portfolife Zrt":MAILTO:nagy.gabor@portfolife.hu
END:VEVENT
BEGIN:VEVENT
DTSTART;TZID=Europe/Paris:20261021T150000
DTEND;TZID=Europe/Paris:20261021T163000
DTSTAMP:20260423T134434
CREATED:20260121T142114Z
LAST-MODIFIED:20260121T142114Z
UID:72113-1792594800-1792600200@portfolife.hu
SUMMARY:Hétindító kibeszélő - Október 21.
DESCRIPTION:Nagy Gábor is inviting you to a scheduled Zoom meeting. \nTopic: Hétindító kibeszélő\nTime: Oct 21\, 2026 15:00 Budapest\nJoin Zoom Meeting\nhttps://us02web.zoom.us/j/85496053900?pwd=tZ3HVpkMEsWUlxqMGHypnahUzKARKH.1 \nMeeting ID: 854 9605 3900\nPasscode: 716354
URL:https://portfolife.hu/esemeny/hetindito-kibeszelo-oktober-21/
LOCATION:ONLINE\, Magyarország
CATEGORIES:Hétindító kibeszélő
ATTACH;FMTTYPE=image/png:https://portfolife.hu/wp-content/uploads/2025/04/2024-tervezes-trening-januar-10-masolata-masolata-3.png
ORGANIZER;CN="Nagy G%C3%A1bor - Portfolife Zrt":MAILTO:nagy.gabor@portfolife.hu
END:VEVENT
BEGIN:VEVENT
DTSTART;TZID=Europe/Paris:20261029T083000
DTEND;TZID=Europe/Paris:20261029T140000
DTSTAMP:20260423T134434
CREATED:20260121T152001Z
LAST-MODIFIED:20260121T152001Z
UID:72176-1793262600-1793282400@portfolife.hu
SUMMARY:Havi oktatás - Október 29.
DESCRIPTION:Nagy Gábor is inviting you to a scheduled Zoom meeting. \nTopic: Havi oktatás\nTime: Oct 29\, 2026 08:30 Budapest\nJoin Zoom Meeting\nhttps://us02web.zoom.us/j/84794170956?pwd=WaBKiUOaSGp25Y0V9zXFD8DXVvmNFR.1 \nMeeting ID: 847 9417 0956\nPasscode: 289439 \n  \nMegközelítés: \nA  legegyszerűbb az M0-áson és Budakalász felé. Ha a városból jössz kifelé akkor a Szentendrei úton. \nA BSS Benzinkút előtt kell behajtani a szerviz útra\, majd a bal oldalon található 2. épület Lollipop nyomdánál található BNI irodát keresd. \nParkolási lehetőség a sorompón belül és kívül is díjmentes! 
URL:https://portfolife.hu/esemeny/havi-oktatas-oktober-29/
LOCATION:2011 Budakalász József Attila utca 75\, József Attila u. 75.\, Budakalász\, Pest\, 2011\, Magyarország
CATEGORIES:Havi oktatások
ATTACH;FMTTYPE=image/png:https://portfolife.hu/wp-content/uploads/2023/02/havioktatas.png
ORGANIZER;CN="Nagy G%C3%A1bor - Portfolife Zrt":MAILTO:nagy.gabor@portfolife.hu
END:VEVENT
BEGIN:VEVENT
DTSTART;TZID=Europe/Paris:20261102T140000
DTEND;TZID=Europe/Paris:20261102T160000
DTSTAMP:20260423T134434
CREATED:20260122T121338Z
LAST-MODIFIED:20260122T121338Z
UID:72313-1793628000-1793635200@portfolife.hu
SUMMARY:💼 Toborzó Nap a Portfolife-nál - November 02.
DESCRIPTION:🗓 Toborzó nap részletei:\n📍 Helyszín:1062 Budapest\, Váci út 1–3.Westend Offices – B torony\, 3. emelet \nIdőpont: 14:00-16:00 \n👥 Részvétel: \n\n\nSzemélyesen erősen ajánlott\, hiszen így első kézből ismerkedhetsz meg a csapattal és a vállalati kultúrával. \n\n\nOnline csatlakozási lehetőség is biztosított azoknak\, akik távolabbról vennének részt. \nhttps://us02web.zoom.us/j/85210992822?pwd=rgD1cMfONKabB15CZawVWGKbwJ8Y3a.1 \nMeeting ID: 852 1099 2822\nPasscode: 484433\n\n📌 Megjegyzés:Ha egy meglévő PortfoLife munkatárs ajánlására kerültél kapcsolatba velünk\, számára is ajánlott a személyes jelenlét\, de nem kötelező.
URL:https://portfolife.hu/esemeny/%f0%9f%92%bc-toborzo-nap-a-portfolife-nal-november-02/
LOCATION:1062 Budapest\, Váci út 1–3. Westend Offices – B torony\, 3. emelet
CATEGORIES:Toborzó Nap
ATTACH;FMTTYPE=image/png:https://portfolife.hu/wp-content/uploads/2025/03/2024-tervezes-trening-januar-10-masolata.png
ORGANIZER;CN="Nagy G%C3%A1bor - Portfolife Zrt":MAILTO:nagy.gabor@portfolife.hu
END:VEVENT
BEGIN:VEVENT
DTSTART;TZID=Europe/Paris:20261103T090000
DTEND;TZID=Europe/Paris:20261103T100000
DTSTAMP:20260423T134434
CREATED:20260121T123943Z
LAST-MODIFIED:20260121T123943Z
UID:71977-1793696400-1793700000@portfolife.hu
SUMMARY:Szakmai hétindító - November 3.
DESCRIPTION:Nagy Gábor is inviting you to a scheduled Zoom meeting. \nTopic: Szakmai hétindító\nTime: Nov 3\, 2026 09:00 Budapest\nJoin Zoom Meeting\nhttps://us02web.zoom.us/j/89171562201?pwd=IsLqmbktOz8OLkK0feQ0bJBjYgtpPt.1 \nMeeting ID: 891 7156 2201\nPasscode: 071866
URL:https://portfolife.hu/esemeny/szakmai-hetindito-november-3/
LOCATION:ONLINE\, Magyarország
CATEGORIES:Szakmai hétindítók
ATTACH;FMTTYPE=image/png:https://portfolife.hu/wp-content/uploads/2023/02/szakmaihetindito.png
ORGANIZER;CN="Nagy G%C3%A1bor - Portfolife Zrt":MAILTO:nagy.gabor@portfolife.hu
END:VEVENT
BEGIN:VEVENT
DTSTART;TZID=Europe/Paris:20261104T150000
DTEND;TZID=Europe/Paris:20261104T163000
DTSTAMP:20260423T134434
CREATED:20260121T142438Z
LAST-MODIFIED:20260121T142508Z
UID:72119-1793804400-1793809800@portfolife.hu
SUMMARY:Hétindító kibeszélő - November 04.
DESCRIPTION:Nagy Gábor is inviting you to a scheduled Zoom meeting. \nTopic: Hétindító kibeszélő\nTime: Nov 4\, 2026 15:00 Budapest\nJoin Zoom Meeting\nhttps://us02web.zoom.us/j/89433604304?pwd=MXQsqbnjDBpGKHdCyyt1lSLWXIk0NZ.1 \nMeeting ID: 894 3360 4304\nPasscode: 408418
URL:https://portfolife.hu/esemeny/hetindito-kibeszelo-november-04/
LOCATION:ONLINE\, Magyarország
CATEGORIES:Hétindító kibeszélő
ATTACH;FMTTYPE=image/png:https://portfolife.hu/wp-content/uploads/2025/04/2024-tervezes-trening-januar-10-masolata-masolata-3.png
ORGANIZER;CN="Nagy G%C3%A1bor - Portfolife Zrt":MAILTO:nagy.gabor@portfolife.hu
END:VEVENT
BEGIN:VEVENT
DTSTART;TZID=Europe/Paris:20261105T163000
DTEND;TZID=Europe/Paris:20261105T180000
DTSTAMP:20260423T134434
CREATED:20260121T154549Z
LAST-MODIFIED:20260320T140748Z
UID:72200-1793896200-1793901600@portfolife.hu
SUMMARY:Ügyfél workshop – November 05.
DESCRIPTION:Kedves Ügyfelünk! \nSzeretettel meghívjuk Önt az Ügyfél Workshop eseményünkre\, ahol vezető elemzőnk megválaszolja az Ön által korábban beküldött kérdéseket befektetéseivel kapcsolatban. \nEz az esemény lehetőséget nyújt arra\, hogy: \n\nszakértői választ kapjon befektetéseivel kapcsolatos kérdéseire\,\ntájékozódjon a legfrissebb piaci trendekről\,\njobban megértse portfóliójának hátterét és lehetőségeit.\n\nA csatlakozás részleteivel e-mailben tájékoztatjuk majd! \n 
URL:https://portfolife.hu/esemeny/ugyfel-workshop-november-05/
LOCATION:ONLINE\, Magyarország
CATEGORIES:Tájékoztató/Előadás
ATTACH;FMTTYPE=image/png:https://portfolife.hu/wp-content/uploads/2025/07/ugyfel-workshop.png
ORGANIZER;CN="Nagy G%C3%A1bor - Portfolife Zrt":MAILTO:nagy.gabor@portfolife.hu
END:VEVENT
BEGIN:VEVENT
DTSTART;VALUE=DATE:20261109
DTEND;VALUE=DATE:20261112
DTSTAMP:20260423T134434
CREATED:20260122T125851Z
LAST-MODIFIED:20260122T125851Z
UID:72354-1794182400-1794441599@portfolife.hu
SUMMARY:Onboarding - November 09-11.
DESCRIPTION:
URL:https://portfolife.hu/esemeny/onboarding-november-09-11/
LOCATION:1062 Budapest\, Váci út 1–3. Westend Offices – B torony\, 3. emelet
CATEGORIES:Onboarding
ATTACH;FMTTYPE=image/png:https://portfolife.hu/wp-content/uploads/2026/01/Kepernyofoto-2026-01-22-13.37.19.png
ORGANIZER;CN="Nagy G%C3%A1bor - Portfolife Zrt":MAILTO:nagy.gabor@portfolife.hu
END:VEVENT
END:VCALENDAR