BEGIN:VCALENDAR
VERSION:2.0
PRODID:-//Portfolife - ECPv6.15.14//NONSGML v1.0//EN
CALSCALE:GREGORIAN
METHOD:PUBLISH
X-WR-CALNAME:Portfolife
X-ORIGINAL-URL:https://portfolife.hu
X-WR-CALDESC:Események Portfolife
REFRESH-INTERVAL;VALUE=DURATION:PT1H
X-Robots-Tag:noindex
X-PUBLISHED-TTL:PT1H
BEGIN:VTIMEZONE
TZID:Europe/Paris
BEGIN:DAYLIGHT
TZOFFSETFROM:+0100
TZOFFSETTO:+0200
TZNAME:CEST
DTSTART:20250330T010000
END:DAYLIGHT
BEGIN:STANDARD
TZOFFSETFROM:+0200
TZOFFSETTO:+0100
TZNAME:CET
DTSTART:20251026T010000
END:STANDARD
BEGIN:DAYLIGHT
TZOFFSETFROM:+0100
TZOFFSETTO:+0200
TZNAME:CEST
DTSTART:20260329T010000
END:DAYLIGHT
BEGIN:STANDARD
TZOFFSETFROM:+0200
TZOFFSETTO:+0100
TZNAME:CET
DTSTART:20261025T010000
END:STANDARD
BEGIN:DAYLIGHT
TZOFFSETFROM:+0100
TZOFFSETTO:+0200
TZNAME:CEST
DTSTART:20270328T010000
END:DAYLIGHT
BEGIN:STANDARD
TZOFFSETFROM:+0200
TZOFFSETTO:+0100
TZNAME:CET
DTSTART:20271031T010000
END:STANDARD
END:VTIMEZONE
BEGIN:VEVENT
DTSTART;TZID=Europe/Paris:20260421T090000
DTEND;TZID=Europe/Paris:20260421T100000
DTSTAMP:20260421T061818
CREATED:20260120T153001Z
LAST-MODIFIED:20260120T153001Z
UID:71883-1776762000-1776765600@portfolife.hu
SUMMARY:Szakmai hétindító - Április 21.
DESCRIPTION:Nagy Gábor is inviting you to a scheduled Zoom meeting. \nTopic: Szakmai hétindító\nTime: Apr 21\, 2026 09:00 Budapest\nJoin Zoom Meeting\nhttps://us02web.zoom.us/j/89016654798?pwd=ionbfSo8md5OjhMHKAStZ6rE7LMXUp.1 \nMeeting ID: 890 1665 4798\nPasscode: 284718
URL:https://portfolife.hu/esemeny/szakmai-hetindito-aprilis-21/
LOCATION:ONLINE\, Magyarország
CATEGORIES:Szakmai hétindítók
ATTACH;FMTTYPE=image/png:https://portfolife.hu/wp-content/uploads/2023/02/szakmaihetindito.png
ORGANIZER;CN="Nagy G%C3%A1bor - Portfolife Zrt":MAILTO:nagy.gabor@portfolife.hu
END:VEVENT
BEGIN:VEVENT
DTSTART;TZID=Europe/Paris:20260422T150000
DTEND;TZID=Europe/Paris:20260422T163000
DTSTAMP:20260421T061818
CREATED:20260121T132800Z
LAST-MODIFIED:20260121T132800Z
UID:72036-1776870000-1776875400@portfolife.hu
SUMMARY:Hétindító kibeszélő - Április 22.
DESCRIPTION:Nagy Gábor is inviting you to a scheduled Zoom meeting. \nTopic: Hétindító kibeszélő\nTime: Apr 22\, 2026 15:00 Budapest\nJoin Zoom Meeting\nhttps://us02web.zoom.us/j/88482295518?pwd=vUgrZwG6NWa9xsSiNFAntcq3ajhBXl.1 \nMeeting ID: 884 8229 5518\nPasscode: 471857
URL:https://portfolife.hu/esemeny/hetindito-kibeszelo-aprilis-22/
LOCATION:ONLINE\, Magyarország
CATEGORIES:Hétindító kibeszélő
ATTACH;FMTTYPE=image/png:https://portfolife.hu/wp-content/uploads/2025/04/2024-tervezes-trening-januar-10-masolata-masolata-3.png
ORGANIZER;CN="Nagy G%C3%A1bor - Portfolife Zrt":MAILTO:nagy.gabor@portfolife.hu
END:VEVENT
BEGIN:VEVENT
DTSTART;TZID=Europe/Paris:20260430T083000
DTEND;TZID=Europe/Paris:20260430T140000
DTSTAMP:20260421T061818
CREATED:20260121T145525Z
LAST-MODIFIED:20260331T193801Z
UID:72148-1777537800-1777557600@portfolife.hu
SUMMARY:Havi oktatás - Április 30.
DESCRIPTION:Nagy Gábor is inviting you to a scheduled Zoom meeting. \nTopic: Havi oktatás\nTime: Apr 30\, 2026 08:30 Budapest\nJoin Zoom Meeting\nhttps://us02web.zoom.us/j/89282102454?pwd=j7htAUCa4AbjmcoVaQLcHRYWk0YGEG.1 \nMeeting ID: 892 8210 2454\nPasscode: 842288 \n  \nHelyszín: 1117 Budapest – Dombóvári út 27 – BudaPart Gate irodaház – 2. emelet – Fekete erdő tárgyaló \nAz Irodaház „A” oldalán kell majd bejönni\, a második emeleten a lifttől balra kell fordulni\, majd újra balra. Az üvegajtónál csengetés után beengednek\, a folyosón balra kell tovább menni a Fekete erdő tárgyalóig. \nParkolási lehetőség a Budapart irodaház saját parkolójában a nulla és -1 szinteken! A parkoló a MOL-torony felőli oldalán lesz az épületnek. 
URL:https://portfolife.hu/esemeny/havi-oktatas-aprilis-30/
LOCATION:Budapart Irodaház – 2. emelet – Fekete erdő tárgyaló\, Dombóvári út 27.\, Budapest\, 1117
CATEGORIES:Havi oktatások
ATTACH;FMTTYPE=image/png:https://portfolife.hu/wp-content/uploads/2023/02/havioktatas.png
ORGANIZER;CN="Nagy G%C3%A1bor - Portfolife Zrt":MAILTO:nagy.gabor@portfolife.hu
END:VEVENT
BEGIN:VEVENT
DTSTART;TZID=Europe/Paris:20260504T140000
DTEND;TZID=Europe/Paris:20260504T160000
DTSTAMP:20260421T061818
CREATED:20260122T115827Z
LAST-MODIFIED:20260122T115827Z
UID:72286-1777903200-1777910400@portfolife.hu
SUMMARY:💼 Toborzó Nap a Portfolife-nál - Május 04.
DESCRIPTION:🗓 Toborzó nap részletei:\n📍 Helyszín:1062 Budapest\, Váci út 1–3.Westend Offices – B torony\, 3. emelet \nIdőpont: 14:00-16:00 \n👥 Részvétel: \n\n\nSzemélyesen erősen ajánlott\, hiszen így első kézből ismerkedhetsz meg a csapattal és a vállalati kultúrával. \n\n\nOnline csatlakozási lehetőség is biztosított azoknak\, akik távolabbról vennének részt. \nhttps://us02web.zoom.us/j/85210992822?pwd=rgD1cMfONKabB15CZawVWGKbwJ8Y3a.1 \nMeeting ID: 852 1099 2822\nPasscode: 484433\n\n📌 Megjegyzés:Ha egy meglévő PortfoLife munkatárs ajánlására kerültél kapcsolatba velünk\, számára is ajánlott a személyes jelenlét\, de nem kötelező.
URL:https://portfolife.hu/esemeny/%f0%9f%92%bc-toborzo-nap-a-portfolife-nal-majus-04/
LOCATION:1062 Budapest\, Váci út 1–3. Westend Offices – B torony\, 3. emelet
CATEGORIES:Toborzó Nap
ATTACH;FMTTYPE=image/png:https://portfolife.hu/wp-content/uploads/2025/03/2024-tervezes-trening-januar-10-masolata.png
ORGANIZER;CN="Nagy G%C3%A1bor - Portfolife Zrt":MAILTO:nagy.gabor@portfolife.hu
END:VEVENT
BEGIN:VEVENT
DTSTART;TZID=Europe/Paris:20260505T090000
DTEND;TZID=Europe/Paris:20260505T100000
DTSTAMP:20260421T061818
CREATED:20260120T153312Z
LAST-MODIFIED:20260120T153312Z
UID:71888-1777971600-1777975200@portfolife.hu
SUMMARY:Szakmai hétindító - Május 05.
DESCRIPTION:Nagy Gábor is inviting you to a scheduled Zoom meeting. \nTopic: Szakmai hétindító\nTime: May 5\, 2026 09:00 Budapest\nJoin Zoom Meeting\nhttps://us02web.zoom.us/j/85837053699?pwd=VFbIm2PpBjBje58cuJlLoHUqJEeneQ.1 \nMeeting ID: 858 3705 3699\nPasscode: 601178
URL:https://portfolife.hu/esemeny/szakmai-hetindito-majus-05/
LOCATION:ONLINE\, Magyarország
CATEGORIES:Szakmai hétindítók
ATTACH;FMTTYPE=image/png:https://portfolife.hu/wp-content/uploads/2023/02/szakmaihetindito.png
ORGANIZER;CN="Nagy G%C3%A1bor - Portfolife Zrt":MAILTO:nagy.gabor@portfolife.hu
END:VEVENT
BEGIN:VEVENT
DTSTART;TZID=Europe/Paris:20260506T150000
DTEND;TZID=Europe/Paris:20260506T163000
DTSTAMP:20260421T061818
CREATED:20260121T133313Z
LAST-MODIFIED:20260121T133313Z
UID:72041-1778079600-1778085000@portfolife.hu
SUMMARY:Hétindító kibeszélő - Május 06.
DESCRIPTION:Nagy Gábor is inviting you to a scheduled Zoom meeting. \nTopic: Hétindító kibeszélő\nTime: May 6\, 2026 15:00 Budapest\nJoin Zoom Meeting\nhttps://us02web.zoom.us/j/88971004257?pwd=hEeEygWgXZaJcpdG22VhNIaJqWs9bj.1 \nMeeting ID: 889 7100 4257\nPasscode: 172998
URL:https://portfolife.hu/esemeny/hetindito-kibeszelo-majus-06/
LOCATION:ONLINE\, Magyarország
CATEGORIES:Hétindító kibeszélő
ATTACH;FMTTYPE=image/png:https://portfolife.hu/wp-content/uploads/2025/04/2024-tervezes-trening-januar-10-masolata-masolata-3.png
ORGANIZER;CN="Nagy G%C3%A1bor - Portfolife Zrt":MAILTO:nagy.gabor@portfolife.hu
END:VEVENT
BEGIN:VEVENT
DTSTART;VALUE=DATE:20260511
DTEND;VALUE=DATE:20260514
DTSTAMP:20260421T061818
CREATED:20260122T124727Z
LAST-MODIFIED:20260122T124727Z
UID:72339-1778457600-1778716799@portfolife.hu
SUMMARY:Onboarding - Május 11-13.
DESCRIPTION:
URL:https://portfolife.hu/esemeny/onboarding-majus-11-13/
LOCATION:1062 Budapest\, Váci út 1–3. Westend Offices – B torony\, 3. emelet
CATEGORIES:Onboarding
ATTACH;FMTTYPE=image/png:https://portfolife.hu/wp-content/uploads/2026/01/Kepernyofoto-2026-01-22-13.37.19.png
ORGANIZER;CN="Nagy G%C3%A1bor - Portfolife Zrt":MAILTO:nagy.gabor@portfolife.hu
END:VEVENT
BEGIN:VEVENT
DTSTART;TZID=Europe/Paris:20260514T163000
DTEND;TZID=Europe/Paris:20260514T180000
DTSTAMP:20260421T061818
CREATED:20260121T153913Z
LAST-MODIFIED:20260121T153913Z
UID:72192-1778776200-1778781600@portfolife.hu
SUMMARY:Ügyfél workshop – Május 14.
DESCRIPTION:Kedves Ügyfelünk! \nSzeretettel meghívjuk Önt az Ügyfél Workshop eseményünkre\, ahol vezető elemzőnk megválaszolja az Ön által korábban beküldött kérdéseket befektetéseivel kapcsolatban. \nEz az esemény lehetőséget nyújt arra\, hogy: \n\nszakértői választ kapjon befektetéseivel kapcsolatos kérdéseire\,\ntájékozódjon a legfrissebb piaci trendekről\,\njobban megértse portfóliójának hátterét és lehetőségeit.\n\nA csatlakozás részleteivel e-mailben tájékoztatjuk majd! \n 
URL:https://portfolife.hu/esemeny/ugyfel-workshop-majus-14/
LOCATION:ONLINE\, Magyarország
CATEGORIES:Tájékoztató/Előadás
ATTACH;FMTTYPE=image/png:https://portfolife.hu/wp-content/uploads/2025/07/ugyfel-workshop.png
ORGANIZER;CN="Nagy G%C3%A1bor - Portfolife Zrt":MAILTO:nagy.gabor@portfolife.hu
END:VEVENT
BEGIN:VEVENT
DTSTART;VALUE=DATE:20260518
DTEND;VALUE=DATE:20260519
DTSTAMP:20260421T061818
CREATED:20260121T160628Z
LAST-MODIFIED:20260121T160628Z
UID:72214-1779062400-1779148799@portfolife.hu
SUMMARY:Mentori képzés - Május 18.
DESCRIPTION:
URL:https://portfolife.hu/esemeny/mentori-kepzes-majus-18/
CATEGORIES:Mentori képzés
ATTACH;FMTTYPE=image/png:https://portfolife.hu/wp-content/uploads/2026/01/Kepernyofoto-2026-01-21-16.57.12.png
END:VEVENT
BEGIN:VEVENT
DTSTART;TZID=Europe/Paris:20260519T090000
DTEND;TZID=Europe/Paris:20260519T100000
DTSTAMP:20260421T061818
CREATED:20260120T153537Z
LAST-MODIFIED:20260120T153537Z
UID:71894-1779181200-1779184800@portfolife.hu
SUMMARY:Szakmai hétindító - Május 19.
DESCRIPTION:Nagy Gábor is inviting you to a scheduled Zoom meeting. \nTopic: Szakmai hétindító\nTime: May 19\, 2026 09:00 Budapest\nJoin Zoom Meeting\nhttps://us02web.zoom.us/j/83448075121?pwd=9V55mkvosrWceBjKWdfkLJQMm3pNxo.1 \nMeeting ID: 834 4807 5121\nPasscode: 682005
URL:https://portfolife.hu/esemeny/szakmai-hetindito-majus-19/
LOCATION:ONLINE\, Magyarország
CATEGORIES:Szakmai hétindítók
ATTACH;FMTTYPE=image/png:https://portfolife.hu/wp-content/uploads/2023/02/szakmaihetindito.png
ORGANIZER;CN="Nagy G%C3%A1bor - Portfolife Zrt":MAILTO:nagy.gabor@portfolife.hu
END:VEVENT
BEGIN:VEVENT
DTSTART;TZID=Europe/Paris:20260520T150000
DTEND;TZID=Europe/Paris:20260520T163000
DTSTAMP:20260421T061818
CREATED:20260121T133658Z
LAST-MODIFIED:20260121T133658Z
UID:72047-1779289200-1779294600@portfolife.hu
SUMMARY:Hétindító kibeszélő - Május 20.
DESCRIPTION:Nagy Gábor is inviting you to a scheduled Zoom meeting. \nTopic: Hétindító kibeszélő\nTime: May 20\, 2026 15:00 Budapest\nJoin Zoom Meeting\nhttps://us02web.zoom.us/j/82900776220?pwd=y2zMxEbEVwzFJK4vKSLDPCg0JL4xzO.1 \nMeeting ID: 829 0077 6220\nPasscode: 614258
URL:https://portfolife.hu/esemeny/hetindito-kibeszelo-majus-20/
LOCATION:ONLINE\, Magyarország
CATEGORIES:Hétindító kibeszélő
ATTACH;FMTTYPE=image/png:https://portfolife.hu/wp-content/uploads/2025/04/2024-tervezes-trening-januar-10-masolata-masolata-3.png
ORGANIZER;CN="Nagy G%C3%A1bor - Portfolife Zrt":MAILTO:nagy.gabor@portfolife.hu
END:VEVENT
BEGIN:VEVENT
DTSTART;VALUE=DATE:20260521
DTEND;VALUE=DATE:20260522
DTSTAMP:20260421T061818
CREATED:20260122T122356Z
LAST-MODIFIED:20260122T122504Z
UID:72319-1779321600-1779407999@portfolife.hu
SUMMARY:Tanácsadó elemzés - Május 21.
DESCRIPTION:
URL:https://portfolife.hu/esemeny/tanacsado-elemzes-majus-21/
LOCATION:1062 Budapest\, Váci út 1–3. Westend Offices – B torony\, 3. emelet
CATEGORIES:Tanácsadó elemzés
ATTACH;FMTTYPE=image/png:https://portfolife.hu/wp-content/uploads/2026/01/Kepernyofoto-2026-01-22-13.21.22.png
ORGANIZER;CN="Nagy G%C3%A1bor - Portfolife Zrt":MAILTO:nagy.gabor@portfolife.hu
END:VEVENT
BEGIN:VEVENT
DTSTART;TZID=Europe/Paris:20260528T083000
DTEND;TZID=Europe/Paris:20260528T140000
DTSTAMP:20260421T061818
CREATED:20260121T150418Z
LAST-MODIFIED:20260121T150418Z
UID:72154-1779957000-1779976800@portfolife.hu
SUMMARY:Havi oktatás - Május 28.
DESCRIPTION:Nagy Gábor is inviting you to a scheduled Zoom meeting. \nTopic: Havi oktatás\nTime: May 28\, 2026 08:30 Budapest\nJoin Zoom Meeting\nhttps://us02web.zoom.us/j/86983687707?pwd=zsx5eky8utzIvhh7colUY2KbBeoBGQ.1 \nMeeting ID: 869 8368 7707\nPasscode: 700648 \n  \nMegközelítés: \nA  legegyszerűbb az M0-áson és Budakalász felé. Ha a városból jössz kifelé akkor a Szentendrei úton. \nA BSS Benzinkút előtt kell behajtani a szerviz útra\, majd a bal oldalon található 2. épület Lollipop nyomdánál található BNI irodát keresd. \nParkolási lehetőség a sorompón belül és kívül is díjmentes! 
URL:https://portfolife.hu/esemeny/havi-oktatas-majus-28/
LOCATION:2011 Budakalász József Attila utca 75\, József Attila u. 75.\, Budakalász\, Pest\, 2011\, Magyarország
CATEGORIES:Havi oktatások
ATTACH;FMTTYPE=image/png:https://portfolife.hu/wp-content/uploads/2023/02/havioktatas.png
ORGANIZER;CN="Nagy G%C3%A1bor - Portfolife Zrt":MAILTO:nagy.gabor@portfolife.hu
END:VEVENT
BEGIN:VEVENT
DTSTART;TZID=Europe/Paris:20260601T140000
DTEND;TZID=Europe/Paris:20260601T160000
DTSTAMP:20260421T061818
CREATED:20260122T120107Z
LAST-MODIFIED:20260122T120107Z
UID:72292-1780322400-1780329600@portfolife.hu
SUMMARY:💼 Toborzó Nap a Portfolife-nál - Június 01.
DESCRIPTION:🗓 Toborzó nap részletei:\n📍 Helyszín:1062 Budapest\, Váci út 1–3.Westend Offices – B torony\, 3. emelet \nIdőpont: 14:00-16:00 \n👥 Részvétel: \n\n\nSzemélyesen erősen ajánlott\, hiszen így első kézből ismerkedhetsz meg a csapattal és a vállalati kultúrával. \n\n\nOnline csatlakozási lehetőség is biztosított azoknak\, akik távolabbról vennének részt. \nhttps://us02web.zoom.us/j/85210992822?pwd=rgD1cMfONKabB15CZawVWGKbwJ8Y3a.1 \nMeeting ID: 852 1099 2822\nPasscode: 484433\n\n📌 Megjegyzés:Ha egy meglévő PortfoLife munkatárs ajánlására kerültél kapcsolatba velünk\, számára is ajánlott a személyes jelenlét\, de nem kötelező.
URL:https://portfolife.hu/esemeny/%f0%9f%92%bc-toborzo-nap-a-portfolife-nal-junius-01/
LOCATION:1062 Budapest\, Váci út 1–3. Westend Offices – B torony\, 3. emelet
CATEGORIES:Toborzó Nap
ATTACH;FMTTYPE=image/png:https://portfolife.hu/wp-content/uploads/2025/03/2024-tervezes-trening-januar-10-masolata.png
ORGANIZER;CN="Nagy G%C3%A1bor - Portfolife Zrt":MAILTO:nagy.gabor@portfolife.hu
END:VEVENT
BEGIN:VEVENT
DTSTART;TZID=Europe/Paris:20260602T090000
DTEND;TZID=Europe/Paris:20260602T100000
DTSTAMP:20260421T061818
CREATED:20260120T153903Z
LAST-MODIFIED:20260120T153903Z
UID:71899-1780390800-1780394400@portfolife.hu
SUMMARY:Szakmai hétindító - Június 02.
DESCRIPTION:Nagy Gábor is inviting you to a scheduled Zoom meeting. \nTopic: Szakmai hétindító\nTime: Jun 2\, 2026 09:00 Budapest\nJoin Zoom Meeting\nhttps://us02web.zoom.us/j/86086696398?pwd=5f8DEIAJC6Z7L5RXAEzbuEmocW8OC7.1 \nMeeting ID: 860 8669 6398\nPasscode: 122101
URL:https://portfolife.hu/esemeny/szakmai-hetindito-junius-02/
LOCATION:ONLINE\, Magyarország
CATEGORIES:Szakmai hétindítók
ATTACH;FMTTYPE=image/png:https://portfolife.hu/wp-content/uploads/2023/02/szakmaihetindito.png
ORGANIZER;CN="Nagy G%C3%A1bor - Portfolife Zrt":MAILTO:nagy.gabor@portfolife.hu
END:VEVENT
BEGIN:VEVENT
DTSTART;TZID=Europe/Paris:20260603T150000
DTEND;TZID=Europe/Paris:20260603T163000
DTSTAMP:20260421T061818
CREATED:20260121T134018Z
LAST-MODIFIED:20260121T134018Z
UID:72053-1780498800-1780504200@portfolife.hu
SUMMARY:Hétindító kibeszélő - Június 03.
DESCRIPTION:Nagy Gábor is inviting you to a scheduled Zoom meeting. \nTopic: Hétindító kibeszélő\nTime: Jun 3\, 2026 15:00 Budapest\nJoin Zoom Meeting\nhttps://us02web.zoom.us/j/82813378388?pwd=iLbiK4vH65KPznws7lOOoGNbMZLvPK.1 \nMeeting ID: 828 1337 8388\nPasscode: 319523
URL:https://portfolife.hu/esemeny/hetindito-kibeszelo-junius-03/
LOCATION:ONLINE\, Magyarország
CATEGORIES:Hétindító kibeszélő
ATTACH;FMTTYPE=image/png:https://portfolife.hu/wp-content/uploads/2025/04/2024-tervezes-trening-januar-10-masolata-masolata-3.png
ORGANIZER;CN="Nagy G%C3%A1bor - Portfolife Zrt":MAILTO:nagy.gabor@portfolife.hu
END:VEVENT
BEGIN:VEVENT
DTSTART;VALUE=DATE:20260608
DTEND;VALUE=DATE:20260611
DTSTAMP:20260421T061818
CREATED:20260420T113753Z
LAST-MODIFIED:20260420T113753Z
UID:74315-1780876800-1781135999@portfolife.hu
SUMMARY:Onboarding - Június 8-10.
DESCRIPTION:
URL:https://portfolife.hu/esemeny/onboarding-junius-8-10/
LOCATION:1062 Budapest\, Váci út 1–3. Westend Offices – B torony\, 3. emelet
CATEGORIES:Onboarding
ATTACH;FMTTYPE=image/png:https://portfolife.hu/wp-content/uploads/2026/01/Kepernyofoto-2026-01-22-13.37.19.png
ORGANIZER;CN="Nagy G%C3%A1bor - Portfolife Zrt":MAILTO:nagy.gabor@portfolife.hu
END:VEVENT
BEGIN:VEVENT
DTSTART;TZID=Europe/Paris:20260616T090000
DTEND;TZID=Europe/Paris:20260616T100000
DTSTAMP:20260421T061818
CREATED:20260120T154145Z
LAST-MODIFIED:20260120T154145Z
UID:71904-1781600400-1781604000@portfolife.hu
SUMMARY:Szakmai hétindító - Június 16.
DESCRIPTION:Nagy Gábor is inviting you to a scheduled Zoom meeting. \nTopic: Szakmai hétindító\nTime: Jun 16\, 2026 09:00 Budapest\nJoin Zoom Meeting\nhttps://us02web.zoom.us/j/81678123675?pwd=OonjEfoaHwLBT0qTPmEexEB0bvK6Uk.1 \nMeeting ID: 816 7812 3675\nPasscode: 302546
URL:https://portfolife.hu/esemeny/szakmai-hetindito-junius-16/
LOCATION:ONLINE\, Magyarország
CATEGORIES:Szakmai hétindítók
ATTACH;FMTTYPE=image/png:https://portfolife.hu/wp-content/uploads/2023/02/szakmaihetindito.png
ORGANIZER;CN="Nagy G%C3%A1bor - Portfolife Zrt":MAILTO:nagy.gabor@portfolife.hu
END:VEVENT
BEGIN:VEVENT
DTSTART;TZID=Europe/Paris:20260617T150000
DTEND;TZID=Europe/Paris:20260617T163000
DTSTAMP:20260421T061818
CREATED:20260121T134338Z
LAST-MODIFIED:20260121T134338Z
UID:72058-1781708400-1781713800@portfolife.hu
SUMMARY:Hétindító kibeszélő - Június 17.
DESCRIPTION:Nagy Gábor is inviting you to a scheduled Zoom meeting. \nTopic: Hétindító kibeszélő\nTime: Jun 17\, 2026 15:00 Budapest\nJoin Zoom Meeting\nhttps://us02web.zoom.us/j/84726221383?pwd=ScayGpJuInO2IwhtO8l7tZffScDujM.1 \nMeeting ID: 847 2622 1383\nPasscode: 432925
URL:https://portfolife.hu/esemeny/hetindito-kibeszelo-junius-17/
LOCATION:ONLINE\, Magyarország
CATEGORIES:Hétindító kibeszélő
ATTACH;FMTTYPE=image/png:https://portfolife.hu/wp-content/uploads/2025/04/2024-tervezes-trening-januar-10-masolata-masolata-3.png
ORGANIZER;CN="Nagy G%C3%A1bor - Portfolife Zrt":MAILTO:nagy.gabor@portfolife.hu
END:VEVENT
BEGIN:VEVENT
DTSTART;VALUE=DATE:20260619
DTEND;VALUE=DATE:20260620
DTSTAMP:20260421T061818
CREATED:20260121T160855Z
LAST-MODIFIED:20260121T160855Z
UID:72220-1781827200-1781913599@portfolife.hu
SUMMARY:Mentori képzés - Június 19.
DESCRIPTION:
URL:https://portfolife.hu/esemeny/mentori-kepzes-junius-19/
CATEGORIES:Mentori képzés
ATTACH;FMTTYPE=image/png:https://portfolife.hu/wp-content/uploads/2026/01/Kepernyofoto-2026-01-21-16.57.12.png
END:VEVENT
BEGIN:VEVENT
DTSTART;TZID=Europe/Paris:20260625T083000
DTEND;TZID=Europe/Paris:20260625T140000
DTSTAMP:20260421T061818
CREATED:20260121T150855Z
LAST-MODIFIED:20260121T150855Z
UID:72165-1782376200-1782396000@portfolife.hu
SUMMARY:Havi oktatás - Június 25.
DESCRIPTION:Nagy Gábor is inviting you to a scheduled Zoom meeting. \nTopic: Havi oktatás\nTime: Jun 25\, 2026 08:30 Budapest\nJoin Zoom Meeting\nhttps://us02web.zoom.us/j/89569277761?pwd=sTixWapbuE60rm2OBjmGTJuQXr0ufr.1 \nMeeting ID: 895 6927 7761\nPasscode: 552856 \n  \nMegközelítés: \nA  legegyszerűbb az M0-áson és Budakalász felé. Ha a városból jössz kifelé akkor a Szentendrei úton. \nA BSS Benzinkút előtt kell behajtani a szerviz útra\, majd a bal oldalon található 2. épület Lollipop nyomdánál található BNI irodát keresd. \nParkolási lehetőség a sorompón belül és kívül is díjmentes! 
URL:https://portfolife.hu/esemeny/havi-oktatas-junius-25/
LOCATION:2011 Budakalász József Attila utca 75\, József Attila u. 75.\, Budakalász\, Pest\, 2011\, Magyarország
CATEGORIES:Havi oktatások
ATTACH;FMTTYPE=image/png:https://portfolife.hu/wp-content/uploads/2023/02/havioktatas.png
ORGANIZER;CN="Nagy G%C3%A1bor - Portfolife Zrt":MAILTO:nagy.gabor@portfolife.hu
END:VEVENT
BEGIN:VEVENT
DTSTART;TZID=Europe/Paris:20260630T090000
DTEND;TZID=Europe/Paris:20260630T100000
DTSTAMP:20260421T061818
CREATED:20260120T154423Z
LAST-MODIFIED:20260120T154423Z
UID:71909-1782810000-1782813600@portfolife.hu
SUMMARY:Szakmai hétindító - Június 30.
DESCRIPTION:Nagy Gábor is inviting you to a scheduled Zoom meeting. \nTopic: Szakmai hétindító\nTime: Jun 30\, 2026 09:00 Budapest\nJoin Zoom Meeting\nhttps://us02web.zoom.us/j/84332274743?pwd=NHE3K0n5JLX0d2eOaepepaY3avbf70.1 \nMeeting ID: 843 3227 4743\nPasscode: 478539
URL:https://portfolife.hu/esemeny/szakmai-hetindito-junius-30/
LOCATION:ONLINE\, Magyarország
CATEGORIES:Szakmai hétindítók
ATTACH;FMTTYPE=image/png:https://portfolife.hu/wp-content/uploads/2023/02/szakmaihetindito.png
ORGANIZER;CN="Nagy G%C3%A1bor - Portfolife Zrt":MAILTO:nagy.gabor@portfolife.hu
END:VEVENT
BEGIN:VEVENT
DTSTART;TZID=Europe/Paris:20260701T150000
DTEND;TZID=Europe/Paris:20260701T163000
DTSTAMP:20260421T061818
CREATED:20260121T134832Z
LAST-MODIFIED:20260121T134832Z
UID:72063-1782918000-1782923400@portfolife.hu
SUMMARY:Hétindító kibeszélő - Július 01.
DESCRIPTION:Nagy Gábor is inviting you to a scheduled Zoom meeting. \nTopic: Hétindító kibeszélő\nTime: Jul 1\, 2026 15:00 Budapest\nJoin Zoom Meeting\nhttps://us02web.zoom.us/j/85456694996?pwd=UX4tWvQHlwGmR30EVahD1hOMhllBt4.1 \nMeeting ID: 854 5669 4996\nPasscode: 552231
URL:https://portfolife.hu/esemeny/hetindito-kibeszelo-julius-01/
LOCATION:ONLINE\, Magyarország
CATEGORIES:Hétindító kibeszélő
ATTACH;FMTTYPE=image/png:https://portfolife.hu/wp-content/uploads/2025/04/2024-tervezes-trening-januar-10-masolata-masolata-3.png
ORGANIZER;CN="Nagy G%C3%A1bor - Portfolife Zrt":MAILTO:nagy.gabor@portfolife.hu
END:VEVENT
BEGIN:VEVENT
DTSTART;TZID=Europe/Paris:20260706T140000
DTEND;TZID=Europe/Paris:20260706T160000
DTSTAMP:20260421T061818
CREATED:20260122T120347Z
LAST-MODIFIED:20260122T120347Z
UID:72296-1783346400-1783353600@portfolife.hu
SUMMARY:💼 Toborzó Nap a Portfolife-nál - Július 06.
DESCRIPTION:🗓 Toborzó nap részletei:\n📍 Helyszín:1062 Budapest\, Váci út 1–3.Westend Offices – B torony\, 3. emelet \nIdőpont: 14:00-16:00 \n👥 Részvétel: \n\n\nSzemélyesen erősen ajánlott\, hiszen így első kézből ismerkedhetsz meg a csapattal és a vállalati kultúrával. \n\n\nOnline csatlakozási lehetőség is biztosított azoknak\, akik távolabbról vennének részt. \nhttps://us02web.zoom.us/j/85210992822?pwd=rgD1cMfONKabB15CZawVWGKbwJ8Y3a.1 \nMeeting ID: 852 1099 2822\nPasscode: 484433\n\n📌 Megjegyzés:Ha egy meglévő PortfoLife munkatárs ajánlására kerültél kapcsolatba velünk\, számára is ajánlott a személyes jelenlét\, de nem kötelező.
URL:https://portfolife.hu/esemeny/%f0%9f%92%bc-toborzo-nap-a-portfolife-nal-julius-06/
LOCATION:1062 Budapest\, Váci út 1–3. Westend Offices – B torony\, 3. emelet
CATEGORIES:Toborzó Nap
ATTACH;FMTTYPE=image/png:https://portfolife.hu/wp-content/uploads/2025/03/2024-tervezes-trening-januar-10-masolata.png
ORGANIZER;CN="Nagy G%C3%A1bor - Portfolife Zrt":MAILTO:nagy.gabor@portfolife.hu
END:VEVENT
BEGIN:VEVENT
DTSTART;TZID=Europe/Paris:20260714T090000
DTEND;TZID=Europe/Paris:20260714T100000
DTSTAMP:20260421T061818
CREATED:20260121T120310Z
LAST-MODIFIED:20260121T120310Z
UID:71930-1784019600-1784023200@portfolife.hu
SUMMARY:Szakmai hétindító - Július 14.
DESCRIPTION:Nagy Gábor is inviting you to a scheduled Zoom meeting. \nTopic: Szakmai hétindító\nTime: Jul 14\, 2026 09:00 Budapest\nJoin Zoom Meeting\nhttps://us02web.zoom.us/j/88589346872?pwd=fPyhj3MHIxDcpaKioGprKTdRCoKbuy.1 \nMeeting ID: 885 8934 6872\nPasscode: 281658
URL:https://portfolife.hu/esemeny/szakmai-hetindito-julius-14/
LOCATION:ONLINE\, Magyarország
CATEGORIES:Szakmai hétindítók
ATTACH;FMTTYPE=image/png:https://portfolife.hu/wp-content/uploads/2023/02/szakmaihetindito.png
ORGANIZER;CN="Nagy G%C3%A1bor - Portfolife Zrt":MAILTO:nagy.gabor@portfolife.hu
END:VEVENT
BEGIN:VEVENT
DTSTART;TZID=Europe/Paris:20260715T150000
DTEND;TZID=Europe/Paris:20260715T163000
DTSTAMP:20260421T061818
CREATED:20260121T135137Z
LAST-MODIFIED:20260121T135137Z
UID:72069-1784127600-1784133000@portfolife.hu
SUMMARY:Hétindító kibeszélő - Július 15.
DESCRIPTION:Nagy Gábor is inviting you to a scheduled Zoom meeting. \nTopic: Hétindító kibeszélő\nTime: Jul 15\, 2026 15:00 Budapest\nJoin Zoom Meeting\nhttps://us02web.zoom.us/j/84665894447?pwd=V0DyvLNkbarPTY5dB07WS084WiZdSb.1 \nMeeting ID: 846 6589 4447\nPasscode: 413009
URL:https://portfolife.hu/esemeny/hetindito-kibeszelo-julius-15/
LOCATION:ONLINE\, Magyarország
CATEGORIES:Hétindító kibeszélő
ATTACH;FMTTYPE=image/png:https://portfolife.hu/wp-content/uploads/2025/04/2024-tervezes-trening-januar-10-masolata-masolata-3.png
ORGANIZER;CN="Nagy G%C3%A1bor - Portfolife Zrt":MAILTO:nagy.gabor@portfolife.hu
END:VEVENT
BEGIN:VEVENT
DTSTART;TZID=Europe/Paris:20260728T090000
DTEND;TZID=Europe/Paris:20260728T100000
DTSTAMP:20260421T061818
CREATED:20260121T120920Z
LAST-MODIFIED:20260121T120920Z
UID:71936-1785229200-1785232800@portfolife.hu
SUMMARY:Szakmai hétindító - Július 28.
DESCRIPTION:Nagy Gábor is inviting you to a scheduled Zoom meeting. \nTopic: Szakmai hétindító\nTime: Jul 28\, 2026 09:00 Budapest\nJoin Zoom Meeting\nhttps://us02web.zoom.us/j/87888969007?pwd=QkAjKwP1eCCPvaUkIiBe7FZQi9WoHc.1 \nMeeting ID: 878 8896 9007\nPasscode: 544672
URL:https://portfolife.hu/esemeny/szakmai-hetindito-julius-28/
LOCATION:ONLINE\, Magyarország
CATEGORIES:Szakmai hétindítók
ATTACH;FMTTYPE=image/png:https://portfolife.hu/wp-content/uploads/2023/02/szakmaihetindito.png
ORGANIZER;CN="Nagy G%C3%A1bor - Portfolife Zrt":MAILTO:nagy.gabor@portfolife.hu
END:VEVENT
BEGIN:VEVENT
DTSTART;TZID=Europe/Paris:20260729T150000
DTEND;TZID=Europe/Paris:20260729T163000
DTSTAMP:20260421T061818
CREATED:20260121T135640Z
LAST-MODIFIED:20260121T135640Z
UID:72074-1785337200-1785342600@portfolife.hu
SUMMARY:Hétindító kibeszélő - Július 29.
DESCRIPTION:Nagy Gábor is inviting you to a scheduled Zoom meeting. \nTopic: Hétindító kibeszélő\nTime: Jul 29\, 2026 15:00 Budapest\nJoin Zoom Meeting\nhttps://us02web.zoom.us/j/89177404830?pwd=or6cAjWcgVRqkPQJrewaTLtKL72faQ.1 \nMeeting ID: 891 7740 4830\nPasscode: 057320
URL:https://portfolife.hu/esemeny/hetindito-kibeszelo-julius-29/
LOCATION:ONLINE\, Magyarország
CATEGORIES:Hétindító kibeszélő
ATTACH;FMTTYPE=image/png:https://portfolife.hu/wp-content/uploads/2025/04/2024-tervezes-trening-januar-10-masolata-masolata-3.png
ORGANIZER;CN="Nagy G%C3%A1bor - Portfolife Zrt":MAILTO:nagy.gabor@portfolife.hu
END:VEVENT
BEGIN:VEVENT
DTSTART;TZID=Europe/Paris:20260803T140000
DTEND;TZID=Europe/Paris:20260803T160000
DTSTAMP:20260421T061818
CREATED:20260122T120645Z
LAST-MODIFIED:20260122T120645Z
UID:72300-1785765600-1785772800@portfolife.hu
SUMMARY:💼 Toborzó Nap a Portfolife-nál - Augusztus 03.
DESCRIPTION:🗓 Toborzó nap részletei:\n📍 Helyszín:1062 Budapest\, Váci út 1–3.Westend Offices – B torony\, 3. emelet \nIdőpont: 14:00-16:00 \n👥 Részvétel: \n\n\nSzemélyesen erősen ajánlott\, hiszen így első kézből ismerkedhetsz meg a csapattal és a vállalati kultúrával. \n\n\nOnline csatlakozási lehetőség is biztosított azoknak\, akik távolabbról vennének részt. \nhttps://us02web.zoom.us/j/85210992822?pwd=rgD1cMfONKabB15CZawVWGKbwJ8Y3a.1 \nMeeting ID: 852 1099 2822\nPasscode: 484433\n\n📌 Megjegyzés:Ha egy meglévő PortfoLife munkatárs ajánlására kerültél kapcsolatba velünk\, számára is ajánlott a személyes jelenlét\, de nem kötelező.
URL:https://portfolife.hu/esemeny/%f0%9f%92%bc-toborzo-nap-a-portfolife-nal-augusztus-03/
LOCATION:1062 Budapest\, Váci út 1–3. Westend Offices – B torony\, 3. emelet
CATEGORIES:Toborzó Nap
ATTACH;FMTTYPE=image/png:https://portfolife.hu/wp-content/uploads/2025/03/2024-tervezes-trening-januar-10-masolata.png
ORGANIZER;CN="Nagy G%C3%A1bor - Portfolife Zrt":MAILTO:nagy.gabor@portfolife.hu
END:VEVENT
BEGIN:VEVENT
DTSTART;TZID=Europe/Paris:20260811T090000
DTEND;TZID=Europe/Paris:20260811T100000
DTSTAMP:20260421T061818
CREATED:20260121T121325Z
LAST-MODIFIED:20260121T121325Z
UID:71944-1786438800-1786442400@portfolife.hu
SUMMARY:Szakmai hétindító - Augusztus 11.
DESCRIPTION:Nagy Gábor is inviting you to a scheduled Zoom meeting. \nTopic: Szakmai hétindító\nTime: Jan 21\, 2026 14:00 Budapest\nJoin Zoom Meeting\nhttps://us02web.zoom.us/j/88919807342?pwd=52MO9azzNSniTH7nWmycMhagKIneya.1 \nMeeting ID: 889 1980 7342\nPasscode: 121439
URL:https://portfolife.hu/esemeny/szakmai-hetindito-augusztus-11/
LOCATION:ONLINE\, Magyarország
CATEGORIES:Szakmai hétindítók
ATTACH;FMTTYPE=image/png:https://portfolife.hu/wp-content/uploads/2023/02/szakmaihetindito.png
ORGANIZER;CN="Nagy G%C3%A1bor - Portfolife Zrt":MAILTO:nagy.gabor@portfolife.hu
END:VEVENT
END:VCALENDAR