BEGIN:VCALENDAR
VERSION:2.0
PRODID:-//Portfolife - ECPv6.15.14//NONSGML v1.0//EN
CALSCALE:GREGORIAN
METHOD:PUBLISH
X-ORIGINAL-URL:https://portfolife.hu
X-WR-CALDESC:Események Portfolife
REFRESH-INTERVAL;VALUE=DURATION:PT1H
X-Robots-Tag:noindex
X-PUBLISHED-TTL:PT1H
BEGIN:VTIMEZONE
TZID:Europe/Paris
BEGIN:DAYLIGHT
TZOFFSETFROM:+0100
TZOFFSETTO:+0200
TZNAME:CEST
DTSTART:20240331T010000
END:DAYLIGHT
BEGIN:STANDARD
TZOFFSETFROM:+0200
TZOFFSETTO:+0100
TZNAME:CET
DTSTART:20241027T010000
END:STANDARD
BEGIN:DAYLIGHT
TZOFFSETFROM:+0100
TZOFFSETTO:+0200
TZNAME:CEST
DTSTART:20250330T010000
END:DAYLIGHT
BEGIN:STANDARD
TZOFFSETFROM:+0200
TZOFFSETTO:+0100
TZNAME:CET
DTSTART:20251026T010000
END:STANDARD
BEGIN:DAYLIGHT
TZOFFSETFROM:+0100
TZOFFSETTO:+0200
TZNAME:CEST
DTSTART:20260329T010000
END:DAYLIGHT
BEGIN:STANDARD
TZOFFSETFROM:+0200
TZOFFSETTO:+0100
TZNAME:CET
DTSTART:20261025T010000
END:STANDARD
END:VTIMEZONE
BEGIN:VEVENT
DTSTART;TZID=Europe/Paris:20251103T140000
DTEND;TZID=Europe/Paris:20251103T160000
DTSTAMP:20260424T033509
CREATED:20250806T120602Z
LAST-MODIFIED:20250806T120602Z
UID:58024-1762178400-1762185600@portfolife.hu
SUMMARY:💼 Toborzó Nap a Portfolife-nál - November 3.
DESCRIPTION:🗓 Toborzó nap részletei:\n📍 Helyszín:1062 Budapest\, Váci út 1–3.Westend Offices – B torony\, 3. emelet \nIdőpont: 14:00-16:00 \n👥 Részvétel: \n\n\nSzemélyesen erősen ajánlott\, hiszen így első kézből ismerkedhetsz meg a csapattal és a vállalati kultúrával. \n\n\nOnline csatlakozási lehetőség is biztosított azoknak\, akik távolabbról vennének részt. \nhttps://us02web.zoom.us/j/85210992822?pwd=rgD1cMfONKabB15CZawVWGKbwJ8Y3a.1 \nMeeting ID: 852 1099 2822\nPasscode: 484433\n\n📌 Megjegyzés:Ha egy meglévő Portfolife munkatárs ajánlására kerültél kapcsolatba velünk\, számára is ajánlott a személyes jelenlét\, de nem kötelező.
URL:https://portfolife.hu/esemeny/%f0%9f%92%bc-toborzo-nap-a-portfolife-nal-november-3/
LOCATION:1062 Budapest\, Váci út 1–3. Westend Offices – B torony\, 3. emelet
CATEGORIES:Toborzó Nap
ATTACH;FMTTYPE=image/png:https://portfolife.hu/wp-content/uploads/2025/03/2024-tervezes-trening-januar-10-masolata.png
ORGANIZER;CN="Nagy G%C3%A1bor - Portfolife Zrt":MAILTO:nagy.gabor@portfolife.hu
END:VEVENT
BEGIN:VEVENT
DTSTART;TZID=Europe/Paris:20251104T090000
DTEND;TZID=Europe/Paris:20251104T100000
DTSTAMP:20260424T033509
CREATED:20250806T131929Z
LAST-MODIFIED:20250806T131929Z
UID:58080-1762246800-1762250400@portfolife.hu
SUMMARY:Szakmai hétindító - November 4.
DESCRIPTION:Nagy Gábor is inviting you to a scheduled Zoom meeting. \nTopic: Szakmai hétindító\nTime: Nov 4\, 2025 09:00 Budapest\nJoin Zoom Meeting\nhttps://us02web.zoom.us/j/83662704095?pwd=1fdUuabo0I3yIxp3MNcwC20llwhS0q.1 \nMeeting ID: 836 6270 4095\nPasscode: 394121
URL:https://portfolife.hu/esemeny/szakmai-hetindito-november-4/
LOCATION:ONLINE\, Magyarország
CATEGORIES:Szakmai hétindítók
ATTACH;FMTTYPE=image/png:https://portfolife.hu/wp-content/uploads/2023/02/szakmaihetindito.png
ORGANIZER;CN="Nagy G%C3%A1bor - Portfolife Zrt":MAILTO:nagy.gabor@portfolife.hu
END:VEVENT
BEGIN:VEVENT
DTSTART;TZID=Europe/Paris:20251105T150000
DTEND;TZID=Europe/Paris:20251105T163000
DTSTAMP:20260424T033509
CREATED:20250806T132205Z
LAST-MODIFIED:20250806T132205Z
UID:58083-1762354800-1762360200@portfolife.hu
SUMMARY:Hétindító kibeszélő - November 5.
DESCRIPTION:Nagy Gábor is inviting you to a scheduled Zoom meeting. \nTopic: Hétindító kibeszélő\nTime: Nov 5\, 2025 15:00 Budapest\nJoin Zoom Meeting\nhttps://us02web.zoom.us/j/85389118352?pwd=8Pa1s49M29biliac2u4aS4T5xafcel.1 \nMeeting ID: 853 8911 8352\nPasscode: 137131
URL:https://portfolife.hu/esemeny/hetindito-kibeszelo-november-5/
LOCATION:ONLINE\, Magyarország
CATEGORIES:Hétindító kibeszélő
ATTACH;FMTTYPE=image/png:https://portfolife.hu/wp-content/uploads/2025/04/2024-tervezes-trening-januar-10-masolata-masolata-3.png
ORGANIZER;CN="Nagy G%C3%A1bor - Portfolife Zrt":MAILTO:nagy.gabor@portfolife.hu
END:VEVENT
BEGIN:VEVENT
DTSTART;TZID=Europe/Paris:20251106T163000
DTEND;TZID=Europe/Paris:20251106T180000
DTSTAMP:20260424T033509
CREATED:20250806T131637Z
LAST-MODIFIED:20251106T131121Z
UID:58077-1762446600-1762452000@portfolife.hu
SUMMARY:Ügyfél workshop – November 6.
DESCRIPTION:Kedves Ügyfelünk! \nSzeretettel meghívjuk Önt az első Ügyfél Workshop eseményünkre\, ahol vezető elemzőnk megválaszolja az Ön által korábban beküldött kérdéseket befektetéseivel kapcsolatban. \nEz az esemény lehetőséget nyújt arra\, hogy: \n\nszakértői választ kapjon befektetéseivel kapcsolatos kérdéseire\,\ntájékozódjon a legfrissebb piaci trendekről\,\njobban megértse portfóliójának hátterét és lehetőségeit.\n\nCsatlakozni az alábbi gomb megnyomásával tud: \nCSATLAKOZOM AZ ELŐADÁSHOZ\nMeeting ID: 893 6401 4084\nPasscode: 147319 \n 
URL:https://portfolife.hu/esemeny/ugyfel-workshop-november-6/
LOCATION:ONLINE\, Magyarország
CATEGORIES:Tájékoztató/Előadás
ATTACH;FMTTYPE=image/png:https://portfolife.hu/wp-content/uploads/2025/07/ugyfel-workshop.png
ORGANIZER;CN="Nagy G%C3%A1bor - Portfolife Zrt":MAILTO:nagy.gabor@portfolife.hu
END:VEVENT
BEGIN:VEVENT
DTSTART;TZID=Europe/Paris:20251118T090000
DTEND;TZID=Europe/Paris:20251118T100000
DTSTAMP:20260424T033509
CREATED:20250806T133103Z
LAST-MODIFIED:20250806T133103Z
UID:58090-1763456400-1763460000@portfolife.hu
SUMMARY:Szakmai hétindító - November 18.
DESCRIPTION:Nagy Gábor is inviting you to a scheduled Zoom meeting. \nTopic: Szakmai hétindító\nTime: Nov 18\, 2025 09:00 Budapest\nJoin Zoom Meeting\nhttps://us02web.zoom.us/j/82392667857?pwd=ywG3loIReBZX1eFU2NNz2RKVvZZPI2.1 \nMeeting ID: 823 9266 7857\nPasscode: 256615
URL:https://portfolife.hu/esemeny/szakmai-hetindito-november-18/
LOCATION:ONLINE\, Magyarország
CATEGORIES:Szakmai hétindítók
ATTACH;FMTTYPE=image/png:https://portfolife.hu/wp-content/uploads/2023/02/szakmaihetindito.png
ORGANIZER;CN="Nagy G%C3%A1bor - Portfolife Zrt":MAILTO:nagy.gabor@portfolife.hu
END:VEVENT
BEGIN:VEVENT
DTSTART;TZID=Europe/Paris:20251119T150000
DTEND;TZID=Europe/Paris:20251119T163000
DTSTAMP:20260424T033509
CREATED:20250806T133403Z
LAST-MODIFIED:20250806T133403Z
UID:58093-1763564400-1763569800@portfolife.hu
SUMMARY:Hétindító kibeszélő - November 19.
DESCRIPTION:Nagy Gábor is inviting you to a scheduled Zoom meeting. \nTopic: Hétindító kibeszélő\nTime: Nov 19\, 2025 15:00 Budapest\nJoin Zoom Meeting\nhttps://us02web.zoom.us/j/87353894488?pwd=P9cPwS4Xl4OfFP2UwtjBO928fpPFdA.1 \nMeeting ID: 873 5389 4488\nPasscode: 686886
URL:https://portfolife.hu/esemeny/hetindito-kibeszelo-november-19/
LOCATION:ONLINE\, Magyarország
CATEGORIES:Hétindító kibeszélő
ATTACH;FMTTYPE=image/png:https://portfolife.hu/wp-content/uploads/2025/04/2024-tervezes-trening-januar-10-masolata-masolata-3.png
ORGANIZER;CN="Nagy G%C3%A1bor - Portfolife Zrt":MAILTO:nagy.gabor@portfolife.hu
END:VEVENT
BEGIN:VEVENT
DTSTART;TZID=Europe/Paris:20251120T090000
DTEND;TZID=Europe/Paris:20251120T103000
DTSTAMP:20260424T033509
CREATED:20250806T132648Z
LAST-MODIFIED:20250806T132648Z
UID:58087-1763629200-1763634600@portfolife.hu
SUMMARY:Elemzői oktatás - November 20.
DESCRIPTION:Kedves Kollégák! \nszeretettel meghívunk titeket a harmadik Elemzői oktatásra\, amelyen Kiss Csaba az elemzési alapismereteket mutatja be nektek. Célunk\, hogy magabiztosságot biztosítsunk nektek a befektetések kezeléséhez és értelmezéséhez. A megszerzett tudást könnyen hasznosíthatjátok a WCP látogatások során. \n➡️ Trend elemzés\, Elliott hullám\, P/E mutató\, Fundamentalis számok \nNagy Gábor is inviting you to a scheduled Zoom meeting. \nTopic: Elemzői oktatás\nTime: Nov 20\, 2025 09:00 Budapest\nJoin Zoom Meeting\nhttps://us02web.zoom.us/j/84667740276?pwd=ufxlYb7Acwbt0YQoNXJBMHShmG5CTY.1 \nMeeting ID: 846 6774 0276\nPasscode: 295870
URL:https://portfolife.hu/esemeny/elemzoi-oktatas-november-20/
LOCATION:ONLINE\, Magyarország
CATEGORIES:Elemzői oktatás
ATTACH;FMTTYPE=image/png:https://portfolife.hu/wp-content/uploads/2025/05/Elemzoi-oktatas.png
ORGANIZER;CN="Nagy G%C3%A1bor - Portfolife Zrt":MAILTO:nagy.gabor@portfolife.hu
END:VEVENT
BEGIN:VEVENT
DTSTART;TZID=Europe/Paris:20251127T083000
DTEND;TZID=Europe/Paris:20251127T130000
DTSTAMP:20260424T033509
CREATED:20250806T124003Z
LAST-MODIFIED:20250806T124003Z
UID:58051-1764232200-1764248400@portfolife.hu
SUMMARY:Havi oktatás - November 27.
DESCRIPTION:Nagy Gábor is inviting you to a scheduled Zoom meeting. \nTopic: Havi oktatás\nTime: Nov 27\, 2025 08:30 Budapest\nJoin Zoom Meeting\nhttps://us02web.zoom.us/j/86764932192?pwd=tA7lVuZDI1L1t3E9rq6CiUtTS4Dpcs.1 \nMeeting ID: 867 6493 2192\nPasscode: 135573 \nMegközelítés: \nA  legegyszerűbb az M0-áson és Budakalász felé. Ha a városból jössz kifelé akkor a Szentendrei úton. \nA BSS Benzinkút előtt kell behajtani a szerviz útra\, majd a bal oldalon található 2. épület Lollipop nyomdánál található BNI irodát keresd. \nParkolási lehetőség a sorompón belül és kívül is díjmentes! 
URL:https://portfolife.hu/esemeny/havi-oktatas-november-27/
LOCATION:2011 Budakalász József Attila utca 75\, József Attila u. 75.\, Budakalász\, Pest\, 2011\, Magyarország
CATEGORIES:Havi oktatások
ATTACH;FMTTYPE=image/png:https://portfolife.hu/wp-content/uploads/2023/02/havioktatas.png
ORGANIZER;CN="Nagy G%C3%A1bor - Portfolife Zrt":MAILTO:nagy.gabor@portfolife.hu
END:VEVENT
END:VCALENDAR