BEGIN:VCALENDAR
VERSION:2.0
PRODID:-//Portfolife - ECPv6.15.14//NONSGML v1.0//EN
CALSCALE:GREGORIAN
METHOD:PUBLISH
X-ORIGINAL-URL:https://portfolife.hu
X-WR-CALDESC:Események Portfolife
REFRESH-INTERVAL;VALUE=DURATION:PT1H
X-Robots-Tag:noindex
X-PUBLISHED-TTL:PT1H
BEGIN:VTIMEZONE
TZID:Europe/Paris
BEGIN:DAYLIGHT
TZOFFSETFROM:+0100
TZOFFSETTO:+0200
TZNAME:CEST
DTSTART:20240331T010000
END:DAYLIGHT
BEGIN:STANDARD
TZOFFSETFROM:+0200
TZOFFSETTO:+0100
TZNAME:CET
DTSTART:20241027T010000
END:STANDARD
BEGIN:DAYLIGHT
TZOFFSETFROM:+0100
TZOFFSETTO:+0200
TZNAME:CEST
DTSTART:20250330T010000
END:DAYLIGHT
BEGIN:STANDARD
TZOFFSETFROM:+0200
TZOFFSETTO:+0100
TZNAME:CET
DTSTART:20251026T010000
END:STANDARD
BEGIN:DAYLIGHT
TZOFFSETFROM:+0100
TZOFFSETTO:+0200
TZNAME:CEST
DTSTART:20260329T010000
END:DAYLIGHT
BEGIN:STANDARD
TZOFFSETFROM:+0200
TZOFFSETTO:+0100
TZNAME:CET
DTSTART:20261025T010000
END:STANDARD
END:VTIMEZONE
BEGIN:VEVENT
DTSTART;TZID=Europe/Paris:20251002T163000
DTEND;TZID=Europe/Paris:20251002T180000
DTSTAMP:20260424T044743
CREATED:20250806T124428Z
LAST-MODIFIED:20251002T070801Z
UID:58054-1759422600-1759428000@portfolife.hu
SUMMARY:Ügyfél workshop - Október 2.
DESCRIPTION:Kedves Ügyfelünk! \nSzeretettel meghívjuk Önt  Ügyfél Workshop eseményünkre\, ahol vezető elemzőnk megválaszolja az Ön által korábban beküldött kérdéseket befektetéseivel kapcsolatban. \nEz az esemény lehetőséget nyújt arra\, hogy: \n\nszakértői választ kapjon befektetéseivel kapcsolatos kérdéseire\,\ntájékozódjon a legfrissebb piaci trendekről\,\njobban megértse portfóliójának hátterét és lehetőségeit.\n\n  \nAz eseményre az alábbi linken keresztül tud csatlakozni: \nCSATLAKOZOM AZ ESEMÉNYHEZ!\nMeeting ID: 894 0949 8931\nPasscode: 983978
URL:https://portfolife.hu/esemeny/ugyfel-workshop-oktober-2/
LOCATION:ONLINE\, Magyarország
CATEGORIES:Tájékoztató/Előadás
ATTACH;FMTTYPE=image/png:https://portfolife.hu/wp-content/uploads/2025/07/ugyfel-workshop.png
ORGANIZER;CN="Nagy G%C3%A1bor - Portfolife Zrt":MAILTO:nagy.gabor@portfolife.hu
END:VEVENT
BEGIN:VEVENT
DTSTART;TZID=Europe/Paris:20251006T140000
DTEND;TZID=Europe/Paris:20251006T160000
DTSTAMP:20260424T044743
CREATED:20250806T120230Z
LAST-MODIFIED:20250806T120230Z
UID:58021-1759759200-1759766400@portfolife.hu
SUMMARY:💼 Toborzó Nap a Portfolife-nál - Október 6.
DESCRIPTION:🗓 Toborzó nap részletei:\n📍 Helyszín:1062 Budapest\, Váci út 1–3.Westend Offices – B torony\, 3. emelet \nIdőpont: 14:00-16:00 \n👥 Részvétel: \n\n\nSzemélyesen erősen ajánlott\, hiszen így első kézből ismerkedhetsz meg a csapattal és a vállalati kultúrával. \n\n\nOnline csatlakozási lehetőség is biztosított azoknak\, akik távolabbról vennének részt. \nhttps://us02web.zoom.us/j/83468492767?pwd=JW30BtokZoEKzvz7TI942lXX0Ejd6Y.1 \nMeeting ID: 834 6849 2767\nPasscode: 089931\n\n📌 Megjegyzés:Ha egy meglévő Portfolife munkatárs ajánlására kerültél kapcsolatba velünk\, számára is ajánlott a személyes jelenlét\, de nem kötelező.
URL:https://portfolife.hu/esemeny/%f0%9f%92%bc-toborzo-nap-a-portfolife-nal-oktober-6/
LOCATION:1062 Budapest\, Váci út 1–3. Westend Offices – B torony\, 3. emelet
CATEGORIES:Toborzó Nap
ATTACH;FMTTYPE=image/png:https://portfolife.hu/wp-content/uploads/2025/03/2024-tervezes-trening-januar-10-masolata.png
ORGANIZER;CN="Nagy G%C3%A1bor - Portfolife Zrt":MAILTO:nagy.gabor@portfolife.hu
END:VEVENT
BEGIN:VEVENT
DTSTART;TZID=Europe/Paris:20251007T090000
DTEND;TZID=Europe/Paris:20251007T100000
DTSTAMP:20260424T044743
CREATED:20250806T124732Z
LAST-MODIFIED:20250806T124732Z
UID:58058-1759827600-1759831200@portfolife.hu
SUMMARY:Szakmai hétindító - Október 7.
DESCRIPTION:Nagy Gábor is inviting you to a scheduled Zoom meeting. \nTopic: Szakmai hétindító\nTime: Oct 7\, 2025 09:00 Budapest\nJoin Zoom Meeting\nhttps://us02web.zoom.us/j/85686436865?pwd=cRelLH9u83mqezIgMw1CNNuNHxYmhM.1 \nMeeting ID: 856 8643 6865\nPasscode: 827590
URL:https://portfolife.hu/esemeny/szakmai-hetindito-oktober-7/
LOCATION:ONLINE\, Magyarország
CATEGORIES:Szakmai hétindítók
ATTACH;FMTTYPE=image/png:https://portfolife.hu/wp-content/uploads/2023/02/szakmaihetindito.png
ORGANIZER;CN="Nagy G%C3%A1bor - Portfolife Zrt":MAILTO:nagy.gabor@portfolife.hu
END:VEVENT
BEGIN:VEVENT
DTSTART;TZID=Europe/Paris:20251008T150000
DTEND;TZID=Europe/Paris:20251008T163000
DTSTAMP:20260424T044743
CREATED:20250806T125041Z
LAST-MODIFIED:20250806T125041Z
UID:58061-1759935600-1759941000@portfolife.hu
SUMMARY:Hétindító kibeszélő - Október 8.
DESCRIPTION:Nagy Gábor is inviting you to a scheduled Zoom meeting. \nTopic: Hétindító kibeszélő\nTime: Oct 8\, 2025 15:00 Budapest\nJoin Zoom Meeting\nhttps://us02web.zoom.us/j/85682122885?pwd=bA8bryb0aNx3Bi81AjYC6ISJNunY9t.1 \nMeeting ID: 856 8212 2885\nPasscode: 894501
URL:https://portfolife.hu/esemeny/hetindito-kibeszelo-oktober-8/
LOCATION:ONLINE\, Magyarország
ATTACH;FMTTYPE=image/png:https://portfolife.hu/wp-content/uploads/2025/04/2024-tervezes-trening-januar-10-masolata-masolata-3.png
ORGANIZER;CN="Nagy G%C3%A1bor - Portfolife Zrt":MAILTO:nagy.gabor@portfolife.hu
END:VEVENT
BEGIN:VEVENT
DTSTART;TZID=Europe/Paris:20251009T100000
DTEND;TZID=Europe/Paris:20251009T110000
DTSTAMP:20260424T044743
CREATED:20251007T135200Z
LAST-MODIFIED:20251007T140145Z
UID:65085-1760004000-1760007600@portfolife.hu
SUMMARY:WCP1 és WCP2 folyamatok oktatása
DESCRIPTION:Sziasztok\,\nSzeretném jelezni\, hogy október 9-én 10:00-kor kötelező ONLINE képzést tartunk a WCP1 és WCP2 folyamatokkal kapcsolatban.\nA részvétel mindenki számára elengedhetetlen\, kérlek\, asszisztenseiteket is értesítsétek\, hogy mindenki naprakész információval rendelkezzen!\nFontos:\nA képzés időpontjáig kérjük\, NE küldjetek sem WCP1 (Látogatási jegyzőkönyv)\, sem WCP2 (Jegyzőkönyv a befektetésekkel kapcsolatos információkról) dokumentumokat se a premiumugyfel@portfolife.hu\, se a wcp@portfolife.hu e-mail címre.\n\nJoin Zoom Meeting\nhttps://us02web.zoom.us/j/81406935180?pwd=poQpDvaXc61gzEJ8H1OCLcfn8q83Xb.1 \nMeeting ID: 814 0693 5180\nPasscode: 027054 \nKöszönjük az együttműködést!
URL:https://portfolife.hu/esemeny/wcp1-es-wcp2-folyamatok-oktatasa/
LOCATION:ONLINE\, Magyarország
CATEGORIES:Belső folyamatok oktatás,Tájékoztató/Előadás
ATTACH;FMTTYPE=image/png:https://portfolife.hu/wp-content/uploads/2024/02/2024-tervezes-trening-januar-10-2.png
ORGANIZER;CN="Nagy G%C3%A1bor - Portfolife Zrt":MAILTO:nagy.gabor@portfolife.hu
END:VEVENT
BEGIN:VEVENT
DTSTART;TZID=Europe/Paris:20251021T090000
DTEND;TZID=Europe/Paris:20251021T100000
DTSTAMP:20260424T044743
CREATED:20250806T125308Z
LAST-MODIFIED:20250806T125308Z
UID:58065-1761037200-1761040800@portfolife.hu
SUMMARY:Szakmai hétindító - Október 21.
DESCRIPTION:Nagy Gábor is inviting you to a scheduled Zoom meeting. \nTopic: Szakmai hétindító\nTime: Oct 21\, 2025 09:00 Budapest\nJoin Zoom Meeting\nhttps://us02web.zoom.us/j/86183133767?pwd=CW4cpzNeMAVhvHHvww7nwsjXJBC0vb.1 \nMeeting ID: 861 8313 3767\nPasscode: 551918
URL:https://portfolife.hu/esemeny/szakmai-hetindito-oktober-21/
LOCATION:ONLINE\, Magyarország
CATEGORIES:Szakmai hétindítók
ATTACH;FMTTYPE=image/png:https://portfolife.hu/wp-content/uploads/2023/02/szakmaihetindito.png
ORGANIZER;CN="Nagy G%C3%A1bor - Portfolife Zrt":MAILTO:nagy.gabor@portfolife.hu
END:VEVENT
BEGIN:VEVENT
DTSTART;TZID=Europe/Paris:20251022T150000
DTEND;TZID=Europe/Paris:20251022T163000
DTSTAMP:20260424T044743
CREATED:20250806T125554Z
LAST-MODIFIED:20250806T125554Z
UID:58068-1761145200-1761150600@portfolife.hu
SUMMARY:Hétindító kibeszélő - Október 22.
DESCRIPTION:Nagy Gábor is inviting you to a scheduled Zoom meeting. \nTopic: Hétindító kibeszélő\nTime: Oct 22\, 2025 15:00 Budapest\nJoin Zoom Meeting\nhttps://us02web.zoom.us/j/82031243368?pwd=n9ULujSCx0Ha2x0pokEHiBXL3LbvEX.1 \nMeeting ID: 820 3124 3368\nPasscode: 194348
URL:https://portfolife.hu/esemeny/hetindito-kibeszelo-oktober-22/
LOCATION:ONLINE\, Magyarország
CATEGORIES:Hétindító kibeszélő
ATTACH;FMTTYPE=image/png:https://portfolife.hu/wp-content/uploads/2025/04/2024-tervezes-trening-januar-10-masolata-masolata-3.png
ORGANIZER;CN="Nagy G%C3%A1bor - Portfolife Zrt":MAILTO:nagy.gabor@portfolife.hu
END:VEVENT
BEGIN:VEVENT
DTSTART;TZID=Europe/Paris:20251030T083000
DTEND;TZID=Europe/Paris:20251030T130000
DTSTAMP:20260424T044743
CREATED:20250806T123617Z
LAST-MODIFIED:20250806T123617Z
UID:58048-1761813000-1761829200@portfolife.hu
SUMMARY:Havi oktatás - Október 30.
DESCRIPTION:Nagy Gábor is inviting you to a scheduled Zoom meeting. \nTopic: Havi oktatás\nTime: Oct 30\, 2025 08:30 Budapest\nJoin Zoom Meeting\nhttps://us02web.zoom.us/j/87359912209?pwd=g21hHP06D1jGLzTFcz8OVYJkhBjga9.1 \nMeeting ID: 873 5991 2209\nPasscode: 733096 \nMegközelítés: \nA  legegyszerűbb az M0-áson és Budakalász felé. Ha a városból jössz kifelé akkor a Szentendrei úton. \nA BSS Benzinkút előtt kell behajtani a szerviz útra\, majd a bal oldalon található 2. épület Lollipop nyomdánál található BNI irodát keresd. \nParkolási lehetőség a sorompón belül és kívül is díjmentes! 
URL:https://portfolife.hu/esemeny/havi-oktatas-oktober-30/
LOCATION:2011 Budakalász József Attila utca 75\, József Attila u. 75.\, Budakalász\, Pest\, 2011\, Magyarország
CATEGORIES:Havi oktatások
ATTACH;FMTTYPE=image/png:https://portfolife.hu/wp-content/uploads/2023/02/havioktatas.png
ORGANIZER;CN="Nagy G%C3%A1bor - Portfolife Zrt":MAILTO:nagy.gabor@portfolife.hu
END:VEVENT
END:VCALENDAR