BEGIN:VCALENDAR
VERSION:2.0
PRODID:-//Portfolife - ECPv6.15.14//NONSGML v1.0//EN
CALSCALE:GREGORIAN
METHOD:PUBLISH
X-ORIGINAL-URL:https://portfolife.hu
X-WR-CALDESC:Események Portfolife
REFRESH-INTERVAL;VALUE=DURATION:PT1H
X-Robots-Tag:noindex
X-PUBLISHED-TTL:PT1H
BEGIN:VTIMEZONE
TZID:Europe/Paris
BEGIN:DAYLIGHT
TZOFFSETFROM:+0100
TZOFFSETTO:+0200
TZNAME:CEST
DTSTART:20240331T010000
END:DAYLIGHT
BEGIN:STANDARD
TZOFFSETFROM:+0200
TZOFFSETTO:+0100
TZNAME:CET
DTSTART:20241027T010000
END:STANDARD
BEGIN:DAYLIGHT
TZOFFSETFROM:+0100
TZOFFSETTO:+0200
TZNAME:CEST
DTSTART:20250330T010000
END:DAYLIGHT
BEGIN:STANDARD
TZOFFSETFROM:+0200
TZOFFSETTO:+0100
TZNAME:CET
DTSTART:20251026T010000
END:STANDARD
BEGIN:DAYLIGHT
TZOFFSETFROM:+0100
TZOFFSETTO:+0200
TZNAME:CEST
DTSTART:20260329T010000
END:DAYLIGHT
BEGIN:STANDARD
TZOFFSETFROM:+0200
TZOFFSETTO:+0100
TZNAME:CET
DTSTART:20261025T010000
END:STANDARD
END:VTIMEZONE
BEGIN:VEVENT
DTSTART;TZID=Europe/Paris:20250901T140000
DTEND;TZID=Europe/Paris:20250901T160000
DTSTAMP:20260424T071953
CREATED:20250806T115830Z
LAST-MODIFIED:20250806T115830Z
UID:58017-1756735200-1756742400@portfolife.hu
SUMMARY:💼 Toborzó Nap a Portfolife-nál - Szeptember 1.
DESCRIPTION:🗓 Toborzó nap részletei:\n📍 Helyszín:1062 Budapest\, Váci út 1–3.Westend Offices – B torony\, 3. emelet \nIdőpont: 14:00-16:00 \n👥 Részvétel: \n\n\nSzemélyesen erősen ajánlott\, hiszen így első kézből ismerkedhetsz meg a csapattal és a vállalati kultúrával. \n\n\nOnline csatlakozási lehetőség is biztosított azoknak\, akik távolabbról vennének részt. \nhttps://us02web.zoom.us/j/84772719696?pwd=VFYf6T8NbhVBjhoaph3l2rWnb7IY8f.1 \nMeeting ID: 847 7271 9696\nPasscode: 055784\n\n📌 Megjegyzés:Ha egy meglévő Portfolife munkatárs ajánlására kerültél kapcsolatba velünk\, számára is ajánlott a személyes jelenlét\, de nem kötelező.
URL:https://portfolife.hu/esemeny/%f0%9f%92%bc-toborzo-nap-a-portfolife-nal-szeptember-1/
LOCATION:1062 Budapest\, Váci út 1–3. Westend Offices – B torony\, 3. emelet
CATEGORIES:Toborzó Nap
ATTACH;FMTTYPE=image/png:https://portfolife.hu/wp-content/uploads/2025/03/2024-tervezes-trening-januar-10-masolata.png
ORGANIZER;CN="Nagy G%C3%A1bor - Portfolife Zrt":MAILTO:nagy.gabor@portfolife.hu
END:VEVENT
BEGIN:VEVENT
DTSTART;TZID=Europe/Paris:20250904T100000
DTEND;TZID=Europe/Paris:20250904T110000
DTSTAMP:20260424T071953
CREATED:20250826T071911Z
LAST-MODIFIED:20250826T071911Z
UID:60705-1756980000-1756983600@portfolife.hu
SUMMARY:Online rendelkezési megbízások helyes eljárása - Szeptember 4.
DESCRIPTION:Kedves Kollégák\, \ntöbb kérdés is érkezett mostanában online rendelkezési megbízások helyes kitöltéséről\, használatáról\, így szeretnénk nektek minden információt egy képzésben összefoglalni. A részvétel kötelező! \nTopic: Online rendelkezési megbízások helyes eljárása\nTime: Sep 4\, 2025 10:00 Budapest\nJoin Zoom Meeting\nhttps://us02web.zoom.us/j/85219209384?pwd=LCbUBbNo5Ynz1O9ordXvsUuzWX3oOM.1 \nMeeting ID: 852 1920 9384\nPasscode: 508257
URL:https://portfolife.hu/esemeny/online-rendelkezesi-megbizasok-helyes-eljarasa-szeptember-4/
LOCATION:ONLINE\, Magyarország
CATEGORIES:Belső folyamatok oktatás
ATTACH;FMTTYPE=image/png:https://portfolife.hu/wp-content/uploads/2023/04/gyik.png
ORGANIZER;CN="Nagy G%C3%A1bor - Portfolife Zrt":MAILTO:nagy.gabor@portfolife.hu
END:VEVENT
BEGIN:VEVENT
DTSTART;TZID=Europe/Paris:20250909T090000
DTEND;TZID=Europe/Paris:20250909T100000
DTSTAMP:20260424T071953
CREATED:20250806T120927Z
LAST-MODIFIED:20250806T120927Z
UID:58027-1757408400-1757412000@portfolife.hu
SUMMARY:Szakmai hétindító - Szeptember 9.
DESCRIPTION:Nagy Gábor is inviting you to a scheduled Zoom meeting. \nTopic: Szakmai hétindító\nTime: Sep 9\, 2025 09:00 Budapest\nJoin Zoom Meeting\nhttps://us02web.zoom.us/j/81344627127?pwd=jpbi43RABImbpTfzkYwoob6bf0Ps4z.1 \nMeeting ID: 813 4462 7127\nPasscode: 829424
URL:https://portfolife.hu/esemeny/szakmai-hetindito-szeptember-9/
LOCATION:ONLINE\, Magyarország
CATEGORIES:Szakmai hétindítók
ATTACH;FMTTYPE=image/png:https://portfolife.hu/wp-content/uploads/2023/02/szakmaihetindito.png
ORGANIZER;CN="Nagy G%C3%A1bor - Portfolife Zrt":MAILTO:nagy.gabor@portfolife.hu
END:VEVENT
BEGIN:VEVENT
DTSTART;TZID=Europe/Paris:20250910T150000
DTEND;TZID=Europe/Paris:20250910T163000
DTSTAMP:20260424T071953
CREATED:20250806T121503Z
LAST-MODIFIED:20250806T121503Z
UID:58030-1757516400-1757521800@portfolife.hu
SUMMARY:Hétindító kibeszélő - Szeptember 10.
DESCRIPTION:Nagy Gábor is inviting you to a scheduled Zoom meeting. \nTopic: Hétindító kibeszélő\nTime: Sep 10\, 2025 15:00 Budapest\nJoin Zoom Meeting\nhttps://us02web.zoom.us/j/86096790087?pwd=zfqj6pHTzZEf8qRGlm5B7NPQcL1tJs.1 \nMeeting ID: 860 9679 0087\nPasscode: 701486
URL:https://portfolife.hu/esemeny/hetindito-kibeszelo-szeptember-10/
LOCATION:ONLINE\, Magyarország
CATEGORIES:Hétindító kibeszélő
ATTACH;FMTTYPE=image/png:https://portfolife.hu/wp-content/uploads/2025/04/2024-tervezes-trening-januar-10-masolata-masolata-3.png
ORGANIZER;CN="Nagy G%C3%A1bor - Portfolife Zrt":MAILTO:nagy.gabor@portfolife.hu
END:VEVENT
BEGIN:VEVENT
DTSTART;TZID=Europe/Paris:20250911T100000
DTEND;TZID=Europe/Paris:20250911T110000
DTSTAMP:20260424T071953
CREATED:20250904T102815Z
LAST-MODIFIED:20250904T102815Z
UID:60708-1757584800-1757588400@portfolife.hu
SUMMARY:Keresztértékesítés oktatás - Szeptember 11.
DESCRIPTION:Nagy Gábor is inviting you to a scheduled Zoom meeting. \nTopic: Keresztértékesítés\nTime: Sep 11\, 2025 10:00 Budapest\nJoin Zoom Meeting\nhttps://us02web.zoom.us/j/83309641589?pwd=bbHuBKb2CIUnzSCvZKhme1atSWlNKa.1 \nMeeting ID: 833 0964 1589\nPasscode: 803184
URL:https://portfolife.hu/esemeny/keresztertekesites-oktatas-szeptember-11/
LOCATION:ONLINE\, Magyarország
CATEGORIES:Belső folyamatok oktatás
ATTACH;FMTTYPE=image/png:https://portfolife.hu/wp-content/uploads/2025/08/Szakmai-hetindito-4.png
ORGANIZER;CN="Nagy G%C3%A1bor - Portfolife Zrt":MAILTO:nagy.gabor@portfolife.hu
END:VEVENT
BEGIN:VEVENT
DTSTART;TZID=Europe/Paris:20250918T090000
DTEND;TZID=Europe/Paris:20250918T103000
DTSTAMP:20260424T071953
CREATED:20250806T121859Z
LAST-MODIFIED:20250806T121859Z
UID:58034-1758186000-1758191400@portfolife.hu
SUMMARY:Elemzői oktatás - Szeptember 18.
DESCRIPTION:Kedves Kollégák! \nszeretettel meghívunk titeket a második Elemzői oktatásra\, amelyen Kiss Csaba az elemzési alapismereteket mutatja be nektek. Célunk\, hogy magabiztosságot biztosítsunk nektek a befektetések kezeléséhez és értelmezéséhez. A megszerzett tudást könnyen hasznosíthatjátok a WCP látogatások során. \n➡️ Trend elemzés\, Elliott hullám\, P/E mutató\, Fundamentalis számok \nTopic: Elemzői oktatás\nTime: Sep 18\, 2025 09:00 Budapest\nJoin Zoom Meeting\nhttps://us02web.zoom.us/j/89058281661?pwd=SdErBpIjZVgSL0nRN5qlZmizpNSv8z.1 \nMeeting ID: 890 5828 1661\nPasscode: 237438
URL:https://portfolife.hu/esemeny/elemzoi-oktatas-szeptember-18/
LOCATION:ONLINE\, Magyarország
CATEGORIES:Elemzői oktatás
ATTACH;FMTTYPE=image/png:https://portfolife.hu/wp-content/uploads/2025/05/Elemzoi-oktatas.png
ORGANIZER;CN="Nagy G%C3%A1bor - Portfolife Zrt":MAILTO:nagy.gabor@portfolife.hu
END:VEVENT
BEGIN:VEVENT
DTSTART;TZID=Europe/Paris:20250923T090000
DTEND;TZID=Europe/Paris:20250923T100000
DTSTAMP:20260424T071953
CREATED:20250806T122342Z
LAST-MODIFIED:20250806T122342Z
UID:58038-1758618000-1758621600@portfolife.hu
SUMMARY:Szakmai hétindító - Szeptember 23.
DESCRIPTION:Nagy Gábor is inviting you to a scheduled Zoom meeting. \nTopic: Szakmai hétindító\nTime: Sep 23\, 2025 09:00 Budapest\nJoin Zoom Meeting\nhttps://us02web.zoom.us/j/84264616323?pwd=4X5jpV5ljx2bguaRRr7kXgvbtHnJeo.1 \nMeeting ID: 842 6461 6323\nPasscode: 902030
URL:https://portfolife.hu/esemeny/szakmai-hetindito-szeptember-23/
LOCATION:ONLINE\, Magyarország
CATEGORIES:Szakmai hétindítók
ATTACH;FMTTYPE=image/png:https://portfolife.hu/wp-content/uploads/2023/02/szakmaihetindito.png
ORGANIZER;CN="Nagy G%C3%A1bor - Portfolife Zrt":MAILTO:nagy.gabor@portfolife.hu
END:VEVENT
BEGIN:VEVENT
DTSTART;TZID=Europe/Paris:20250924T150000
DTEND;TZID=Europe/Paris:20250924T163000
DTSTAMP:20260424T071953
CREATED:20250806T122604Z
LAST-MODIFIED:20250806T122604Z
UID:58041-1758726000-1758731400@portfolife.hu
SUMMARY:Hétindító kibeszélő - Szeptember 24.
DESCRIPTION:Nagy Gábor is inviting you to a scheduled Zoom meeting. \nTopic: Hétindító kibeszélő\nTime: Sep 24\, 2025 15:00 Budapest\nJoin Zoom Meeting\nhttps://us02web.zoom.us/j/89475135694?pwd=B7gwwUpwzvf5kmia8MOvt7MsOFQS0d.1 \nMeeting ID: 894 7513 5694\nPasscode: 189796
URL:https://portfolife.hu/esemeny/hetindito-kibeszelo-szeptember-24/
LOCATION:ONLINE\, Magyarország
CATEGORIES:Hétindító kibeszélő
ATTACH;FMTTYPE=image/png:https://portfolife.hu/wp-content/uploads/2025/04/2024-tervezes-trening-januar-10-masolata-masolata-3.png
ORGANIZER;CN="Nagy G%C3%A1bor - Portfolife Zrt":MAILTO:nagy.gabor@portfolife.hu
END:VEVENT
BEGIN:VEVENT
DTSTART;TZID=Europe/Paris:20250925T083000
DTEND;TZID=Europe/Paris:20250925T130000
DTSTAMP:20260424T071953
CREATED:20250806T123219Z
LAST-MODIFIED:20250806T123219Z
UID:58044-1758789000-1758805200@portfolife.hu
SUMMARY:Havi oktatás - Szeptember 25.
DESCRIPTION:Nagy Gábor is inviting you to a scheduled Zoom meeting. \nTopic: Havi oktatás\nTime: Sep 25\, 2025 08:30 Budapest\nJoin Zoom Meeting\nhttps://us02web.zoom.us/j/85313940193?pwd=kQpLP8ZU1UiUlOCkB8fpgeOPauhnyG.1 \nMeeting ID: 853 1394 0193\nPasscode: 304350 \nMegközelítés: \nA  legegyszerűbb az M0-áson és Budakalász felé. Ha a városból jössz kifelé akkor a Szentendrei úton. \nA BSS Benzinkút előtt kell behajtani a szerviz útra\, majd a bal oldalon található 2. épület Lollipop nyomdánál található BNI irodát keresd. \nParkolási lehetőség a sorompón belül és kívül is díjmentes! 
URL:https://portfolife.hu/esemeny/havi-oktatas-szeptember-25/
LOCATION:2011 Budakalász József Attila utca 75\, József Attila u. 75.\, Budakalász\, Pest\, 2011\, Magyarország
CATEGORIES:Havi oktatások
ATTACH;FMTTYPE=image/png:https://portfolife.hu/wp-content/uploads/2023/02/havioktatas.png
ORGANIZER;CN="Nagy G%C3%A1bor - Portfolife Zrt":MAILTO:nagy.gabor@portfolife.hu
END:VEVENT
END:VCALENDAR