BEGIN:VCALENDAR
VERSION:2.0
PRODID:-//Portfolife - ECPv6.15.14//NONSGML v1.0//EN
CALSCALE:GREGORIAN
METHOD:PUBLISH
X-WR-CALNAME:Portfolife
X-ORIGINAL-URL:https://portfolife.hu
X-WR-CALDESC:Események Portfolife
REFRESH-INTERVAL;VALUE=DURATION:PT1H
X-Robots-Tag:noindex
X-PUBLISHED-TTL:PT1H
BEGIN:VTIMEZONE
TZID:Europe/Paris
BEGIN:DAYLIGHT
TZOFFSETFROM:+0100
TZOFFSETTO:+0200
TZNAME:CEST
DTSTART:20240331T010000
END:DAYLIGHT
BEGIN:STANDARD
TZOFFSETFROM:+0200
TZOFFSETTO:+0100
TZNAME:CET
DTSTART:20241027T010000
END:STANDARD
BEGIN:DAYLIGHT
TZOFFSETFROM:+0100
TZOFFSETTO:+0200
TZNAME:CEST
DTSTART:20250330T010000
END:DAYLIGHT
BEGIN:STANDARD
TZOFFSETFROM:+0200
TZOFFSETTO:+0100
TZNAME:CET
DTSTART:20251026T010000
END:STANDARD
BEGIN:DAYLIGHT
TZOFFSETFROM:+0100
TZOFFSETTO:+0200
TZNAME:CEST
DTSTART:20260329T010000
END:DAYLIGHT
BEGIN:STANDARD
TZOFFSETFROM:+0200
TZOFFSETTO:+0100
TZNAME:CET
DTSTART:20261025T010000
END:STANDARD
END:VTIMEZONE
BEGIN:VEVENT
DTSTART;TZID=Europe/Paris:20250804T140000
DTEND;TZID=Europe/Paris:20250804T160000
DTSTAMP:20260424T082431
CREATED:20250725T091728Z
LAST-MODIFIED:20250725T092823Z
UID:56920-1754316000-1754323200@portfolife.hu
SUMMARY:💼 Toborzó Nap a Portfolife-nál - Augusztus 4.
DESCRIPTION:🗓 Toborzó nap részletei:\n📍 Helyszín:1062 Budapest\, Váci út 1–3.Westend Offices – B torony\, 3. emelet \nIdőpont: 14:00-16:00 \n👥 Részvétel: \n\n\nSzemélyesen erősen ajánlott\, hiszen így első kézből ismerkedhetsz meg a csapattal és a vállalati kultúrával. \n\n\nOnline csatlakozási lehetőség is biztosított azoknak\, akik távolabbról vennének részt. \nhttps://us02web.zoom.us/j/84856987119?pwd=H88DKWPMzYyDtLfMLqahSiH5JbqWmH.1 \nMeeting ID: 848 5698 7119\nPasscode: 936002\n\n📌 Megjegyzés:Ha egy meglévő Portfolife munkatárs ajánlására kerültél kapcsolatba velünk\, számára is ajánlott a személyes jelenlét\, de nem kötelező.
URL:https://portfolife.hu/esemeny/%f0%9f%92%bc-toborzo-nap-a-portfolife-nal-augusztus-4/
LOCATION:ONLINE\, Magyarország
CATEGORIES:Tájékoztató/Előadás
ATTACH;FMTTYPE=image/png:https://portfolife.hu/wp-content/uploads/2025/03/2024-tervezes-trening-januar-10-masolata.png
ORGANIZER;CN="Nagy G%C3%A1bor - Portfolife Zrt":MAILTO:nagy.gabor@portfolife.hu
END:VEVENT
BEGIN:VEVENT
DTSTART;TZID=Europe/Paris:20250812T090000
DTEND;TZID=Europe/Paris:20250812T100000
DTSTAMP:20260424T082431
CREATED:20250725T090029Z
LAST-MODIFIED:20250725T092924Z
UID:56908-1754989200-1754992800@portfolife.hu
SUMMARY:Szakmai hétindító - Augusztus 12.
DESCRIPTION:Nagy Gábor is inviting you to a scheduled Zoom meeting. \nTopic: Szakmai hétindító\nTime: Aug 12\, 2025 09:00 Budapest\nJoin Zoom Meeting\nhttps://us02web.zoom.us/j/81888218284?pwd=jj8GAT6QvaS0g2m4jO8yFX9r5h44lq.1 \nMeeting ID: 818 8821 8284\nPasscode: 524421
URL:https://portfolife.hu/esemeny/szakmai-hetindito-augusztus-12/
LOCATION:ONLINE\, Magyarország
CATEGORIES:Szakmai hétindítók
ATTACH;FMTTYPE=image/png:https://portfolife.hu/wp-content/uploads/2023/02/szakmaihetindito.png
ORGANIZER;CN="Nagy G%C3%A1bor - Portfolife Zrt":MAILTO:nagy.gabor@portfolife.hu
END:VEVENT
BEGIN:VEVENT
DTSTART;TZID=Europe/Paris:20250813T150000
DTEND;TZID=Europe/Paris:20250813T163000
DTSTAMP:20260424T082431
CREATED:20250725T090503Z
LAST-MODIFIED:20250725T092958Z
UID:56911-1755097200-1755102600@portfolife.hu
SUMMARY:Hétindító Kibeszélő - Augusztus 13.
DESCRIPTION:Nagy Gábor is inviting you to a scheduled Zoom meeting. \nTopic: Hétindító Kibeszélő\nTime: Aug 13\, 2025 15:00 Budapest\nJoin Zoom Meeting\nhttps://us02web.zoom.us/j/84478168529?pwd=lawX8aLqiytgLt7uxlRradaZXS4wPV.1 \nMeeting ID: 844 7816 8529\nPasscode: 611573
URL:https://portfolife.hu/esemeny/hetindito-kibeszelo-augusztus-13/
LOCATION:ONLINE\, Magyarország
CATEGORIES:Hétindító kibeszélő
ATTACH;FMTTYPE=image/png:https://portfolife.hu/wp-content/uploads/2025/04/2024-tervezes-trening-januar-10-masolata-masolata-3.png
ORGANIZER;CN="Nagy G%C3%A1bor - Portfolife Zrt":MAILTO:nagy.gabor@portfolife.hu
END:VEVENT
BEGIN:VEVENT
DTSTART;TZID=Europe/Paris:20250826T090000
DTEND;TZID=Europe/Paris:20250826T100000
DTSTAMP:20260424T082431
CREATED:20250725T090805Z
LAST-MODIFIED:20250725T093106Z
UID:56914-1756198800-1756202400@portfolife.hu
SUMMARY:Szakmai hétindító - Augusztus 26.
DESCRIPTION:Nagy Gábor is inviting you to a scheduled Zoom meeting. \nTopic: Szakmai hétindító\nTime: Aug 26\, 2025 09:00 Budapest\nJoin Zoom Meeting\nhttps://us02web.zoom.us/j/86014521447?pwd=a8E9jFftdq7YeM88tuaZHTh1VcqxET.1 \nMeeting ID: 860 1452 1447\nPasscode: 041459
URL:https://portfolife.hu/esemeny/szakmai-hetindito-augusztus-26/
LOCATION:ONLINE\, Magyarország
CATEGORIES:Szakmai hétindítók
ATTACH;FMTTYPE=image/png:https://portfolife.hu/wp-content/uploads/2023/02/szakmaihetindito.png
ORGANIZER;CN="Nagy G%C3%A1bor - Portfolife Zrt":MAILTO:nagy.gabor@portfolife.hu
END:VEVENT
BEGIN:VEVENT
DTSTART;TZID=Europe/Paris:20250827T150000
DTEND;TZID=Europe/Paris:20250827T163000
DTSTAMP:20260424T082431
CREATED:20250725T091053Z
LAST-MODIFIED:20250725T093132Z
UID:56917-1756306800-1756312200@portfolife.hu
SUMMARY:Hétindító Kibeszélő - Augusztus 27.
DESCRIPTION:Nagy Gábor is inviting you to a scheduled Zoom meeting. \nTopic: Hétindító Kibeszélő\nTime: Aug 27\, 2025 15:00 Budapest\nJoin Zoom Meeting\nhttps://us02web.zoom.us/j/89621006519?pwd=5JA9uPCqzXH8gPaV8hXKXa5nH26cyw.1 \nMeeting ID: 896 2100 6519\nPasscode: 133996
URL:https://portfolife.hu/esemeny/hetindito-kibeszelo-augusztus-27/
LOCATION:ONLINE\, Magyarország
CATEGORIES:Hétindító kibeszélő
ATTACH;FMTTYPE=image/png:https://portfolife.hu/wp-content/uploads/2025/04/2024-tervezes-trening-januar-10-masolata-masolata-3.png
ORGANIZER;CN="Nagy G%C3%A1bor - Portfolife Zrt":MAILTO:nagy.gabor@portfolife.hu
END:VEVENT
BEGIN:VEVENT
DTSTART;TZID=Europe/Paris:20250828T163000
DTEND;TZID=Europe/Paris:20250828T180000
DTSTAMP:20260424T082431
CREATED:20250728T081306Z
LAST-MODIFIED:20250828T141235Z
UID:57037-1756398600-1756404000@portfolife.hu
SUMMARY:Ügyfél Webinárium- Augusztus 28.
DESCRIPTION:Kedves Ügyfelünk! \nSzeretettel meghívjuk Önt a Wealth Care Plus szolgáltatás keretében megrendezett következő online eseményünkre\, ahol átfogó képet adunk a jelenlegi piaci folyamatokról és befektetési trendekről. \nElőadásunk fő témája a világgazdaság kilábalása\, ami nem hirtelen minden szektorra kiterjedő “boom”\, hanem gördülő fellendülés formájában zajlik. \nSzeretettel várjuk! \nAz előadáshoz való csatlakozáshoz kérjük kattintson IDE! \nMeeting ID: 857 0817 5987\nPasscode: 105191
URL:https://portfolife.hu/esemeny/ugyfel-workshop-augusztus-28/
LOCATION:ONLINE\, Magyarország
CATEGORIES:Tájékoztató/Előadás
ATTACH;FMTTYPE=image/png:https://portfolife.hu/wp-content/uploads/2025/07/ugyfel-webinarium.png
ORGANIZER;CN="Nagy G%C3%A1bor - Portfolife Zrt":MAILTO:nagy.gabor@portfolife.hu
END:VEVENT
END:VCALENDAR