BEGIN:VCALENDAR
VERSION:2.0
PRODID:-//Portfolife - ECPv6.15.14//NONSGML v1.0//EN
CALSCALE:GREGORIAN
METHOD:PUBLISH
X-WR-CALNAME:Portfolife
X-ORIGINAL-URL:https://portfolife.hu
X-WR-CALDESC:Események Portfolife
REFRESH-INTERVAL;VALUE=DURATION:PT1H
X-Robots-Tag:noindex
X-PUBLISHED-TTL:PT1H
BEGIN:VTIMEZONE
TZID:Europe/Paris
BEGIN:DAYLIGHT
TZOFFSETFROM:+0100
TZOFFSETTO:+0200
TZNAME:CEST
DTSTART:20240331T010000
END:DAYLIGHT
BEGIN:STANDARD
TZOFFSETFROM:+0200
TZOFFSETTO:+0100
TZNAME:CET
DTSTART:20241027T010000
END:STANDARD
BEGIN:DAYLIGHT
TZOFFSETFROM:+0100
TZOFFSETTO:+0200
TZNAME:CEST
DTSTART:20250330T010000
END:DAYLIGHT
BEGIN:STANDARD
TZOFFSETFROM:+0200
TZOFFSETTO:+0100
TZNAME:CET
DTSTART:20251026T010000
END:STANDARD
BEGIN:DAYLIGHT
TZOFFSETFROM:+0100
TZOFFSETTO:+0200
TZNAME:CEST
DTSTART:20260329T010000
END:DAYLIGHT
BEGIN:STANDARD
TZOFFSETFROM:+0200
TZOFFSETTO:+0100
TZNAME:CET
DTSTART:20261025T010000
END:STANDARD
END:VTIMEZONE
BEGIN:VEVENT
DTSTART;TZID=Europe/Paris:20250701T090000
DTEND;TZID=Europe/Paris:20250701T100000
DTSTAMP:20260424T093325
CREATED:20250512T094456Z
LAST-MODIFIED:20250512T094456Z
UID:50816-1751360400-1751364000@portfolife.hu
SUMMARY:Szakmai hétindító - Július 1.
DESCRIPTION:Nagy Gábor is inviting you to a scheduled Zoom meeting. \nTopic: Szakmai hétindító\nTime: Jul 1\, 2025 09:00 Budapest\nJoin Zoom Meeting\nhttps://us02web.zoom.us/j/84756438543?pwd=T1GmTzN1dDcmD0tS0IIkLya8YA2LL6.1 \nMeeting ID: 847 5643 8543\nPasscode: 614844
URL:https://portfolife.hu/esemeny/szakmai-hetindito-julius-1/
LOCATION:ONLINE\, Magyarország
CATEGORIES:Szakmai hétindítók
ATTACH;FMTTYPE=image/png:https://portfolife.hu/wp-content/uploads/2023/02/szakmaihetindito.png
ORGANIZER;CN="Nagy G%C3%A1bor - Portfolife Zrt":MAILTO:nagy.gabor@portfolife.hu
END:VEVENT
BEGIN:VEVENT
DTSTART;TZID=Europe/Paris:20250702T150000
DTEND;TZID=Europe/Paris:20250702T163000
DTSTAMP:20260424T093325
CREATED:20250512T094838Z
LAST-MODIFIED:20250512T094838Z
UID:50819-1751468400-1751473800@portfolife.hu
SUMMARY:Hétindító kibeszélő - Július 2.
DESCRIPTION:Nagy Gábor is inviting you to a scheduled Zoom meeting. \nTopic: Hétindító kibeszélő\nTime: Jul 2\, 2025 15:00 Budapest\nJoin Zoom Meeting\nhttps://us02web.zoom.us/j/87474303267?pwd=yd3mzR022zAGm7RbEsMocqedO3F335.1 \nMeeting ID: 874 7430 3267\nPasscode: 270137
URL:https://portfolife.hu/esemeny/hetindito-kibeszelo-julius-2/
LOCATION:ONLINE\, Magyarország
CATEGORIES:Hétindító kibeszélő
ATTACH;FMTTYPE=image/png:https://portfolife.hu/wp-content/uploads/2025/04/2024-tervezes-trening-januar-10-masolata-masolata-3.png
ORGANIZER;CN="Nagy G%C3%A1bor - Portfolife Zrt":MAILTO:nagy.gabor@portfolife.hu
END:VEVENT
BEGIN:VEVENT
DTSTART;TZID=Europe/Paris:20250703T163000
DTEND;TZID=Europe/Paris:20250703T180000
DTSTAMP:20260424T093325
CREATED:20250512T095531Z
LAST-MODIFIED:20250602T142046Z
UID:50822-1751560200-1751565600@portfolife.hu
SUMMARY:Ügyfél Workshop - Július 3.
DESCRIPTION:Kedves Ügyfelünk! \nSzeretettel meghívjuk Önt az Ügyfél Workshop eseményünkre\, ahol vezető elemzőnk megválaszolja az Ön által korábban beküldött kérdéseket befektetéseivel kapcsolatban. \nEz az esemény lehetőséget nyújt arra\, hogy: \n\nszakértői választ kapjon befektetéseivel kapcsolatos kérdéseire\,\ntájékozódjon a legfrissebb piaci trendekről\,\njobban megértse portfóliójának hátterét és lehetőségeit\n\n 
URL:https://portfolife.hu/esemeny/ugyfel-workshop-julius-3/
LOCATION:ONLINE\, Magyarország
CATEGORIES:Tájékoztató/Előadás
ATTACH;FMTTYPE=image/png:https://portfolife.hu/wp-content/uploads/2025/05/Ugyfel-workshop.png
ORGANIZER;CN="Nagy G%C3%A1bor - Portfolife Zrt":MAILTO:nagy.gabor@portfolife.hu
END:VEVENT
BEGIN:VEVENT
DTSTART;TZID=Europe/Paris:20250707T140000
DTEND;TZID=Europe/Paris:20250707T160000
DTSTAMP:20260424T093325
CREATED:20250512T100248Z
LAST-MODIFIED:20250512T100248Z
UID:50825-1751896800-1751904000@portfolife.hu
SUMMARY:💼 Toborzó Nap a Portfolife-nál - Július 7.
DESCRIPTION:🗓 Toborzó nap részletei:\n📍 Helyszín:1062 Budapest\, Váci út 1–3.Westend Offices – B torony\, 3. emelet \nIdőpont: 14:00-16:00 \n👥 Részvétel: \n\n\nSzemélyesen erősen ajánlott\, hiszen így első kézből ismerkedhetsz meg a csapattal és a vállalati kultúrával. \n\n\nOnline csatlakozási lehetőség is biztosított azoknak\, akik távolabbról vennének részt. \nhttps://us02web.zoom.us/j/86526791914?pwd=aYkeyPtPUyvbDezKU0WHQ7pmWnNXJ3.1 \nMeeting ID: 865 2679 1914\nPasscode: 164309\n\n📌 Megjegyzés:Ha egy meglévő Portfolife munkatárs ajánlására kerültél kapcsolatba velünk\, számára is ajánlott a személyes jelenlét\, de nem kötelező.
URL:https://portfolife.hu/esemeny/%f0%9f%92%bc-toborzo-nap-a-portfolife-nal-julius-7/
LOCATION:1062 Budapest\, Váci út 1–3. Westend Offices – B torony\, 3. emelet
CATEGORIES:Toborzó Nap
ATTACH;FMTTYPE=image/png:https://portfolife.hu/wp-content/uploads/2025/03/2024-tervezes-trening-januar-10-masolata.png
ORGANIZER;CN="Nagy G%C3%A1bor - Portfolife Zrt":MAILTO:nagy.gabor@portfolife.hu
END:VEVENT
BEGIN:VEVENT
DTSTART;TZID=Europe/Paris:20250715T090000
DTEND;TZID=Europe/Paris:20250715T100000
DTSTAMP:20260424T093325
CREATED:20250512T101753Z
LAST-MODIFIED:20250512T101753Z
UID:50828-1752570000-1752573600@portfolife.hu
SUMMARY:Szakmai hétindító - Július 15.
DESCRIPTION:Nagy Gábor is inviting you to a scheduled Zoom meeting. \nTopic: Szakmai hétindító\nTime: Jul 15\, 2025 09:00 Budapest\nJoin Zoom Meeting\nhttps://us02web.zoom.us/j/81713844674?pwd=E7oY2TiCm2CTaZbFHebogdmV8uU2bm.1 \nMeeting ID: 817 1384 4674\nPasscode: 436843
URL:https://portfolife.hu/esemeny/szakmai-hetindito-julius-15/
LOCATION:ONLINE\, Magyarország
CATEGORIES:Szakmai hétindítók
ATTACH;FMTTYPE=image/png:https://portfolife.hu/wp-content/uploads/2023/02/szakmaihetindito.png
ORGANIZER;CN="Nagy G%C3%A1bor - Portfolife Zrt":MAILTO:nagy.gabor@portfolife.hu
END:VEVENT
BEGIN:VEVENT
DTSTART;TZID=Europe/Paris:20250716T150000
DTEND;TZID=Europe/Paris:20250716T163000
DTSTAMP:20260424T093325
CREATED:20250512T102158Z
LAST-MODIFIED:20250512T102158Z
UID:50831-1752678000-1752683400@portfolife.hu
SUMMARY:Hétindító kibeszélő - Július 16.
DESCRIPTION:Nagy Gábor is inviting you to a scheduled Zoom meeting. \nTopic: Hétindító kibeszélő\nTime: Jul 16\, 2025 15:00 Budapest\nJoin Zoom Meeting\nhttps://us02web.zoom.us/j/84510597924?pwd=2VVucfCRiOiRenPdiGB1pvQ5LFONTm.1 \nMeeting ID: 845 1059 7924\nPasscode: 065181
URL:https://portfolife.hu/esemeny/hetindito-kibeszelo-julius-16/
LOCATION:ONLINE\, Magyarország
CATEGORIES:Hétindító kibeszélő
ATTACH;FMTTYPE=image/png:https://portfolife.hu/wp-content/uploads/2025/04/2024-tervezes-trening-januar-10-masolata-masolata-3.png
ORGANIZER;CN="Nagy G%C3%A1bor - Portfolife Zrt":MAILTO:nagy.gabor@portfolife.hu
END:VEVENT
BEGIN:VEVENT
DTSTART;TZID=Europe/Paris:20250729T090000
DTEND;TZID=Europe/Paris:20250729T100000
DTSTAMP:20260424T093325
CREATED:20250512T102514Z
LAST-MODIFIED:20250512T102514Z
UID:50834-1753779600-1753783200@portfolife.hu
SUMMARY:Szakmai hétindító - Július 29.
DESCRIPTION:Nagy Gábor is inviting you to a scheduled Zoom meeting. \nTopic: Szakmai hétindító\nTime: Jul 29\, 2025 09:00 Budapest\nJoin Zoom Meeting\nhttps://us02web.zoom.us/j/81786382103?pwd=Cj0VA2TBB8Wp2HKoD0iI5fom2CjuxO.1 \nMeeting ID: 817 8638 2103\nPasscode: 389663
URL:https://portfolife.hu/esemeny/szakmai-hetindito-julius-29/
LOCATION:ONLINE\, Magyarország
CATEGORIES:Szakmai hétindítók
ATTACH;FMTTYPE=image/png:https://portfolife.hu/wp-content/uploads/2023/02/szakmaihetindito.png
ORGANIZER;CN="Nagy G%C3%A1bor - Portfolife Zrt":MAILTO:nagy.gabor@portfolife.hu
END:VEVENT
BEGIN:VEVENT
DTSTART;TZID=Europe/Paris:20250730T150000
DTEND;TZID=Europe/Paris:20250730T163000
DTSTAMP:20260424T093325
CREATED:20250512T102717Z
LAST-MODIFIED:20250512T102717Z
UID:50837-1753887600-1753893000@portfolife.hu
SUMMARY:Hétindító kibeszélő - Július 30.
DESCRIPTION:Nagy Gábor is inviting you to a scheduled Zoom meeting. \nTopic: Hétindító kibeszélő\nTime: Jul 30\, 2025 15:00 Budapest\nJoin Zoom Meeting\nhttps://us02web.zoom.us/j/86833014094?pwd=uTE46W9oPzHzN8az715kWjsbF4s7WL.1 \nMeeting ID: 868 3301 4094\nPasscode: 144270
URL:https://portfolife.hu/esemeny/hetindito-kibeszelo-julius-30/
LOCATION:ONLINE\, Magyarország
CATEGORIES:Hétindító kibeszélő
ATTACH;FMTTYPE=image/png:https://portfolife.hu/wp-content/uploads/2025/04/2024-tervezes-trening-januar-10-masolata-masolata-3.png
ORGANIZER;CN="Nagy G%C3%A1bor - Portfolife Zrt":MAILTO:nagy.gabor@portfolife.hu
END:VEVENT
END:VCALENDAR