BEGIN:VCALENDAR
VERSION:2.0
PRODID:-//Portfolife - ECPv6.15.14//NONSGML v1.0//EN
CALSCALE:GREGORIAN
METHOD:PUBLISH
X-WR-CALNAME:Portfolife
X-ORIGINAL-URL:https://portfolife.hu
X-WR-CALDESC:Események Portfolife
REFRESH-INTERVAL;VALUE=DURATION:PT1H
X-Robots-Tag:noindex
X-PUBLISHED-TTL:PT1H
BEGIN:VTIMEZONE
TZID:Europe/Paris
BEGIN:DAYLIGHT
TZOFFSETFROM:+0100
TZOFFSETTO:+0200
TZNAME:CEST
DTSTART:20240331T010000
END:DAYLIGHT
BEGIN:STANDARD
TZOFFSETFROM:+0200
TZOFFSETTO:+0100
TZNAME:CET
DTSTART:20241027T010000
END:STANDARD
BEGIN:DAYLIGHT
TZOFFSETFROM:+0100
TZOFFSETTO:+0200
TZNAME:CEST
DTSTART:20250330T010000
END:DAYLIGHT
BEGIN:STANDARD
TZOFFSETFROM:+0200
TZOFFSETTO:+0100
TZNAME:CET
DTSTART:20251026T010000
END:STANDARD
BEGIN:DAYLIGHT
TZOFFSETFROM:+0100
TZOFFSETTO:+0200
TZNAME:CEST
DTSTART:20260329T010000
END:DAYLIGHT
BEGIN:STANDARD
TZOFFSETFROM:+0200
TZOFFSETTO:+0100
TZNAME:CET
DTSTART:20261025T010000
END:STANDARD
END:VTIMEZONE
BEGIN:VEVENT
DTSTART;TZID=Europe/Paris:20250505T140000
DTEND;TZID=Europe/Paris:20250505T153000
DTSTAMP:20260424T145913
CREATED:20250425T122434Z
LAST-MODIFIED:20250425T122448Z
UID:49583-1746453600-1746459000@portfolife.hu
SUMMARY:💼 Toborzó Nap a Portfolife-nál
DESCRIPTION:🗓 Toborzó nap részletei:\n📍 Helyszín:1062 Budapest\, Váci út 1–3.Westend Offices – B torony\, 3. emelet \nIdőpont: 14:00-16:00 \n👥 Részvétel: \n\n\nSzemélyesen erősen ajánlott\, hiszen így első kézből ismerkedhetsz meg a csapattal és a vállalati kultúrával. \n\n\nOnline csatlakozási lehetőség is biztosított azoknak\, akik távolabbról vennének részt. \nhttps://us02web.zoom.us/j/89502404589?pwd=ct7i4IoLkjTfcY2hPia0fYaQmao8u6.1 \nMeeting ID: 895 0240 4589\nPasscode: 784045\n\n📌 Megjegyzés:Ha egy meglévő Portfolife munkatárs ajánlására kerültél kapcsolatba velünk\, számára is ajánlott a személyes jelenlét\, de nem kötelező.
URL:https://portfolife.hu/esemeny/%f0%9f%92%bc-toborzo-nap-a-portfolife-nal-2/
LOCATION:1062 Budapest\, Váci út 1–3. Westend Offices – B torony\, 3. emelet
CATEGORIES:Toborzó Nap
ATTACH;FMTTYPE=image/png:https://portfolife.hu/wp-content/uploads/2025/03/2024-tervezes-trening-januar-10-masolata.png
ORGANIZER;CN="Nagy G%C3%A1bor - Portfolife Zrt":MAILTO:nagy.gabor@portfolife.hu
END:VEVENT
BEGIN:VEVENT
DTSTART;TZID=Europe/Paris:20250506T090000
DTEND;TZID=Europe/Paris:20250506T100000
DTSTAMP:20260424T145913
CREATED:20250107T094104Z
LAST-MODIFIED:20250107T094104Z
UID:44544-1746522000-1746525600@portfolife.hu
SUMMARY:Szakmai hétindító - Május 6.
DESCRIPTION:Nagy Gábor is inviting you to a scheduled Zoom meeting. \nTopic: Szakmai hétindító\nTime: May 6\, 2025 09:00 Budapest \nJoin Zoom Meeting\nhttps://us02web.zoom.us/j/87356602981?pwd=pieb7rvEN3nsMR5KKjGuhougmKdbkv.1 \nMeeting ID: 873 5660 2981\nPasscode: 315067
URL:https://portfolife.hu/esemeny/szakmai-hetindito-majus-6/
LOCATION:ONLINE\, Magyarország
CATEGORIES:Szakmai hétindítók
ATTACH;FMTTYPE=image/png:https://portfolife.hu/wp-content/uploads/2023/02/szakmaihetindito.png
ORGANIZER;CN="Nagy G%C3%A1bor - Portfolife Zrt":MAILTO:nagy.gabor@portfolife.hu
END:VEVENT
BEGIN:VEVENT
DTSTART;TZID=Europe/Paris:20250507T150000
DTEND;TZID=Europe/Paris:20250507T163000
DTSTAMP:20260424T145913
CREATED:20250414T092716Z
LAST-MODIFIED:20250414T093505Z
UID:48693-1746630000-1746635400@portfolife.hu
SUMMARY:Hétindító kibeszélő - Május 7.
DESCRIPTION:Nagy Gábor is inviting you to a scheduled Zoom meeting. \nTopic: Hétindító kibeszélő\nTime: May 7\, 2025 15:00 Budapest\nJoin Zoom Meeting\nhttps://us02web.zoom.us/j/88083992543?pwd=jvARIW9WVWCLaJp819BmTi89KORZM1.1 \nMeeting ID: 880 8399 2543\nPasscode: 967451
URL:https://portfolife.hu/esemeny/hetindito-kibeszelo-majus-7/
LOCATION:ONLINE\, Magyarország
CATEGORIES:Hétindító kibeszélő
ATTACH;FMTTYPE=image/png:https://portfolife.hu/wp-content/uploads/2025/04/2024-tervezes-trening-januar-10-masolata-masolata-3.png
ORGANIZER;CN="Nagy G%C3%A1bor - Portfolife Zrt":MAILTO:nagy.gabor@portfolife.hu
END:VEVENT
BEGIN:VEVENT
DTSTART;TZID=Europe/Paris:20250520T090000
DTEND;TZID=Europe/Paris:20250520T100000
DTSTAMP:20260424T145913
CREATED:20250107T094330Z
LAST-MODIFIED:20250107T094330Z
UID:44547-1747731600-1747735200@portfolife.hu
SUMMARY:Szakmai hétindító - Május 20.
DESCRIPTION:Nagy Gábor is inviting you to a scheduled Zoom meeting. \nTopic: Szakmai hétindító\nTime: May 20\, 2025 09:00 Budapest \nJoin Zoom Meeting\nhttps://us02web.zoom.us/j/89039973220?pwd=3ezaCxv0w2xWGaFMiL5zbrCuoqWfVG.1 \nMeeting ID: 890 3997 3220\nPasscode: 228921
URL:https://portfolife.hu/esemeny/szakmai-hetindito-majus-20/
LOCATION:ONLINE\, Magyarország
CATEGORIES:Szakmai hétindítók
ATTACH;FMTTYPE=image/png:https://portfolife.hu/wp-content/uploads/2023/02/szakmaihetindito.png
ORGANIZER;CN="Nagy G%C3%A1bor - Portfolife Zrt":MAILTO:nagy.gabor@portfolife.hu
END:VEVENT
BEGIN:VEVENT
DTSTART;TZID=Europe/Paris:20250521T150000
DTEND;TZID=Europe/Paris:20250521T163000
DTSTAMP:20260424T145913
CREATED:20250414T092921Z
LAST-MODIFIED:20250414T093445Z
UID:48696-1747839600-1747845000@portfolife.hu
SUMMARY:Hétindító kibeszélő - Május 21.
DESCRIPTION:Nagy Gábor is inviting you to a scheduled Zoom meeting. \nTopic: Hétindító kibeszélő\nTime: May 21\, 2025 15:00 Budapest\nJoin Zoom Meeting\nhttps://us02web.zoom.us/j/87422183159?pwd=GmOip53bPaT0wPaK1zbLc7kHpfmI0j.1 \nMeeting ID: 874 2218 3159\nPasscode: 535776
URL:https://portfolife.hu/esemeny/hetindito-kibeszelo-majus-21/
LOCATION:ONLINE\, Magyarország
CATEGORIES:Hétindító kibeszélő
ATTACH;FMTTYPE=image/png:https://portfolife.hu/wp-content/uploads/2025/04/2024-tervezes-trening-januar-10-masolata-masolata-3.png
ORGANIZER;CN="Nagy G%C3%A1bor - Portfolife Zrt":MAILTO:nagy.gabor@portfolife.hu
END:VEVENT
BEGIN:VEVENT
DTSTART;TZID=Europe/Paris:20250522T090000
DTEND;TZID=Europe/Paris:20250522T103000
DTSTAMP:20260424T145913
CREATED:20250512T090623Z
LAST-MODIFIED:20250512T092507Z
UID:50800-1747904400-1747909800@portfolife.hu
SUMMARY:Elemzői oktatás - Május 22.
DESCRIPTION:Kedves Kollégák! \nszeretettel meghívunk titeket az első Elemzői oktatásra\, amelyen Kiss Csaba az elemzési alapismereteket mutatja be nektek. Célunk\, hogy magabiztosságot biztosítsunk nektek a befektetések kezeléséhez és értelmezéséhez. A megszerzett tudást könnyen hasznosíthatjátok a WCP látogatások során. \n➡️ Trend elemzés\, Elliott hullám\, P/E mutató\, Fundamentalis számok \n🖥️ Topic: Elemzői oktatás\nTime: May 22\, 2025 09:00 Budapest\nJoin Zoom Meeting\nhttps://us02web.zoom.us/j/85153728877?pwd=fYaNwrXQEdrje2FKdjI9F8jbUsObG5.1 \nMeeting ID: 851 5372 8877\nPasscode: 639496
URL:https://portfolife.hu/esemeny/elemzoi-oktatas-2025-05-22/
LOCATION:ONLINE\, Magyarország
CATEGORIES:Elemzői oktatás
ATTACH;FMTTYPE=image/png:https://portfolife.hu/wp-content/uploads/2025/05/Elemzoi-oktatas.png
ORGANIZER;CN="Nagy G%C3%A1bor - Portfolife Zrt":MAILTO:nagy.gabor@portfolife.hu
END:VEVENT
BEGIN:VEVENT
DTSTART;TZID=Europe/Paris:20250526T130000
DTEND;TZID=Europe/Paris:20250526T143000
DTSTAMP:20260424T145913
CREATED:20250512T114926Z
LAST-MODIFIED:20250512T114926Z
UID:50840-1748264400-1748269800@portfolife.hu
SUMMARY:Adatvédelmi oktatás - Május 26.
DESCRIPTION:Kedves Kolléga\, \nsok szeretettel várunk Május 26-án 13-órától az Adatvédelmi Oktatásunkra. \nTopic: Adatvédelmi oktatás\nTime: May 26\, 2025 13:00 Budapest\nJoin Zoom Meeting\nhttps://us02web.zoom.us/j/88347129984?pwd=7CtNa1Ty6oqqKx7i99J6lxNY3dJhNX.1 \nMeeting ID: 883 4712 9984\nPasscode: 637798
URL:https://portfolife.hu/esemeny/adatvedelmi-oktatas-majus-26/
LOCATION:ONLINE\, Magyarország
CATEGORIES:Tájékoztató/Előadás
ATTACH;FMTTYPE=image/png:https://portfolife.hu/wp-content/uploads/2025/02/Kepernyofoto-2025-02-07-15.00.33-e1738936963644.png
ORGANIZER;CN="Nagy G%C3%A1bor - Portfolife Zrt":MAILTO:nagy.gabor@portfolife.hu
END:VEVENT
BEGIN:VEVENT
DTSTART;TZID=Europe/Paris:20250529T080000
DTEND;TZID=Europe/Paris:20250529T140000
DTSTAMP:20260424T145913
CREATED:20250107T094507Z
LAST-MODIFIED:20250522T084357Z
UID:44550-1748505600-1748527200@portfolife.hu
SUMMARY:Havi oktatás - Május 29.
DESCRIPTION:Kedves Kollégák! \nSzeretettel meghívunk titeket a PortfoLife Zrt. május havi oktatására. Vendégünk lesz Kerek István\, aki közel harmincéves informatikai tapasztalattal és több mint 15 éve tartó mesterséges intelligencia fókuszú munkássággal az AI Business Development egyik kiemelkedő hazai alakja. Fő célja\, hogy a digitális és AI megoldásokkal csökkentse a cégek működési költségeit\, növelje a hatékonyságot\, új ügyfeleket szerezzen\, és mélyítse a meglévő partnerkapcsolatokat – mindezt fenntartható\, skálázható formában. Több mint 50 000 órát szentelt a digitális technológiák elsajátításának\, 1 000 órán át tanulmányozta a ChatGPT működését\, és olyan újító projekteken dolgozik\, amelyek gyakran megelőzik korukat. Egyetemi oktatóként és gyakorlati szakemberként egyaránt elkötelezett az ismeretmegosztás mellett – még a TikTok algoritmusát is saját csatornán keresztül kutatja\, AI-alapú rendszerekkel támogatva. \nProgram: \n\n08.30 – 10.00  Kerek István – Ai business Developer\, ChatGPT magyarul csoport alapítója\n10.00 – 10.15    Szünet\n10.15 – 11.30     Szakmai összefoglaló\n11.30 – 11.45     Szünet\n11.45 – 12.30    PortfoLife és Partner Bank aktualitások   \n\n  \nJoin Zoom Meeting\nhttps://us02web.zoom.us/j/89676474561?pwd=66ZXahuui2SIfKgiPjnUFSt5SQVyjk.1 \nMeeting ID: 896 7647 4561\nPasscode: 366361 \n\nMegközelítés:\nA  legegyszerűbb az M0-áson és Budakalász felé. Ha a városból jössz kifelé akkor a Szentendrei úton. A BSS Benzinkút előtt kell behajtani a szerviz útra\, majd a bal oldalon található 2. épület Lollipop nyomdánál található BNI irodát keresd.\n 
URL:https://portfolife.hu/esemeny/havi-oktatas-majus-29/
LOCATION:2011 Budakalász József Attila utca 75\, József Attila u. 75.\, Budakalász\, Pest\, 2011\, Magyarország
CATEGORIES:Havi oktatások
ATTACH;FMTTYPE=image/png:https://portfolife.hu/wp-content/uploads/2023/02/havioktatas.png
ORGANIZER;CN="Nagy G%C3%A1bor - Portfolife Zrt":MAILTO:nagy.gabor@portfolife.hu
END:VEVENT
END:VCALENDAR