BEGIN:VCALENDAR
VERSION:2.0
PRODID:-//Portfolife - ECPv6.15.14//NONSGML v1.0//EN
CALSCALE:GREGORIAN
METHOD:PUBLISH
X-WR-CALNAME:Portfolife
X-ORIGINAL-URL:https://portfolife.hu
X-WR-CALDESC:Események Portfolife
REFRESH-INTERVAL;VALUE=DURATION:PT1H
X-Robots-Tag:noindex
X-PUBLISHED-TTL:PT1H
BEGIN:VTIMEZONE
TZID:Europe/Paris
BEGIN:DAYLIGHT
TZOFFSETFROM:+0100
TZOFFSETTO:+0200
TZNAME:CEST
DTSTART:20240331T010000
END:DAYLIGHT
BEGIN:STANDARD
TZOFFSETFROM:+0200
TZOFFSETTO:+0100
TZNAME:CET
DTSTART:20241027T010000
END:STANDARD
BEGIN:DAYLIGHT
TZOFFSETFROM:+0100
TZOFFSETTO:+0200
TZNAME:CEST
DTSTART:20250330T010000
END:DAYLIGHT
BEGIN:STANDARD
TZOFFSETFROM:+0200
TZOFFSETTO:+0100
TZNAME:CET
DTSTART:20251026T010000
END:STANDARD
BEGIN:DAYLIGHT
TZOFFSETFROM:+0100
TZOFFSETTO:+0200
TZNAME:CEST
DTSTART:20260329T010000
END:DAYLIGHT
BEGIN:STANDARD
TZOFFSETFROM:+0200
TZOFFSETTO:+0100
TZNAME:CET
DTSTART:20261025T010000
END:STANDARD
END:VTIMEZONE
BEGIN:VEVENT
DTSTART;TZID=Europe/Paris:20250311T090000
DTEND;TZID=Europe/Paris:20250311T100000
DTSTAMP:20260425T045952
CREATED:20250107T090925Z
LAST-MODIFIED:20250303T132813Z
UID:44524-1741683600-1741687200@portfolife.hu
SUMMARY:Szakmai hétindító - Március 11.
DESCRIPTION:Nagy Gábor is inviting you to a scheduled Zoom meeting. \nTopic: Szakmai hétindító\nTime: Mar 11\, 2025 09:00 Budapest\nJoin Zoom Meeting\nhttps://us02web.zoom.us/j/82915365401?pwd=cEr9a7RgVsavZdBg6kbNNiGJblgNsZ.1 \nMeeting ID: 829 1536 5401\nPasscode: 142504
URL:https://portfolife.hu/esemeny/szakmai-hetindito-marcius-11/
LOCATION:ONLINE\, Magyarország
CATEGORIES:Szakmai hétindítók
ATTACH;FMTTYPE=image/png:https://portfolife.hu/wp-content/uploads/2023/02/szakmaihetindito.png
ORGANIZER;CN="Nagy G%C3%A1bor - Portfolife Zrt":MAILTO:nagy.gabor@portfolife.hu
END:VEVENT
BEGIN:VEVENT
DTSTART;TZID=Europe/Paris:20250325T090000
DTEND;TZID=Europe/Paris:20250325T100000
DTSTAMP:20260425T045952
CREATED:20250107T091804Z
LAST-MODIFIED:20250107T091804Z
UID:44529-1742893200-1742896800@portfolife.hu
SUMMARY:Szakmai hétindító - Március 25.
DESCRIPTION:Nagy Gábor is inviting you to a scheduled Zoom meeting. \nTopic: Szakmai hétindító\nTime: Mar 25\, 2025 09:00 Budapest \nJoin Zoom Meeting\nhttps://us02web.zoom.us/j/89895781021?pwd=qjomR3y1w0kjulvsvaXVXBocvAxazU.1 \nMeeting ID: 898 9578 1021\nPasscode: 002775
URL:https://portfolife.hu/esemeny/szakmai-hetindito-marcius-25/
LOCATION:ONLINE\, Magyarország
CATEGORIES:Havi oktatások,Szakmai hétindítók
ATTACH;FMTTYPE=image/png:https://portfolife.hu/wp-content/uploads/2023/02/szakmaihetindito.png
ORGANIZER;CN="Nagy G%C3%A1bor - Portfolife Zrt":MAILTO:nagy.gabor@portfolife.hu
END:VEVENT
BEGIN:VEVENT
DTSTART;TZID=Europe/Paris:20250327T080000
DTEND;TZID=Europe/Paris:20250327T140000
DTSTAMP:20260425T045952
CREATED:20250107T092112Z
LAST-MODIFIED:20250321T153846Z
UID:44532-1743062400-1743084000@portfolife.hu
SUMMARY:Havi oktatás - Március 27.
DESCRIPTION:Kedves Kollégák! \nSzeretettel meghívunk titeket a PortfoLife Zrt. március havi oktatására. Vendégünk lesz Dr. Rosta István. A CONFIDO Bizalmi Vagyonkezelő Zrt. cégvezetőjeként és vezérigazgató-helyetteseként a társaság stratégiai vezetésében\, üzleti kapcsolatainak erősítésében vesz részt\, szakmai felügyelete alá tartozik a társaság vagyonkezelési területe és feladatai. \n\n08.30 – 09.30     Szakmai összefoglaló\n09.30 – 09.45     Szünet\n09.45 – 11.15       CONFIDO Bizalmi Vagyonkezelő Zrt. előadása\n11.15 – 11.30         Szünet\n11.30 – 12.15        Értékesítés és sales technikák a jelen piaci folyamatokhoz\n12.15 – 12.30       Szünet\n12.30 – 13.15       PortfoLife és Partner Bank aktualitások\n\n\n\n  \nMár online is csatlakozhatsz!\n\nhttps://us02web.zoom.us/j/87941644646?pwd=aqDPybU7ExuJXeuTrfMjAf6zk0Ecau.1\nMeeting ID: 879 4164 4646\nPasscode: 825389\n\n  \nMegközelítés: \nA  legegyszerűbb az M0-áson és Budakalász felé. Ha a városból jössz kifelé akkor a Szentendrei úton. \nA BSS Benzinkút előtt kell behajtani a szerviz útra\, majd a bal oldalon található 2. épület Lollipop nyomdánál található BNI irodát keresd. \nParkolási lehetőség a sorompón belül és kívül is díjmentes! 
URL:https://portfolife.hu/esemeny/havi-oktatas-marcius-27/
LOCATION:2011 Budakalász József Attila utca 75\, József Attila u. 75.\, Budakalász\, Pest\, 2011\, Magyarország
CATEGORIES:Havi oktatások
ATTACH;FMTTYPE=image/png:https://portfolife.hu/wp-content/uploads/2023/02/havioktatas.png
ORGANIZER;CN="Nagy G%C3%A1bor - Portfolife Zrt":MAILTO:nagy.gabor@portfolife.hu
END:VEVENT
END:VCALENDAR