BEGIN:VCALENDAR
VERSION:2.0
PRODID:-//Portfolife - ECPv6.15.14//NONSGML v1.0//EN
CALSCALE:GREGORIAN
METHOD:PUBLISH
X-ORIGINAL-URL:https://portfolife.hu
X-WR-CALDESC:Események Portfolife
REFRESH-INTERVAL;VALUE=DURATION:PT1H
X-Robots-Tag:noindex
X-PUBLISHED-TTL:PT1H
BEGIN:VTIMEZONE
TZID:Europe/Paris
BEGIN:DAYLIGHT
TZOFFSETFROM:+0100
TZOFFSETTO:+0200
TZNAME:CEST
DTSTART:20250330T010000
END:DAYLIGHT
BEGIN:STANDARD
TZOFFSETFROM:+0200
TZOFFSETTO:+0100
TZNAME:CET
DTSTART:20251026T010000
END:STANDARD
BEGIN:DAYLIGHT
TZOFFSETFROM:+0100
TZOFFSETTO:+0200
TZNAME:CEST
DTSTART:20260329T010000
END:DAYLIGHT
BEGIN:STANDARD
TZOFFSETFROM:+0200
TZOFFSETTO:+0100
TZNAME:CET
DTSTART:20261025T010000
END:STANDARD
BEGIN:DAYLIGHT
TZOFFSETFROM:+0100
TZOFFSETTO:+0200
TZNAME:CEST
DTSTART:20270328T010000
END:DAYLIGHT
BEGIN:STANDARD
TZOFFSETFROM:+0200
TZOFFSETTO:+0100
TZNAME:CET
DTSTART:20271031T010000
END:STANDARD
END:VTIMEZONE
BEGIN:VEVENT
DTSTART;TZID=Europe/Paris:20260504T140000
DTEND;TZID=Europe/Paris:20260504T160000
DTSTAMP:20260423T202607
CREATED:20260122T115827Z
LAST-MODIFIED:20260122T115827Z
UID:72286-1777903200-1777910400@portfolife.hu
SUMMARY:💼 Toborzó Nap a Portfolife-nál - Május 04.
DESCRIPTION:🗓 Toborzó nap részletei:\n📍 Helyszín:1062 Budapest\, Váci út 1–3.Westend Offices – B torony\, 3. emelet \nIdőpont: 14:00-16:00 \n👥 Részvétel: \n\n\nSzemélyesen erősen ajánlott\, hiszen így első kézből ismerkedhetsz meg a csapattal és a vállalati kultúrával. \n\n\nOnline csatlakozási lehetőség is biztosított azoknak\, akik távolabbról vennének részt. \nhttps://us02web.zoom.us/j/85210992822?pwd=rgD1cMfONKabB15CZawVWGKbwJ8Y3a.1 \nMeeting ID: 852 1099 2822\nPasscode: 484433\n\n📌 Megjegyzés:Ha egy meglévő PortfoLife munkatárs ajánlására kerültél kapcsolatba velünk\, számára is ajánlott a személyes jelenlét\, de nem kötelező.
URL:https://portfolife.hu/esemeny/%f0%9f%92%bc-toborzo-nap-a-portfolife-nal-majus-04/
LOCATION:1062 Budapest\, Váci út 1–3. Westend Offices – B torony\, 3. emelet
CATEGORIES:Toborzó Nap
ATTACH;FMTTYPE=image/png:https://portfolife.hu/wp-content/uploads/2025/03/2024-tervezes-trening-januar-10-masolata.png
ORGANIZER;CN="Nagy G%C3%A1bor - Portfolife Zrt":MAILTO:nagy.gabor@portfolife.hu
END:VEVENT
END:VCALENDAR