BEGIN:VCALENDAR
VERSION:2.0
PRODID:-//Portfolife - ECPv6.15.14//NONSGML v1.0//EN
CALSCALE:GREGORIAN
METHOD:PUBLISH
X-WR-CALNAME:Portfolife
X-ORIGINAL-URL:https://portfolife.hu
X-WR-CALDESC:Események Portfolife
REFRESH-INTERVAL;VALUE=DURATION:PT1H
X-Robots-Tag:noindex
X-PUBLISHED-TTL:PT1H
BEGIN:VTIMEZONE
TZID:Europe/Paris
BEGIN:DAYLIGHT
TZOFFSETFROM:+0100
TZOFFSETTO:+0200
TZNAME:CEST
DTSTART:20250330T010000
END:DAYLIGHT
BEGIN:STANDARD
TZOFFSETFROM:+0200
TZOFFSETTO:+0100
TZNAME:CET
DTSTART:20251026T010000
END:STANDARD
BEGIN:DAYLIGHT
TZOFFSETFROM:+0100
TZOFFSETTO:+0200
TZNAME:CEST
DTSTART:20260329T010000
END:DAYLIGHT
BEGIN:STANDARD
TZOFFSETFROM:+0200
TZOFFSETTO:+0100
TZNAME:CET
DTSTART:20261025T010000
END:STANDARD
BEGIN:DAYLIGHT
TZOFFSETFROM:+0100
TZOFFSETTO:+0200
TZNAME:CEST
DTSTART:20270328T010000
END:DAYLIGHT
BEGIN:STANDARD
TZOFFSETFROM:+0200
TZOFFSETTO:+0100
TZNAME:CET
DTSTART:20271031T010000
END:STANDARD
END:VTIMEZONE
BEGIN:VEVENT
DTSTART;TZID=Europe/Paris:20260421T090000
DTEND;TZID=Europe/Paris:20260421T100000
DTSTAMP:20260423T105648
CREATED:20260120T153001Z
LAST-MODIFIED:20260120T153001Z
UID:71883-1776762000-1776765600@portfolife.hu
SUMMARY:Szakmai hétindító - Április 21.
DESCRIPTION:Nagy Gábor is inviting you to a scheduled Zoom meeting. \nTopic: Szakmai hétindító\nTime: Apr 21\, 2026 09:00 Budapest\nJoin Zoom Meeting\nhttps://us02web.zoom.us/j/89016654798?pwd=ionbfSo8md5OjhMHKAStZ6rE7LMXUp.1 \nMeeting ID: 890 1665 4798\nPasscode: 284718
URL:https://portfolife.hu/esemeny/szakmai-hetindito-aprilis-21/
LOCATION:ONLINE\, Magyarország
CATEGORIES:Szakmai hétindítók
ATTACH;FMTTYPE=image/png:https://portfolife.hu/wp-content/uploads/2023/02/szakmaihetindito.png
ORGANIZER;CN="Nagy G%C3%A1bor - Portfolife Zrt":MAILTO:nagy.gabor@portfolife.hu
END:VEVENT
END:VCALENDAR