BEGIN:VCALENDAR
VERSION:2.0
PRODID:-//Portfolife - ECPv6.15.14//NONSGML v1.0//EN
CALSCALE:GREGORIAN
METHOD:PUBLISH
X-WR-CALNAME:Portfolife
X-ORIGINAL-URL:https://portfolife.hu
X-WR-CALDESC:Események Portfolife
REFRESH-INTERVAL;VALUE=DURATION:PT1H
X-Robots-Tag:noindex
X-PUBLISHED-TTL:PT1H
BEGIN:VTIMEZONE
TZID:Europe/Paris
BEGIN:DAYLIGHT
TZOFFSETFROM:+0100
TZOFFSETTO:+0200
TZNAME:CEST
DTSTART:20250330T010000
END:DAYLIGHT
BEGIN:STANDARD
TZOFFSETFROM:+0200
TZOFFSETTO:+0100
TZNAME:CET
DTSTART:20251026T010000
END:STANDARD
BEGIN:DAYLIGHT
TZOFFSETFROM:+0100
TZOFFSETTO:+0200
TZNAME:CEST
DTSTART:20260329T010000
END:DAYLIGHT
BEGIN:STANDARD
TZOFFSETFROM:+0200
TZOFFSETTO:+0100
TZNAME:CET
DTSTART:20261025T010000
END:STANDARD
BEGIN:DAYLIGHT
TZOFFSETFROM:+0100
TZOFFSETTO:+0200
TZNAME:CEST
DTSTART:20270328T010000
END:DAYLIGHT
BEGIN:STANDARD
TZOFFSETFROM:+0200
TZOFFSETTO:+0100
TZNAME:CET
DTSTART:20271031T010000
END:STANDARD
END:VTIMEZONE
BEGIN:VEVENT
DTSTART;TZID=Europe/Paris:20260309T080000
DTEND;TZID=Europe/Paris:20260309T100000
DTSTAMP:20260424T000307
CREATED:20260302T085019Z
LAST-MODIFIED:20260302T103048Z
UID:73195-1773043200-1773050400@portfolife.hu
SUMMARY:Sempelior Zrt. sales oktatás és vizsga
DESCRIPTION:Sempelior Zrt. sales oktatás és vizsga \n  \nIdőpont: 2026.március 9.\, 09:30 \nHelyszín: WestEnd Iroda \nAz oktatáson és vizsgán való részvétel minden jelentkezett kolléga számára a személyesen kötelező!
URL:https://portfolife.hu/esemeny/sempelior-zrt-sales-oktatas-es-vizsga/
LOCATION:1062 Budapest\, Váci út 1–3. Westend Offices – B torony\, 3. emelet
CATEGORIES:Oktatás
ATTACH;FMTTYPE=image/png:https://portfolife.hu/wp-content/uploads/2026/03/Szakmai-hetindito-2-scaled.png
ORGANIZER;CN="Nagy G%C3%A1bor - Portfolife Zrt":MAILTO:nagy.gabor@portfolife.hu
END:VEVENT
END:VCALENDAR