BEGIN:VCALENDAR
VERSION:2.0
PRODID:-//Portfolife - ECPv6.15.14//NONSGML v1.0//EN
CALSCALE:GREGORIAN
METHOD:PUBLISH
X-WR-CALNAME:Portfolife
X-ORIGINAL-URL:https://portfolife.hu
X-WR-CALDESC:Események Portfolife
REFRESH-INTERVAL;VALUE=DURATION:PT1H
X-Robots-Tag:noindex
X-PUBLISHED-TTL:PT1H
BEGIN:VTIMEZONE
TZID:Europe/Paris
BEGIN:DAYLIGHT
TZOFFSETFROM:+0100
TZOFFSETTO:+0200
TZNAME:CEST
DTSTART:20250330T010000
END:DAYLIGHT
BEGIN:STANDARD
TZOFFSETFROM:+0200
TZOFFSETTO:+0100
TZNAME:CET
DTSTART:20251026T010000
END:STANDARD
BEGIN:DAYLIGHT
TZOFFSETFROM:+0100
TZOFFSETTO:+0200
TZNAME:CEST
DTSTART:20260329T010000
END:DAYLIGHT
BEGIN:STANDARD
TZOFFSETFROM:+0200
TZOFFSETTO:+0100
TZNAME:CET
DTSTART:20261025T010000
END:STANDARD
BEGIN:DAYLIGHT
TZOFFSETFROM:+0100
TZOFFSETTO:+0200
TZNAME:CEST
DTSTART:20270328T010000
END:DAYLIGHT
BEGIN:STANDARD
TZOFFSETFROM:+0200
TZOFFSETTO:+0100
TZNAME:CET
DTSTART:20271031T010000
END:STANDARD
END:VTIMEZONE
BEGIN:VEVENT
DTSTART;TZID=Europe/Paris:20260226T083000
DTEND;TZID=Europe/Paris:20260226T140000
DTSTAMP:20260423T215021
CREATED:20260121T143721Z
LAST-MODIFIED:20260225T151433Z
UID:72135-1772094600-1772114400@portfolife.hu
SUMMARY:PortfoLife Évnyitó - Február 26.
DESCRIPTION:Kedves Kolléga!\nSzeretettel meghívunk a PortfoLife Zrt. Évnyitó eseményére!\n  \nProgram: \n2026 berúgta az ajtót – hogy profitál ebből a PortfoLife? \n\nRendszer finomítások\nInnovációk\nÓriás projektek\nAktivitás\n\nAz Évnyitón ismertetjük a 2025-ös incentive verseny eredményeit is. \n  \n08:30 – Érkezés\, welcome falatok\, kötetlen networking \n09:00-09:45 – Nagy Gábor – Semmi sem változik\, viszont minden \nSzünet \n10:00-10:45 – Molnár Judit – Eljön az a pont\, hogy be kell rúgni az ajtót \nSzünet \n11:00-11:45 – Lányi András – Tartsd a lépést digitálisan\, mert kockázatos \nSzünet \n12:00-13:30 – 2025 év összefoglalója és eredmények \n  \nIdőpont: 2026.02.26.\,  08:00-13:30 \nHelyszín: Budakeszi Vadászház \n2092\, Budakeszi\, Telki út Hrsz 0178/7 \n  \nMegközelítés: \n\nBudapestről a Széll Kálmán tér felől a Szilágyi Erzsébet fasor – Budakeszi út útvonal vezet ki a városból Budakeszire\, ahol a Fő úról jobbra\, a Temető út vezet ki a Pisili Parkerdő felé. Innen kb. 3\,5 km\, és öt perc autóval a Vadászház\, amihez bal kéz felé kell lekanyarodni a Pilisi Parkerdő Zrt. Budakeszi Erdészet behajtójánál\, ahol egy sorompó lesz látható.\nBudaörs irányából az 1-es főútról jobbra kell lemenni a Gyár úton Budakeszire\, ahol jobbra a Fő útra kell kanyarodni\, majd balra a Temető útra a Pilisi Parkerdő felé. Innen kb. 3\,5 km\, és öt perc autóval a Vadászház\, amihez bal kéz felé kell lekanyarodni a Pilisi Parkerdő Zrt. Budakeszi Erdészet behajtójánál\, ahol egy sorompó lesz látható.\nAz M1-es autópályáról Pátynál lehajtva jobbra a Szent József útra kell kanyarodni\, majd tovább haladni egyenesen a Kerekdombi úton a körforgalomig\, ahol a harmadik kijáraton kell tovább menni\, majd az újabb körforgalomnál a második kijáraton. Ezután jobbra a Rákóczi utcán\, a Prímánál balra a Telki úton\, és a Parkerdő területén jobbra a Fő utcán. Innen 4 km\, és kb. 4 perc autóval a a Vadászház\, amihez jobb kéz felé kell lekanyarodni a Pilisi Parkerdő Zrt. Budakeszi Erdészet behajtójánál\, ahol egy sorompó lesz látható.
URL:https://portfolife.hu/esemeny/portfolife-evnyito-februar-26/
LOCATION:Budakeszi Vadászház – 2092\, Budakeszi\, Telki út Hrsz 0178/7\, Telki út Hrsz 0178/7\, Budakeszi\, 2092\, Hungary
CATEGORIES:Havi oktatások
ATTACH;FMTTYPE=image/png:https://portfolife.hu/wp-content/uploads/2026/01/Szakmai-hetindito.png
ORGANIZER;CN="Nagy G%C3%A1bor - Portfolife Zrt":MAILTO:nagy.gabor@portfolife.hu
END:VEVENT
END:VCALENDAR