BEGIN:VCALENDAR
VERSION:2.0
PRODID:-//Portfolife - ECPv6.15.14//NONSGML v1.0//EN
CALSCALE:GREGORIAN
METHOD:PUBLISH
X-WR-CALNAME:Portfolife
X-ORIGINAL-URL:https://portfolife.hu
X-WR-CALDESC:Események Portfolife
REFRESH-INTERVAL;VALUE=DURATION:PT1H
X-Robots-Tag:noindex
X-PUBLISHED-TTL:PT1H
BEGIN:VTIMEZONE
TZID:Europe/Paris
BEGIN:DAYLIGHT
TZOFFSETFROM:+0100
TZOFFSETTO:+0200
TZNAME:CEST
DTSTART:20250330T010000
END:DAYLIGHT
BEGIN:STANDARD
TZOFFSETFROM:+0200
TZOFFSETTO:+0100
TZNAME:CET
DTSTART:20251026T010000
END:STANDARD
BEGIN:DAYLIGHT
TZOFFSETFROM:+0100
TZOFFSETTO:+0200
TZNAME:CEST
DTSTART:20260329T010000
END:DAYLIGHT
BEGIN:STANDARD
TZOFFSETFROM:+0200
TZOFFSETTO:+0100
TZNAME:CET
DTSTART:20261025T010000
END:STANDARD
BEGIN:DAYLIGHT
TZOFFSETFROM:+0100
TZOFFSETTO:+0200
TZNAME:CEST
DTSTART:20270328T010000
END:DAYLIGHT
BEGIN:STANDARD
TZOFFSETFROM:+0200
TZOFFSETTO:+0100
TZNAME:CET
DTSTART:20271031T010000
END:STANDARD
END:VTIMEZONE
BEGIN:VEVENT
DTSTART;TZID=Europe/Paris:20260129T083000
DTEND;TZID=Europe/Paris:20260129T130000
DTSTAMP:20260424T001127
CREATED:20260108T090013Z
LAST-MODIFIED:20260129T065550Z
UID:71239-1769675400-1769691600@portfolife.hu
SUMMARY:Havi oktatás - Január 29. - ONLINE
DESCRIPTION:Kedves Kollégák\,\n\nvárunk mindenkit szeretettel január 29-én 8:30-kor az ONLINE havi oktatásra!\n\nMenetrend:\n\n1. Nagy Gábor – 8:30-9:15\nSzünet – 9:15-9:30\n2. Kiss Csaba – 9:30-11:00\nSzünet – 11:00-11:15\n3. Szücsy Dániel – 11:15 – 12:00\nSzünet – 12:00-12:15\n4. Ilyés Fanni – 12:15-13:00\nKérdések – 13:00-13:30\n\nCsatlakozás:\nhttps://us02web.zoom.us/j/81231262938?pwd=EHDwuyzGbWn70X13BIhbM1pqbwFdFm.1 \nMeeting ID: 812 3126 2938\nPasscode: 466427 \nA havi oktatás most teljesen ONLINE lesz!
URL:https://portfolife.hu/esemeny/havi-oktatas-januar-29-online/
LOCATION:ONLINE\, Magyarország
CATEGORIES:Havi oktatások
ATTACH;FMTTYPE=image/png:https://portfolife.hu/wp-content/uploads/2023/02/havioktatas.png
ORGANIZER;CN="Nagy G%C3%A1bor - Portfolife Zrt":MAILTO:nagy.gabor@portfolife.hu
END:VEVENT
END:VCALENDAR