BEGIN:VCALENDAR
VERSION:2.0
PRODID:-//Portfolife - ECPv6.15.14//NONSGML v1.0//EN
CALSCALE:GREGORIAN
METHOD:PUBLISH
X-ORIGINAL-URL:https://portfolife.hu
X-WR-CALDESC:Események Portfolife
REFRESH-INTERVAL;VALUE=DURATION:PT1H
X-Robots-Tag:noindex
X-PUBLISHED-TTL:PT1H
BEGIN:VTIMEZONE
TZID:Europe/Paris
BEGIN:DAYLIGHT
TZOFFSETFROM:+0100
TZOFFSETTO:+0200
TZNAME:CEST
DTSTART:20250330T010000
END:DAYLIGHT
BEGIN:STANDARD
TZOFFSETFROM:+0200
TZOFFSETTO:+0100
TZNAME:CET
DTSTART:20251026T010000
END:STANDARD
BEGIN:DAYLIGHT
TZOFFSETFROM:+0100
TZOFFSETTO:+0200
TZNAME:CEST
DTSTART:20260329T010000
END:DAYLIGHT
BEGIN:STANDARD
TZOFFSETFROM:+0200
TZOFFSETTO:+0100
TZNAME:CET
DTSTART:20261025T010000
END:STANDARD
BEGIN:DAYLIGHT
TZOFFSETFROM:+0100
TZOFFSETTO:+0200
TZNAME:CEST
DTSTART:20270328T010000
END:DAYLIGHT
BEGIN:STANDARD
TZOFFSETFROM:+0200
TZOFFSETTO:+0100
TZNAME:CET
DTSTART:20271031T010000
END:STANDARD
END:VTIMEZONE
BEGIN:VEVENT
DTSTART;TZID=Europe/Paris:20260112T100000
DTEND;TZID=Europe/Paris:20260112T140000
DTSTAMP:20260424T012412
CREATED:20251223T122507Z
LAST-MODIFIED:20260109T150745Z
UID:70769-1768212000-1768226400@portfolife.hu
SUMMARY:PortfoLife 2026-os irányvonal kijelölés - 2026.01.12
DESCRIPTION:Meghívás – 2026. január 12.\n  \nEzúton meghívunk egy zártkörű\, iránykijelölő eseményre\, amelyen letesszük a 2026-os év szakmai és üzleti alapköveit. \n  \n📅 Időpont: 2026. január 12. 10:00-14:00\, Westend:))))\n📍 Cél: A PortfoLife 2026-os irányvonalainak kijelölése \n  \nEz az alkalom nem mindenkinek szól!!! \nAzokat a kollégákat várjuk\, akiknek van belépőjük: \n\n\nakik stabil biztosítási állománnyal rendelkeznek\, \n\n\nelégedetlenek azzal a környezettel (biztosítási alkusz\, többes ügynök cégek)\, ahol jelenleg az ügyfeleik vannak\, \n\n\nfelelősséget éreznek az ügyfeleik jövőjéért\, \n\n\nés készen állnak arra\, hogy erre a biztos alapra építve jelentős ügyfélállomány-növekedést érjenek el. \n\n\nA 2026-os évben nem mennyiségi\, hanem minőségi növekedésben gondolkodunk.\nOlyan rendszerben\, amely több és jobb ügyfelet ad azoknak\, akik már bizonyították\, hogy élni tudnak ezzel a lehetőséggel. \n  \n\n\n\n  \nHa Te is azok közé tartozol\,\n– akik nem váltani szeretnének\, hanem építkezni\,\n– akik nem újrakezdeni akarnak\, hanem szintet lépni\,\nakkor ott a helyed január 12-én! \nA részletekkel hamarosan jelentkezünk. \nKöszönjük a 2025-ös évet –\na 2026-os még nagyobb lesz. \nÜdvözlettel\, \nPortfoLife Zrt.
URL:https://portfolife.hu/esemeny/portfolife-2026-os-iranyvonal-kijeloles-2026-01-12/
LOCATION:1062 Budapest\, Váci út 1–3. Westend Offices – B torony\, 3. emelet
CATEGORIES:Évindító
ATTACH;FMTTYPE=image/png:https://portfolife.hu/wp-content/uploads/2025/12/Szakmai-hetindito.png
ORGANIZER;CN="Nagy G%C3%A1bor - Portfolife Zrt":MAILTO:nagy.gabor@portfolife.hu
END:VEVENT
END:VCALENDAR