BEGIN:VCALENDAR
VERSION:2.0
PRODID:-//Portfolife - ECPv6.15.14//NONSGML v1.0//EN
CALSCALE:GREGORIAN
METHOD:PUBLISH
X-WR-CALNAME:Portfolife
X-ORIGINAL-URL:https://portfolife.hu
X-WR-CALDESC:Események Portfolife
REFRESH-INTERVAL;VALUE=DURATION:PT1H
X-Robots-Tag:noindex
X-PUBLISHED-TTL:PT1H
BEGIN:VTIMEZONE
TZID:Europe/Paris
BEGIN:DAYLIGHT
TZOFFSETFROM:+0100
TZOFFSETTO:+0200
TZNAME:CEST
DTSTART:20240331T010000
END:DAYLIGHT
BEGIN:STANDARD
TZOFFSETFROM:+0200
TZOFFSETTO:+0100
TZNAME:CET
DTSTART:20241027T010000
END:STANDARD
BEGIN:DAYLIGHT
TZOFFSETFROM:+0100
TZOFFSETTO:+0200
TZNAME:CEST
DTSTART:20250330T010000
END:DAYLIGHT
BEGIN:STANDARD
TZOFFSETFROM:+0200
TZOFFSETTO:+0100
TZNAME:CET
DTSTART:20251026T010000
END:STANDARD
BEGIN:DAYLIGHT
TZOFFSETFROM:+0100
TZOFFSETTO:+0200
TZNAME:CEST
DTSTART:20260329T010000
END:DAYLIGHT
BEGIN:STANDARD
TZOFFSETFROM:+0200
TZOFFSETTO:+0100
TZNAME:CET
DTSTART:20261025T010000
END:STANDARD
END:VTIMEZONE
BEGIN:VEVENT
DTSTART;TZID=Europe/Paris:20251120T090000
DTEND;TZID=Europe/Paris:20251120T103000
DTSTAMP:20260424T045042
CREATED:20250806T132648Z
LAST-MODIFIED:20250806T132648Z
UID:58087-1763629200-1763634600@portfolife.hu
SUMMARY:Elemzői oktatás - November 20.
DESCRIPTION:Kedves Kollégák! \nszeretettel meghívunk titeket a harmadik Elemzői oktatásra\, amelyen Kiss Csaba az elemzési alapismereteket mutatja be nektek. Célunk\, hogy magabiztosságot biztosítsunk nektek a befektetések kezeléséhez és értelmezéséhez. A megszerzett tudást könnyen hasznosíthatjátok a WCP látogatások során. \n➡️ Trend elemzés\, Elliott hullám\, P/E mutató\, Fundamentalis számok \nNagy Gábor is inviting you to a scheduled Zoom meeting. \nTopic: Elemzői oktatás\nTime: Nov 20\, 2025 09:00 Budapest\nJoin Zoom Meeting\nhttps://us02web.zoom.us/j/84667740276?pwd=ufxlYb7Acwbt0YQoNXJBMHShmG5CTY.1 \nMeeting ID: 846 6774 0276\nPasscode: 295870
URL:https://portfolife.hu/esemeny/elemzoi-oktatas-november-20/
LOCATION:ONLINE\, Magyarország
CATEGORIES:Elemzői oktatás
ATTACH;FMTTYPE=image/png:https://portfolife.hu/wp-content/uploads/2025/05/Elemzoi-oktatas.png
ORGANIZER;CN="Nagy G%C3%A1bor - Portfolife Zrt":MAILTO:nagy.gabor@portfolife.hu
END:VEVENT
END:VCALENDAR