BEGIN:VCALENDAR
VERSION:2.0
PRODID:-//Portfolife - ECPv6.15.14//NONSGML v1.0//EN
CALSCALE:GREGORIAN
METHOD:PUBLISH
X-WR-CALNAME:Portfolife
X-ORIGINAL-URL:https://portfolife.hu
X-WR-CALDESC:Események Portfolife
REFRESH-INTERVAL;VALUE=DURATION:PT1H
X-Robots-Tag:noindex
X-PUBLISHED-TTL:PT1H
BEGIN:VTIMEZONE
TZID:Europe/Paris
BEGIN:DAYLIGHT
TZOFFSETFROM:+0100
TZOFFSETTO:+0200
TZNAME:CEST
DTSTART:20240331T010000
END:DAYLIGHT
BEGIN:STANDARD
TZOFFSETFROM:+0200
TZOFFSETTO:+0100
TZNAME:CET
DTSTART:20241027T010000
END:STANDARD
BEGIN:DAYLIGHT
TZOFFSETFROM:+0100
TZOFFSETTO:+0200
TZNAME:CEST
DTSTART:20250330T010000
END:DAYLIGHT
BEGIN:STANDARD
TZOFFSETFROM:+0200
TZOFFSETTO:+0100
TZNAME:CET
DTSTART:20251026T010000
END:STANDARD
BEGIN:DAYLIGHT
TZOFFSETFROM:+0100
TZOFFSETTO:+0200
TZNAME:CEST
DTSTART:20260329T010000
END:DAYLIGHT
BEGIN:STANDARD
TZOFFSETFROM:+0200
TZOFFSETTO:+0100
TZNAME:CET
DTSTART:20261025T010000
END:STANDARD
END:VTIMEZONE
BEGIN:VEVENT
DTSTART;TZID=Europe/Paris:20250918T090000
DTEND;TZID=Europe/Paris:20250918T103000
DTSTAMP:20260424T082908
CREATED:20250806T121859Z
LAST-MODIFIED:20250806T121859Z
UID:58034-1758186000-1758191400@portfolife.hu
SUMMARY:Elemzői oktatás - Szeptember 18.
DESCRIPTION:Kedves Kollégák! \nszeretettel meghívunk titeket a második Elemzői oktatásra\, amelyen Kiss Csaba az elemzési alapismereteket mutatja be nektek. Célunk\, hogy magabiztosságot biztosítsunk nektek a befektetések kezeléséhez és értelmezéséhez. A megszerzett tudást könnyen hasznosíthatjátok a WCP látogatások során. \n➡️ Trend elemzés\, Elliott hullám\, P/E mutató\, Fundamentalis számok \nTopic: Elemzői oktatás\nTime: Sep 18\, 2025 09:00 Budapest\nJoin Zoom Meeting\nhttps://us02web.zoom.us/j/89058281661?pwd=SdErBpIjZVgSL0nRN5qlZmizpNSv8z.1 \nMeeting ID: 890 5828 1661\nPasscode: 237438
URL:https://portfolife.hu/esemeny/elemzoi-oktatas-szeptember-18/
LOCATION:ONLINE\, Magyarország
CATEGORIES:Elemzői oktatás
ATTACH;FMTTYPE=image/png:https://portfolife.hu/wp-content/uploads/2025/05/Elemzoi-oktatas.png
ORGANIZER;CN="Nagy G%C3%A1bor - Portfolife Zrt":MAILTO:nagy.gabor@portfolife.hu
END:VEVENT
END:VCALENDAR