BEGIN:VCALENDAR
VERSION:2.0
PRODID:-//Portfolife - ECPv6.15.14//NONSGML v1.0//EN
CALSCALE:GREGORIAN
METHOD:PUBLISH
X-ORIGINAL-URL:https://portfolife.hu
X-WR-CALDESC:Események Portfolife
REFRESH-INTERVAL;VALUE=DURATION:PT1H
X-Robots-Tag:noindex
X-PUBLISHED-TTL:PT1H
BEGIN:VTIMEZONE
TZID:Europe/Paris
BEGIN:DAYLIGHT
TZOFFSETFROM:+0100
TZOFFSETTO:+0200
TZNAME:CEST
DTSTART:20240331T010000
END:DAYLIGHT
BEGIN:STANDARD
TZOFFSETFROM:+0200
TZOFFSETTO:+0100
TZNAME:CET
DTSTART:20241027T010000
END:STANDARD
BEGIN:DAYLIGHT
TZOFFSETFROM:+0100
TZOFFSETTO:+0200
TZNAME:CEST
DTSTART:20250330T010000
END:DAYLIGHT
BEGIN:STANDARD
TZOFFSETFROM:+0200
TZOFFSETTO:+0100
TZNAME:CET
DTSTART:20251026T010000
END:STANDARD
BEGIN:DAYLIGHT
TZOFFSETFROM:+0100
TZOFFSETTO:+0200
TZNAME:CEST
DTSTART:20260329T010000
END:DAYLIGHT
BEGIN:STANDARD
TZOFFSETFROM:+0200
TZOFFSETTO:+0100
TZNAME:CET
DTSTART:20261025T010000
END:STANDARD
END:VTIMEZONE
BEGIN:VEVENT
DTSTART;TZID=Europe/Paris:20250910T150000
DTEND;TZID=Europe/Paris:20250910T163000
DTSTAMP:20260424T082503
CREATED:20250806T121503Z
LAST-MODIFIED:20250806T121503Z
UID:58030-1757516400-1757521800@portfolife.hu
SUMMARY:Hétindító kibeszélő - Szeptember 10.
DESCRIPTION:Nagy Gábor is inviting you to a scheduled Zoom meeting. \nTopic: Hétindító kibeszélő\nTime: Sep 10\, 2025 15:00 Budapest\nJoin Zoom Meeting\nhttps://us02web.zoom.us/j/86096790087?pwd=zfqj6pHTzZEf8qRGlm5B7NPQcL1tJs.1 \nMeeting ID: 860 9679 0087\nPasscode: 701486
URL:https://portfolife.hu/esemeny/hetindito-kibeszelo-szeptember-10/
LOCATION:ONLINE\, Magyarország
CATEGORIES:Hétindító kibeszélő
ATTACH;FMTTYPE=image/png:https://portfolife.hu/wp-content/uploads/2025/04/2024-tervezes-trening-januar-10-masolata-masolata-3.png
ORGANIZER;CN="Nagy G%C3%A1bor - Portfolife Zrt":MAILTO:nagy.gabor@portfolife.hu
END:VEVENT
END:VCALENDAR