BEGIN:VCALENDAR
VERSION:2.0
PRODID:-//Portfolife - ECPv6.15.14//NONSGML v1.0//EN
CALSCALE:GREGORIAN
METHOD:PUBLISH
X-WR-CALNAME:Portfolife
X-ORIGINAL-URL:https://portfolife.hu
X-WR-CALDESC:Események Portfolife
REFRESH-INTERVAL;VALUE=DURATION:PT1H
X-Robots-Tag:noindex
X-PUBLISHED-TTL:PT1H
BEGIN:VTIMEZONE
TZID:Europe/Paris
BEGIN:DAYLIGHT
TZOFFSETFROM:+0100
TZOFFSETTO:+0200
TZNAME:CEST
DTSTART:20240331T010000
END:DAYLIGHT
BEGIN:STANDARD
TZOFFSETFROM:+0200
TZOFFSETTO:+0100
TZNAME:CET
DTSTART:20241027T010000
END:STANDARD
BEGIN:DAYLIGHT
TZOFFSETFROM:+0100
TZOFFSETTO:+0200
TZNAME:CEST
DTSTART:20250330T010000
END:DAYLIGHT
BEGIN:STANDARD
TZOFFSETFROM:+0200
TZOFFSETTO:+0100
TZNAME:CET
DTSTART:20251026T010000
END:STANDARD
BEGIN:DAYLIGHT
TZOFFSETFROM:+0100
TZOFFSETTO:+0200
TZNAME:CEST
DTSTART:20260329T010000
END:DAYLIGHT
BEGIN:STANDARD
TZOFFSETFROM:+0200
TZOFFSETTO:+0100
TZNAME:CET
DTSTART:20261025T010000
END:STANDARD
END:VTIMEZONE
BEGIN:VEVENT
DTSTART;TZID=Europe/Paris:20250828T163000
DTEND;TZID=Europe/Paris:20250828T180000
DTSTAMP:20260424T093315
CREATED:20250728T081306Z
LAST-MODIFIED:20250828T141235Z
UID:57037-1756398600-1756404000@portfolife.hu
SUMMARY:Ügyfél Webinárium- Augusztus 28.
DESCRIPTION:Kedves Ügyfelünk! \nSzeretettel meghívjuk Önt a Wealth Care Plus szolgáltatás keretében megrendezett következő online eseményünkre\, ahol átfogó képet adunk a jelenlegi piaci folyamatokról és befektetési trendekről. \nElőadásunk fő témája a világgazdaság kilábalása\, ami nem hirtelen minden szektorra kiterjedő “boom”\, hanem gördülő fellendülés formájában zajlik. \nSzeretettel várjuk! \nAz előadáshoz való csatlakozáshoz kérjük kattintson IDE! \nMeeting ID: 857 0817 5987\nPasscode: 105191
URL:https://portfolife.hu/esemeny/ugyfel-workshop-augusztus-28/
LOCATION:ONLINE\, Magyarország
CATEGORIES:Tájékoztató/Előadás
ATTACH;FMTTYPE=image/png:https://portfolife.hu/wp-content/uploads/2025/07/ugyfel-webinarium.png
ORGANIZER;CN="Nagy G%C3%A1bor - Portfolife Zrt":MAILTO:nagy.gabor@portfolife.hu
END:VEVENT
END:VCALENDAR