BEGIN:VCALENDAR
VERSION:2.0
PRODID:-//Portfolife - ECPv6.15.14//NONSGML v1.0//EN
CALSCALE:GREGORIAN
METHOD:PUBLISH
X-WR-CALNAME:Portfolife
X-ORIGINAL-URL:https://portfolife.hu
X-WR-CALDESC:Események Portfolife
REFRESH-INTERVAL;VALUE=DURATION:PT1H
X-Robots-Tag:noindex
X-PUBLISHED-TTL:PT1H
BEGIN:VTIMEZONE
TZID:Europe/Paris
BEGIN:DAYLIGHT
TZOFFSETFROM:+0100
TZOFFSETTO:+0200
TZNAME:CEST
DTSTART:20240331T010000
END:DAYLIGHT
BEGIN:STANDARD
TZOFFSETFROM:+0200
TZOFFSETTO:+0100
TZNAME:CET
DTSTART:20241027T010000
END:STANDARD
BEGIN:DAYLIGHT
TZOFFSETFROM:+0100
TZOFFSETTO:+0200
TZNAME:CEST
DTSTART:20250330T010000
END:DAYLIGHT
BEGIN:STANDARD
TZOFFSETFROM:+0200
TZOFFSETTO:+0100
TZNAME:CET
DTSTART:20251026T010000
END:STANDARD
BEGIN:DAYLIGHT
TZOFFSETFROM:+0100
TZOFFSETTO:+0200
TZNAME:CEST
DTSTART:20260329T010000
END:DAYLIGHT
BEGIN:STANDARD
TZOFFSETFROM:+0200
TZOFFSETTO:+0100
TZNAME:CET
DTSTART:20261025T010000
END:STANDARD
END:VTIMEZONE
BEGIN:VEVENT
DTSTART;TZID=Europe/Paris:20250626T080000
DTEND;TZID=Europe/Paris:20250626T140000
DTSTAMP:20260424T163002
CREATED:20250107T095315Z
LAST-MODIFIED:20250626T061522Z
UID:44559-1750924800-1750946400@portfolife.hu
SUMMARY:Havi oktatás - Június 26.
DESCRIPTION:Megközelítés: \nNagy Gábor is inviting you to a scheduled Zoom meeting. \nTopic: Havi oktatás\nTime: Jun 26\, 2025 09:00 Budapest\nJoin Zoom Meeting\nhttps://us02web.zoom.us/j/84362773247?pwd=LaljraR8WBaT6QeceZnxHTwJIbG0ag.1 \nMeeting ID: 843 6277 3247\nPasscode: 646696 \nA  legegyszerűbb az M0-áson és Budakalász felé. Ha a városból jössz kifelé akkor a Szentendrei úton. \nA BSS Benzinkút előtt kell behajtani a szerviz útra\, majd a bal oldalon található 2. épület Lollipop nyomdánál található BNI irodát keresd. \nParkolási lehetőség a sorompón belül és kívül is díjmentes! 
URL:https://portfolife.hu/esemeny/havi-oktatas-junius-26/
LOCATION:2011 Budakalász József Attila utca 75\, József Attila u. 75.\, Budakalász\, Pest\, 2011\, Magyarország
CATEGORIES:Havi oktatások
ATTACH;FMTTYPE=image/png:https://portfolife.hu/wp-content/uploads/2023/02/havioktatas.png
ORGANIZER;CN="Nagy G%C3%A1bor - Portfolife Zrt":MAILTO:nagy.gabor@portfolife.hu
END:VEVENT
END:VCALENDAR