BEGIN:VCALENDAR
VERSION:2.0
PRODID:-//Portfolife - ECPv6.15.14//NONSGML v1.0//EN
CALSCALE:GREGORIAN
METHOD:PUBLISH
X-WR-CALNAME:Portfolife
X-ORIGINAL-URL:https://portfolife.hu
X-WR-CALDESC:Események Portfolife
REFRESH-INTERVAL;VALUE=DURATION:PT1H
X-Robots-Tag:noindex
X-PUBLISHED-TTL:PT1H
BEGIN:VTIMEZONE
TZID:Europe/Paris
BEGIN:DAYLIGHT
TZOFFSETFROM:+0100
TZOFFSETTO:+0200
TZNAME:CEST
DTSTART:20240331T010000
END:DAYLIGHT
BEGIN:STANDARD
TZOFFSETFROM:+0200
TZOFFSETTO:+0100
TZNAME:CET
DTSTART:20241027T010000
END:STANDARD
BEGIN:DAYLIGHT
TZOFFSETFROM:+0100
TZOFFSETTO:+0200
TZNAME:CEST
DTSTART:20250330T010000
END:DAYLIGHT
BEGIN:STANDARD
TZOFFSETFROM:+0200
TZOFFSETTO:+0100
TZNAME:CET
DTSTART:20251026T010000
END:STANDARD
BEGIN:DAYLIGHT
TZOFFSETFROM:+0100
TZOFFSETTO:+0200
TZNAME:CEST
DTSTART:20260329T010000
END:DAYLIGHT
BEGIN:STANDARD
TZOFFSETFROM:+0200
TZOFFSETTO:+0100
TZNAME:CET
DTSTART:20261025T010000
END:STANDARD
END:VTIMEZONE
BEGIN:VEVENT
DTSTART;TZID=Europe/Paris:20250424T080000
DTEND;TZID=Europe/Paris:20250424T140000
DTSTAMP:20260425T153317
CREATED:20250107T093043Z
LAST-MODIFIED:20250423T205457Z
UID:44541-1745481600-1745503200@portfolife.hu
SUMMARY:Havi oktatás - Április 24.
DESCRIPTION:Kedves Kollégák! \nSzeretettel meghívunk titeket a PortfoLife Zrt. április havi oktatására. Vendégünk lesz Országh Örs\, aki meghatározó alakja a magyarországi mobilfizetés elterjedésének. Jelenleg az InterTicket\, a legnagyobb magyar jegyértékesítő cég innovációs tevékenységéért felel. Emellett\, a Blockchain Competence Center ügyvezető helyetteseként foglalkozik a blockchain magyarországi felhasználásának lehetőségeivel és azok kiaknázásával\, smart city\, állam- és közigazgatási valamint nagy válallati projektekre fókuszálva \nProgram: \n\n08.30 – 10.00  Országh Örs – Blockchain\n10.00 – 10.15    Szünet\n10.15 – 11.30     Szakmai összefoglaló\n11.30 – 11.45     Szünet\n11.45 – 12.30    PortfoLife és Partner Bank aktualitások   \n\n  \nJoin Zoom Meeting\nhttps://us02web.zoom.us/j/89690882655?pwd=00p29MVoI3NPFZCbaEvHHvsB8Oe0Fb.1 \nMeeting ID: 896 9088 2655\nPasscode: 220439 \nMegközelítés: \nA  legegyszerűbb az M0-áson és Budakalász felé. Ha a városból jössz kifelé akkor a Szentendrei úton. \nA BSS Benzinkút előtt kell behajtani a szerviz útra\, majd a bal oldalon található 2. épület Lollipop nyomdánál található BNI irodát keresd. \nParkolási lehetőség a sorompón belül és kívül is díjmentes! 
URL:https://portfolife.hu/esemeny/havi-oktatas-aprilis-24/
LOCATION:2011 Budakalász József Attila utca 75\, József Attila u. 75.\, Budakalász\, Pest\, 2011\, Magyarország
CATEGORIES:Havi oktatások
ATTACH;FMTTYPE=image/png:https://portfolife.hu/wp-content/uploads/2023/02/havioktatas.png
ORGANIZER;CN="Nagy G%C3%A1bor - Portfolife Zrt":MAILTO:nagy.gabor@portfolife.hu
END:VEVENT
END:VCALENDAR